BEGIN:VCALENDAR
VERSION:2.0
PRODID:-//Network.Vegas - ECPv6.15.20//NONSGML v1.0//EN
CALSCALE:GREGORIAN
METHOD:PUBLISH
X-ORIGINAL-URL:https://network.vegas
X-WR-CALDESC:Events for Network.Vegas
REFRESH-INTERVAL;VALUE=DURATION:PT1H
X-Robots-Tag:noindex
X-PUBLISHED-TTL:PT1H
BEGIN:VTIMEZONE
TZID:America/Los_Angeles
BEGIN:DAYLIGHT
TZOFFSETFROM:-0800
TZOFFSETTO:-0700
TZNAME:PDT
DTSTART:20240310T100000
END:DAYLIGHT
BEGIN:STANDARD
TZOFFSETFROM:-0700
TZOFFSETTO:-0800
TZNAME:PST
DTSTART:20241103T090000
END:STANDARD
BEGIN:DAYLIGHT
TZOFFSETFROM:-0800
TZOFFSETTO:-0700
TZNAME:PDT
DTSTART:20250309T100000
END:DAYLIGHT
BEGIN:STANDARD
TZOFFSETFROM:-0700
TZOFFSETTO:-0800
TZNAME:PST
DTSTART:20251102T090000
END:STANDARD
BEGIN:DAYLIGHT
TZOFFSETFROM:-0800
TZOFFSETTO:-0700
TZNAME:PDT
DTSTART:20260308T100000
END:DAYLIGHT
BEGIN:STANDARD
TZOFFSETFROM:-0700
TZOFFSETTO:-0800
TZNAME:PST
DTSTART:20261101T090000
END:STANDARD
END:VTIMEZONE
BEGIN:VEVENT
DTSTART;TZID=America/Los_Angeles:20251118T150000
DTEND;TZID=America/Los_Angeles:20251118T170000
DTSTAMP:20260422T000352
CREATED:20251111T133419Z
LAST-MODIFIED:20251111T133419Z
UID:50367-1763478000-1763485200@network.vegas
SUMMARY:Two Great Speakers & Social Business Mixer
DESCRIPTION:Come out listen\, network\, and share your story with business professionals and those in the wellness indutry.\n\n\nOur Social Blend Mental Health Series will continue on November 18th at Waterside Marina in Downtown Norfolk. This event will feature two inspirational community leaders. \nAngel Onons is the Manager at Hyatt Hotel in Virginia Beach and the Owner of Sweet Sensations. Sweet Sensations offers a variety of craft kitchen dishes\, ranging from small to large African home-cooked meals\, along with intricate baked designs. They are dedicated to serving the community with heart and delivering exceptional food. \nTanika Houston is a Certified Group Grief Facilitator\, Brain Gym Instructor\, Wellness Educator\, and Reiki Practitioner. Tanika graduated from the Institute of Medical Sciences at Banaras Hindu University in India. \nJoin us as they share their life journeys. If you would like to attend\, please RSVP to christophergwill@gmail.com.
URL:https://network.vegas/calendar/two-great-speakers-social-business-mixer/
LOCATION:Waterside Marina\, 333 Waterside Drive\, Norfolk\, VA\, 23510\, United States
CATEGORIES:Chamber
ATTACH;FMTTYPE=image/jpeg:https://network.vegas/wp-content/uploads/2025/11/13885e3189d83d7ab6508684deabd431.jpg
END:VEVENT
BEGIN:VEVENT
DTSTART;TZID=America/Los_Angeles:20251118T150000
DTEND;TZID=America/Los_Angeles:20251118T170000
DTSTAMP:20260422T000352
CREATED:20251111T133418Z
LAST-MODIFIED:20251111T133418Z
UID:50365-1763478000-1763485200@network.vegas
SUMMARY:Waterside Social Networking Business Mixer
DESCRIPTION:Social Blend Meetup Group gives you an opportunity to network and grow your business brand through open conversations.\n\n\nWelcome to the Waterside Social Networking Business Mixer happening at Waterside Marina on November 18\, 2025 at 6:00 PM (Eastern Time)! Join us for an evening of networking\, collaboration\, and fun. Connect with like-minded professionals in a beautiful waterfront setting. Don’t miss this opportunity to expand your business contacts and enjoy the scenic views. See you there!
URL:https://network.vegas/calendar/waterside-social-networking-business-mixer/
LOCATION:Waterside Marina\, 333 Waterside Drive\, Norfolk\, VA\, 23510\, United States
CATEGORIES:Chamber
ATTACH;FMTTYPE=image/jpeg:https://network.vegas/wp-content/uploads/2025/11/450d683343667d71803c1c37378cdcb9.jpg
END:VEVENT
END:VCALENDAR