BEGIN:VCALENDAR
VERSION:2.0
PRODID:-//Network.Vegas - ECPv6.15.20//NONSGML v1.0//EN
CALSCALE:GREGORIAN
METHOD:PUBLISH
X-WR-CALNAME:Network.Vegas
X-ORIGINAL-URL:https://network.vegas
X-WR-CALDESC:Events for Network.Vegas
REFRESH-INTERVAL;VALUE=DURATION:PT1H
X-Robots-Tag:noindex
X-PUBLISHED-TTL:PT1H
BEGIN:VTIMEZONE
TZID:America/Los_Angeles
BEGIN:DAYLIGHT
TZOFFSETFROM:-0800
TZOFFSETTO:-0700
TZNAME:PDT
DTSTART:20240310T100000
END:DAYLIGHT
BEGIN:STANDARD
TZOFFSETFROM:-0700
TZOFFSETTO:-0800
TZNAME:PST
DTSTART:20241103T090000
END:STANDARD
BEGIN:DAYLIGHT
TZOFFSETFROM:-0800
TZOFFSETTO:-0700
TZNAME:PDT
DTSTART:20250309T100000
END:DAYLIGHT
BEGIN:STANDARD
TZOFFSETFROM:-0700
TZOFFSETTO:-0800
TZNAME:PST
DTSTART:20251102T090000
END:STANDARD
BEGIN:DAYLIGHT
TZOFFSETFROM:-0800
TZOFFSETTO:-0700
TZNAME:PDT
DTSTART:20260308T100000
END:DAYLIGHT
BEGIN:STANDARD
TZOFFSETFROM:-0700
TZOFFSETTO:-0800
TZNAME:PST
DTSTART:20261101T090000
END:STANDARD
END:VTIMEZONE
BEGIN:VEVENT
DTSTART;TZID=America/Los_Angeles:20250805T130000
DTEND;TZID=America/Los_Angeles:20250805T130000
DTSTAMP:20260420T120127
CREATED:20250729T060231Z
LAST-MODIFIED:20250729T165915Z
UID:47735-1754398800-1754398800@network.vegas
SUMMARY:Financially Savvy Seniors Workshop
DESCRIPTION:Join CCCU’s financial experts and fellow Seniors for a financial education workshop geared toward protecting yourself and other loved ones from identity theft in today’s digital world. Learn how criminals steal personal information – like Social Security numbers\, bank account details and insurance data – and what you can do to stop them. We’ll cover practical steps to prevent fraud and how to respond quickly if your identity is ever compromised.
URL:https://network.vegas/calendar/financially-savvy-seniors-workshop/
LOCATION:Walnut Recreation Center\, 3075 N. Walnut Rd\, Las Vegas\, NV\, 89115\, United States
CATEGORIES:Chamber,Las Vegas Business,Networking
ATTACH;FMTTYPE=image/png:https://network.vegas/wp-content/uploads/2025/07/lg-logo-ccculv_1-krRX9U.png
END:VEVENT
END:VCALENDAR