BEGIN:VCALENDAR
VERSION:2.0
PRODID:-//Network.Vegas - ECPv6.15.20//NONSGML v1.0//EN
CALSCALE:GREGORIAN
METHOD:PUBLISH
X-WR-CALNAME:Network.Vegas
X-ORIGINAL-URL:https://network.vegas
X-WR-CALDESC:Events for Network.Vegas
REFRESH-INTERVAL;VALUE=DURATION:PT1H
X-Robots-Tag:noindex
X-PUBLISHED-TTL:PT1H
BEGIN:VTIMEZONE
TZID:America/Los_Angeles
BEGIN:DAYLIGHT
TZOFFSETFROM:-0800
TZOFFSETTO:-0700
TZNAME:PDT
DTSTART:20240310T100000
END:DAYLIGHT
BEGIN:STANDARD
TZOFFSETFROM:-0700
TZOFFSETTO:-0800
TZNAME:PST
DTSTART:20241103T090000
END:STANDARD
BEGIN:DAYLIGHT
TZOFFSETFROM:-0800
TZOFFSETTO:-0700
TZNAME:PDT
DTSTART:20250309T100000
END:DAYLIGHT
BEGIN:STANDARD
TZOFFSETFROM:-0700
TZOFFSETTO:-0800
TZNAME:PST
DTSTART:20251102T090000
END:STANDARD
BEGIN:DAYLIGHT
TZOFFSETFROM:-0800
TZOFFSETTO:-0700
TZNAME:PDT
DTSTART:20260308T100000
END:DAYLIGHT
BEGIN:STANDARD
TZOFFSETFROM:-0700
TZOFFSETTO:-0800
TZNAME:PST
DTSTART:20261101T090000
END:STANDARD
END:VTIMEZONE
BEGIN:VEVENT
DTSTART;TZID=America/Los_Angeles:20251016T180000
DTEND;TZID=America/Los_Angeles:20251016T193000
DTSTAMP:20260422T042755
CREATED:20251006T220620Z
LAST-MODIFIED:20251006T220620Z
UID:49344-1760637600-1760643000@network.vegas
SUMMARY:TISOH Hospitality Speaker Series
DESCRIPTION:Discover the future of trade shows! Join industry leaders to explore innovation\, design\, and strategies for measurable success.\n\n\nStep into the future of exhibitions. As the global hub for premier trade shows\, Las Vegas is where the next wave of event innovation is born. This powerful panel discussion brings together industry trailblazers to dissect the forces shaping tomorrow’s most successful trade shows.   \nMove beyond traditional booths and discover what’s next in experiential design\, audience engagement\, and digital integration. Our expert panelists will explore cutting-edge trends\, from leveraging AI to creating immersive\, multi-sensory environments that captivate attendees. More importantly\, they will reveal the strategies behind measuring what matters—transforming creative concepts into quantifiable success.  \nJoin us to gain an essential toolkit of actionable insights designed to elevate your events\, drive measurable impact\, and solidify your position at the vanguard of the trade show industry. 
URL:https://network.vegas/calendar/tisoh-hospitality-speaker-series/
LOCATION:TISOH: The International School of Hospitality\, 3614 East Sunset Road\, ##110\, Las Vegas\, NV\, 89120\, United States
CATEGORIES:Hospitality
ATTACH;FMTTYPE=image/jpeg:https://network.vegas/wp-content/uploads/2025/10/4cb2aa47e6a887d9a2fb2a156837e788.jpg
END:VEVENT
END:VCALENDAR