BEGIN:VCALENDAR
VERSION:2.0
PRODID:-//Network.Vegas - ECPv6.15.20//NONSGML v1.0//EN
CALSCALE:GREGORIAN
METHOD:PUBLISH
X-WR-CALNAME:Network.Vegas
X-ORIGINAL-URL:https://network.vegas
X-WR-CALDESC:Events for Network.Vegas
REFRESH-INTERVAL;VALUE=DURATION:PT1H
X-Robots-Tag:noindex
X-PUBLISHED-TTL:PT1H
BEGIN:VTIMEZONE
TZID:America/Los_Angeles
BEGIN:DAYLIGHT
TZOFFSETFROM:-0800
TZOFFSETTO:-0700
TZNAME:PDT
DTSTART:20230312T100000
END:DAYLIGHT
BEGIN:STANDARD
TZOFFSETFROM:-0700
TZOFFSETTO:-0800
TZNAME:PST
DTSTART:20231105T090000
END:STANDARD
BEGIN:DAYLIGHT
TZOFFSETFROM:-0800
TZOFFSETTO:-0700
TZNAME:PDT
DTSTART:20240310T100000
END:DAYLIGHT
BEGIN:STANDARD
TZOFFSETFROM:-0700
TZOFFSETTO:-0800
TZNAME:PST
DTSTART:20241103T090000
END:STANDARD
BEGIN:DAYLIGHT
TZOFFSETFROM:-0800
TZOFFSETTO:-0700
TZNAME:PDT
DTSTART:20250309T100000
END:DAYLIGHT
BEGIN:STANDARD
TZOFFSETFROM:-0700
TZOFFSETTO:-0800
TZNAME:PST
DTSTART:20251102T090000
END:STANDARD
BEGIN:DAYLIGHT
TZOFFSETFROM:-0800
TZOFFSETTO:-0700
TZNAME:PDT
DTSTART:20260308T100000
END:DAYLIGHT
BEGIN:STANDARD
TZOFFSETFROM:-0700
TZOFFSETTO:-0800
TZNAME:PST
DTSTART:20261101T090000
END:STANDARD
END:VTIMEZONE
BEGIN:VEVENT
DTSTART;TZID=America/Los_Angeles:20251113T133000
DTEND;TZID=America/Los_Angeles:20251113T180000
DTSTAMP:20260422T084838
CREATED:20250929T172120Z
LAST-MODIFIED:20251103T200528Z
UID:49249-1763040600-1763056800@network.vegas
SUMMARY:NAIOP 2025 Bus Tour - Thursday\, November 13\, 2025
DESCRIPTION:
URL:https://network.vegas/calendar/naiop-2025-bus-tour-thursday-november-13-2025/
LOCATION:The Orleans Hotel & Casino\, 4500 W Tropicana Ave\, Las Vegas\, NV\, 89103\, United States
CATEGORIES:Networking,Professional Association,Real Estate & Construction
ATTACH;FMTTYPE=image/jpeg:https://network.vegas/wp-content/uploads/2025/09/Bus20Tour20Graphic20from20Guidebook-t1nsHJ.jpg
GEO:36.1027192;-115.201984
X-APPLE-STRUCTURED-LOCATION;VALUE=URI;X-ADDRESS=The Orleans Hotel & Casino 4500 W Tropicana Ave Las Vegas NV 89103 United States;X-APPLE-RADIUS=500;X-TITLE=4500 W Tropicana Ave:geo:-115.201984,36.1027192
END:VEVENT
BEGIN:VEVENT
DTSTART;TZID=America/Los_Angeles:20250122T080000
DTEND;TZID=America/Los_Angeles:20250122T080000
DTSTAMP:20260422T084838
CREATED:20241106T231047Z
LAST-MODIFIED:20241106T231047Z
UID:42568-1737532800-1737532800@network.vegas
SUMMARY:IREM | BOMA 2025 Forecast Event
DESCRIPTION:
URL:https://network.vegas/calendar/irem-boma-2025-forecast-event/
LOCATION:The Orleans Hotel & Casino\, 4500 W Tropicana Ave\, Las Vegas\, NV\, 89103\, United States
ATTACH;FMTTYPE=image/png:https://network.vegas/wp-content/uploads/2024/11/IREM_and_BOMA_Forecast-RD9844.tmp_.png
GEO:36.1027192;-115.201984
X-APPLE-STRUCTURED-LOCATION;VALUE=URI;X-ADDRESS=The Orleans Hotel & Casino 4500 W Tropicana Ave Las Vegas NV 89103 United States;X-APPLE-RADIUS=500;X-TITLE=4500 W Tropicana Ave:geo:-115.201984,36.1027192
END:VEVENT
BEGIN:VEVENT
DTSTART;TZID=America/Los_Angeles:20241023T113000
DTEND;TZID=America/Los_Angeles:20241023T113000
DTSTAMP:20260422T084838
CREATED:20241018T204057Z
LAST-MODIFIED:20241018T204057Z
UID:42016-1729683000-1729683000@network.vegas
SUMMARY:CCIM October 2024 Luncheon -
DESCRIPTION:Please be aware that by entering the meeting areas\, you grant CCIM Institute\, its assigns\, and/or any person or entity authorized by CCIM Institute permission to use your image and/or testimonial for any lawful purpose\, in all media\, whether now or hereafter known\, throughout the world in perpetuity\, without payment or other consideration\, and you release CCIM Institute\, its successors\, assigns\, and licensees from any liability whatsoever of any nature.
URL:https://network.vegas/calendar/ccim-october-2024-luncheon-2/
LOCATION:The Orleans Hotel & Casino\, 4500 W Tropicana Ave\, Las Vegas\, NV\, 89103\, United States
CATEGORIES:Networking,Professional Association,Real Estate & Construction
ATTACH;FMTTYPE=image/jpeg:https://network.vegas/wp-content/uploads/2024/09/CCIM-SOUTHERN-NEVADA-HORIZONTAL-FULL-COLOR-RGB-1000PX-W-144PPI-nSdET1.tmp_.jpg
GEO:36.1027192;-115.201984
X-APPLE-STRUCTURED-LOCATION;VALUE=URI;X-ADDRESS=The Orleans Hotel & Casino 4500 W Tropicana Ave Las Vegas NV 89103 United States;X-APPLE-RADIUS=500;X-TITLE=4500 W Tropicana Ave:geo:-115.201984,36.1027192
END:VEVENT
BEGIN:VEVENT
DTSTART;TZID=America/Los_Angeles:20240831T100000
DTEND;TZID=America/Los_Angeles:20240831T170000
DTSTAMP:20260422T084838
CREATED:20240507T080414Z
LAST-MODIFIED:20240830T233820Z
UID:37671-1725098400-1725123600@network.vegas
SUMMARY:Las Vegas Beauty Expo
DESCRIPTION:MYVEGAS Magazine & Beautiful Magazine proudly present the Las Vegas Beauty Expo!\n\n\n\nDON’T MISS THE WOMEN’S EVENT OF THE YEAR!\n– ON-SITE BEAUTY SERVICES!\n– TONS OF BEAUTY PRIZES & GIVEAWAYS\n– SURPRISES AND SPECIAL GUESTS!!\n \nRegister online for FREE\, or $5 at the door!\n\n \nVENDORS:\nExpo booths are on sale now! Visit lasvegasbeautyexpo.com for more information on securing a booth today!\n\n\nAUGUST 31\, 2024\n10 AM – 5 PM\nORLEANS
URL:https://network.vegas/calendar/las-vegas-beauty-expo-2/
LOCATION:The Orleans Hotel & Casino\, 4500 W Tropicana Ave\, Las Vegas\, NV\, 89103\, United States
CATEGORIES:Convention,Featured,Health & Wellness
ATTACH;FMTTYPE=image/jpeg:https://network.vegas/wp-content/uploads/2024/05/5b5a0d048d67f6a42abc6c38a617a39c.jpg
GEO:36.1027192;-115.201984
X-APPLE-STRUCTURED-LOCATION;VALUE=URI;X-ADDRESS=The Orleans Hotel & Casino 4500 W Tropicana Ave Las Vegas NV 89103 United States;X-APPLE-RADIUS=500;X-TITLE=4500 W Tropicana Ave:geo:-115.201984,36.1027192
END:VEVENT
BEGIN:VEVENT
DTSTART;TZID=America/Los_Angeles:20240511T113000
DTEND;TZID=America/Los_Angeles:20240512T170000
DTSTAMP:20260422T084838
CREATED:20240205T223411Z
LAST-MODIFIED:20240506T163936Z
UID:34798-1715427000-1715533200@network.vegas
SUMMARY:MYVEGAS Home Show
DESCRIPTION:You’re Invited to the MyVegas Home Show on May 11 & 12\, 2024! Your one-stop shop for all things Home Improvement!MYVEGAS Home Show Join us for the MYVEGAS Home Show\, a must-attend event for all home improvement enthusiasts! Get ready to explore the latest trends\, designs\, and innovations in the world of home improvement. From stunning interiors to outdoor makeovers\, this event has it all. Date: Saturday\, May 11\, 2024 & Sunday\, May 12\, 2024 Time: 11:30 AM-5:00PM Location: The Orleans Hotel & Casino Discover a wide range of exhibitors showcasing their expertise in home decor\, remodeling\, landscaping\, and more. Whether you’re looking for inspiration\, seeking professional advice\, or simply want to browse the latest products\, the MYVEGAS Home Show has something for everyone. Engage in interactive workshops and demonstrations led by industry experts. Learn valuable tips and tricks to enhance your living space and turn your house into a dream home. Connect with passionate professionals who can help you bring your ideas to life. Don’t miss out on this exciting event! Mark your calendars and join us at The Orleans Hotel & Casino on May 11th-12th. Get ready to transform your home and make it truly remarkable!  VENDOR BOOTHS ARE AVAILABLE NOW! Call 725-263-1109 or visit www.myvegashomeshow.com for more information.
URL:https://network.vegas/calendar/myvegas-home-show/
LOCATION:The Orleans Hotel & Casino\, 4500 W Tropicana Ave\, Las Vegas\, NV\, 89103\, United States
CATEGORIES:Featured
ATTACH;FMTTYPE=image/jpeg:https://network.vegas/wp-content/uploads/2024/02/c73d8fa251ebe205488e9f9e931960ef.jpg
GEO:36.1027192;-115.201984
X-APPLE-STRUCTURED-LOCATION;VALUE=URI;X-ADDRESS=The Orleans Hotel & Casino 4500 W Tropicana Ave Las Vegas NV 89103 United States;X-APPLE-RADIUS=500;X-TITLE=4500 W Tropicana Ave:geo:-115.201984,36.1027192
END:VEVENT
END:VCALENDAR