BEGIN:VCALENDAR
VERSION:2.0
PRODID:-//Network.Vegas - ECPv6.15.20//NONSGML v1.0//EN
CALSCALE:GREGORIAN
METHOD:PUBLISH
X-ORIGINAL-URL:https://network.vegas
X-WR-CALDESC:Events for Network.Vegas
REFRESH-INTERVAL;VALUE=DURATION:PT1H
X-Robots-Tag:noindex
X-PUBLISHED-TTL:PT1H
BEGIN:VTIMEZONE
TZID:America/Los_Angeles
BEGIN:DAYLIGHT
TZOFFSETFROM:-0800
TZOFFSETTO:-0700
TZNAME:PDT
DTSTART:20240310T100000
END:DAYLIGHT
BEGIN:STANDARD
TZOFFSETFROM:-0700
TZOFFSETTO:-0800
TZNAME:PST
DTSTART:20241103T090000
END:STANDARD
BEGIN:DAYLIGHT
TZOFFSETFROM:-0800
TZOFFSETTO:-0700
TZNAME:PDT
DTSTART:20250309T100000
END:DAYLIGHT
BEGIN:STANDARD
TZOFFSETFROM:-0700
TZOFFSETTO:-0800
TZNAME:PST
DTSTART:20251102T090000
END:STANDARD
BEGIN:DAYLIGHT
TZOFFSETFROM:-0800
TZOFFSETTO:-0700
TZNAME:PDT
DTSTART:20260308T100000
END:DAYLIGHT
BEGIN:STANDARD
TZOFFSETFROM:-0700
TZOFFSETTO:-0800
TZNAME:PST
DTSTART:20261101T090000
END:STANDARD
END:VTIMEZONE
BEGIN:VEVENT
DTSTART;TZID=America/Los_Angeles:20250221T170000
DTEND;TZID=America/Los_Angeles:20250221T193000
DTSTAMP:20260422T134809
CREATED:20250123T172637Z
LAST-MODIFIED:20250212T225514Z
UID:43594-1740157200-1740166200@network.vegas
SUMMARY:Annual Lunar New Year Gala & Community Achievement Awards & Community
DESCRIPTION:Register Here
URL:https://network.vegas/calendar/annual-lunar-new-year-gala-community-achievement-awards-community/
LOCATION:The Orleans Hotel & Casino\, 4500 W. Tropicana Avenue\, Las Vegas\, NV\, United States
CATEGORIES:Chamber,Featured
ATTACH;FMTTYPE=image/jpeg:https://network.vegas/wp-content/uploads/2025/01/CNY-Invite-2025-JxiU3U.tmp_.jpg
END:VEVENT
END:VCALENDAR