BEGIN:VCALENDAR
VERSION:2.0
PRODID:-//Network.Vegas - ECPv6.15.20//NONSGML v1.0//EN
CALSCALE:GREGORIAN
METHOD:PUBLISH
X-WR-CALNAME:Network.Vegas
X-ORIGINAL-URL:https://network.vegas
X-WR-CALDESC:Events for Network.Vegas
REFRESH-INTERVAL;VALUE=DURATION:PT1H
X-Robots-Tag:noindex
X-PUBLISHED-TTL:PT1H
BEGIN:VTIMEZONE
TZID:America/Los_Angeles
BEGIN:DAYLIGHT
TZOFFSETFROM:-0800
TZOFFSETTO:-0700
TZNAME:PDT
DTSTART:20240310T100000
END:DAYLIGHT
BEGIN:STANDARD
TZOFFSETFROM:-0700
TZOFFSETTO:-0800
TZNAME:PST
DTSTART:20241103T090000
END:STANDARD
BEGIN:DAYLIGHT
TZOFFSETFROM:-0800
TZOFFSETTO:-0700
TZNAME:PDT
DTSTART:20250309T100000
END:DAYLIGHT
BEGIN:STANDARD
TZOFFSETFROM:-0700
TZOFFSETTO:-0800
TZNAME:PST
DTSTART:20251102T090000
END:STANDARD
BEGIN:DAYLIGHT
TZOFFSETFROM:-0800
TZOFFSETTO:-0700
TZNAME:PDT
DTSTART:20260308T100000
END:DAYLIGHT
BEGIN:STANDARD
TZOFFSETFROM:-0700
TZOFFSETTO:-0800
TZNAME:PST
DTSTART:20261101T090000
END:STANDARD
END:VTIMEZONE
BEGIN:VEVENT
DTSTART;TZID=America/Los_Angeles:20251009T133000
DTEND;TZID=America/Los_Angeles:20251009T170000
DTSTAMP:20260422T042429
CREATED:20250927T002009Z
LAST-MODIFIED:20250927T002009Z
UID:49134-1760016600-1760029200@network.vegas
SUMMARY:DisruptHR Las Vegas
DESCRIPTION:Get ready to shake things up at DisruptHR Las Vegas – where we’ll challenge traditional HR practices and inspire innovation!\n\n\nWelcome to DisruptHR Las Vegas! Get ready to shake things up in the world of HR at The Beverly Theater. Join us for a day filled with innovation\, inspiration\, and networking with fellow HR professionals. Discover new ideas\, challenge the status quo\, and be part of the HR revolution. Don’t miss out on this exciting event where you can disrupt the way you think about HR. See you there!
URL:https://network.vegas/calendar/disrupthr-las-vegas-2/
LOCATION:The Beverly Theater\, 515 South 6th Street\, Las Vegas\, NV\, 89101\, United States
CATEGORIES:Featured
ATTACH;FMTTYPE=image/jpeg:https://network.vegas/wp-content/uploads/2025/09/fc1831dc34cd6502e77c934404365557.jpg
END:VEVENT
END:VCALENDAR