BEGIN:VCALENDAR
VERSION:2.0
PRODID:-//Network.Vegas - ECPv6.15.20//NONSGML v1.0//EN
CALSCALE:GREGORIAN
METHOD:PUBLISH
X-ORIGINAL-URL:https://network.vegas
X-WR-CALDESC:Events for Network.Vegas
REFRESH-INTERVAL;VALUE=DURATION:PT1H
X-Robots-Tag:noindex
X-PUBLISHED-TTL:PT1H
BEGIN:VTIMEZONE
TZID:America/Los_Angeles
BEGIN:DAYLIGHT
TZOFFSETFROM:-0800
TZOFFSETTO:-0700
TZNAME:PDT
DTSTART:20230312T100000
END:DAYLIGHT
BEGIN:STANDARD
TZOFFSETFROM:-0700
TZOFFSETTO:-0800
TZNAME:PST
DTSTART:20231105T090000
END:STANDARD
BEGIN:DAYLIGHT
TZOFFSETFROM:-0800
TZOFFSETTO:-0700
TZNAME:PDT
DTSTART:20240310T100000
END:DAYLIGHT
BEGIN:STANDARD
TZOFFSETFROM:-0700
TZOFFSETTO:-0800
TZNAME:PST
DTSTART:20241103T090000
END:STANDARD
BEGIN:DAYLIGHT
TZOFFSETFROM:-0800
TZOFFSETTO:-0700
TZNAME:PDT
DTSTART:20250309T100000
END:DAYLIGHT
BEGIN:STANDARD
TZOFFSETFROM:-0700
TZOFFSETTO:-0800
TZNAME:PST
DTSTART:20251102T090000
END:STANDARD
END:VTIMEZONE
BEGIN:VEVENT
DTSTART;TZID=America/Los_Angeles:20240426T110000
DTEND;TZID=America/Los_Angeles:20240426T130000
DTSTAMP:20260423T060400
CREATED:20240420T102257Z
LAST-MODIFIED:20240420T102300Z
UID:36494-1714129200-1714136400@network.vegas
SUMMARY:April Business & Networking Luncheon
DESCRIPTION:This month our Business & Networking Luncheon – April 26\, 2024\n\n\n\nSuncoast Hotel & Casino9090 Alta Drive Las Vegas\, NV 8914511:00am – 1:00pm\n\n\n\nIf you need assistance\, please contact us at 702-385-7367 or info@lvlcc.com
URL:https://network.vegas/calendar/april-business-networking-luncheon/
LOCATION:Suncoast Hotel & Casino Grand Ballroom\, 9090 Alta Drive\, Las Vegas\, NV\, 89145\, United States
CATEGORIES:Chamber,Networking
ATTACH;FMTTYPE=image/jpeg:https://network.vegas/wp-content/uploads/2022/02/latin-chamber-banner.jpg
GEO:36.1691108;-115.2913032
X-APPLE-STRUCTURED-LOCATION;VALUE=URI;X-ADDRESS=Suncoast Hotel & Casino Grand Ballroom 9090 Alta Drive Las Vegas NV 89145 United States;X-APPLE-RADIUS=500;X-TITLE=9090 Alta Drive:geo:-115.2913032,36.1691108
END:VEVENT
END:VCALENDAR