BEGIN:VCALENDAR
VERSION:2.0
PRODID:-//Network.Vegas - ECPv6.15.20//NONSGML v1.0//EN
CALSCALE:GREGORIAN
METHOD:PUBLISH
X-WR-CALNAME:Network.Vegas
X-ORIGINAL-URL:https://network.vegas
X-WR-CALDESC:Events for Network.Vegas
REFRESH-INTERVAL;VALUE=DURATION:PT1H
X-Robots-Tag:noindex
X-PUBLISHED-TTL:PT1H
BEGIN:VTIMEZONE
TZID:America/Los_Angeles
BEGIN:DAYLIGHT
TZOFFSETFROM:-0800
TZOFFSETTO:-0700
TZNAME:PDT
DTSTART:20230312T100000
END:DAYLIGHT
BEGIN:STANDARD
TZOFFSETFROM:-0700
TZOFFSETTO:-0800
TZNAME:PST
DTSTART:20231105T090000
END:STANDARD
BEGIN:DAYLIGHT
TZOFFSETFROM:-0800
TZOFFSETTO:-0700
TZNAME:PDT
DTSTART:20240310T100000
END:DAYLIGHT
BEGIN:STANDARD
TZOFFSETFROM:-0700
TZOFFSETTO:-0800
TZNAME:PST
DTSTART:20241103T090000
END:STANDARD
BEGIN:DAYLIGHT
TZOFFSETFROM:-0800
TZOFFSETTO:-0700
TZNAME:PDT
DTSTART:20250309T100000
END:DAYLIGHT
BEGIN:STANDARD
TZOFFSETFROM:-0700
TZOFFSETTO:-0800
TZNAME:PST
DTSTART:20251102T090000
END:STANDARD
END:VTIMEZONE
BEGIN:VEVENT
DTSTART;TZID=America/Los_Angeles:20240503T180000
DTEND;TZID=America/Los_Angeles:20240503T210000
DTSTAMP:20260422T085208
CREATED:20240419T172311Z
LAST-MODIFIED:20240419T172314Z
UID:36424-1714759200-1714770000@network.vegas
SUMMARY:Candlelighters 2nd Annual Glamp Out
DESCRIPTION:We invite you to join us for an enchanting evening full of whimsy and wildflowers at the Springs Preserve. Sip craft cocktails and champagne by a crackling fire pit in a lush romantic garden dripping with flowers of every kind. It will be a beautiful night all for a beautiful cause: helping make happy campers of our Candlelighters kids and their families\, too. Proceeds benefit programs like Camp Firefly\, our summer camp for children in southern Nevada who are fighting cancer – an amazing program that helps families in our community.
URL:https://network.vegas/calendar/candlelighters-2nd-annual-glamp-out/
LOCATION:Springs Preserve\, 333 S. Valley View Blvd\, Las Vegas \, NV\, 89193\, United States
CATEGORIES:Chamber
ATTACH;FMTTYPE=image/png:https://network.vegas/wp-content/uploads/2021/07/Henderson-Chamber_Banner.png
GEO:36.1707652;-115.1903494
X-APPLE-STRUCTURED-LOCATION;VALUE=URI;X-ADDRESS=Springs Preserve 333 S. Valley View Blvd Las Vegas  NV 89193 United States;X-APPLE-RADIUS=500;X-TITLE=333 S. Valley View Blvd:geo:-115.1903494,36.1707652
END:VEVENT
END:VCALENDAR