BEGIN:VCALENDAR
VERSION:2.0
PRODID:-//Network.Vegas - ECPv6.15.20//NONSGML v1.0//EN
CALSCALE:GREGORIAN
METHOD:PUBLISH
X-WR-CALNAME:Network.Vegas
X-ORIGINAL-URL:https://network.vegas
X-WR-CALDESC:Events for Network.Vegas
REFRESH-INTERVAL;VALUE=DURATION:PT1H
X-Robots-Tag:noindex
X-PUBLISHED-TTL:PT1H
BEGIN:VTIMEZONE
TZID:America/Los_Angeles
BEGIN:DAYLIGHT
TZOFFSETFROM:-0800
TZOFFSETTO:-0700
TZNAME:PDT
DTSTART:20230312T100000
END:DAYLIGHT
BEGIN:STANDARD
TZOFFSETFROM:-0700
TZOFFSETTO:-0800
TZNAME:PST
DTSTART:20231105T090000
END:STANDARD
BEGIN:DAYLIGHT
TZOFFSETFROM:-0800
TZOFFSETTO:-0700
TZNAME:PDT
DTSTART:20240310T100000
END:DAYLIGHT
BEGIN:STANDARD
TZOFFSETFROM:-0700
TZOFFSETTO:-0800
TZNAME:PST
DTSTART:20241103T090000
END:STANDARD
BEGIN:DAYLIGHT
TZOFFSETFROM:-0800
TZOFFSETTO:-0700
TZNAME:PDT
DTSTART:20250309T100000
END:DAYLIGHT
BEGIN:STANDARD
TZOFFSETFROM:-0700
TZOFFSETTO:-0800
TZNAME:PST
DTSTART:20251102T090000
END:STANDARD
END:VTIMEZONE
BEGIN:VEVENT
DTSTART;TZID=America/Los_Angeles:20240621T080000
DTEND;TZID=America/Los_Angeles:20240621T100000
DTSTAMP:20260421T205638
CREATED:20240507T054908Z
LAST-MODIFIED:20240507T054908Z
UID:37661-1718956800-1718964000@network.vegas
SUMMARY:ConnectHER to Business
DESCRIPTION:Join NWBC for our quarterly breakfast event to share what the NV Women’s Business Center offers and connect with other businesses.\n\n\nWe invite our 2024 Women’s HERstory Month attendees and all other small business owners in Northern Nevada to the NV Women’s Business Center and POWher of WE for a networking and information-sharing event with a special guest speaker. Meet others in your small business arena\, swap tips and other information\, and learn about the resources your co-hosts offer. \nEnjoy a continental breakfast while enjoying meeting and sharing with new friends. \nCOST \n$20.00/person \nSPONSORSHIP Opportunities Available \nConnectHER $250 Sponsorship \nExhibit table and 2 tickets; logo on Power Point \nConnectHER $500 Sponsorship \nExhibit table and 4 tickets; logo on signage & Power Point; press release mention \nEmail: sponsorships@powherofwe.com
URL:https://network.vegas/calendar/connecther-to-business/
LOCATION:Reno Sparks Chamber of Commerce\, 4065 South Virginia Street\, ##101\, Reno\, NV\, 89502\, United States
CATEGORIES:Las Vegas Business
ATTACH;FMTTYPE=image/jpeg:https://network.vegas/wp-content/uploads/2024/05/d398a3ba577b2dbfd8c557a8c77ca741.jpg
END:VEVENT
END:VCALENDAR