BEGIN:VCALENDAR
VERSION:2.0
PRODID:-//Network.Vegas - ECPv6.15.20//NONSGML v1.0//EN
CALSCALE:GREGORIAN
METHOD:PUBLISH
X-ORIGINAL-URL:https://network.vegas
X-WR-CALDESC:Events for Network.Vegas
REFRESH-INTERVAL;VALUE=DURATION:PT1H
X-Robots-Tag:noindex
X-PUBLISHED-TTL:PT1H
BEGIN:VTIMEZONE
TZID:America/Los_Angeles
BEGIN:DAYLIGHT
TZOFFSETFROM:-0800
TZOFFSETTO:-0700
TZNAME:PDT
DTSTART:20240310T100000
END:DAYLIGHT
BEGIN:STANDARD
TZOFFSETFROM:-0700
TZOFFSETTO:-0800
TZNAME:PST
DTSTART:20241103T090000
END:STANDARD
BEGIN:DAYLIGHT
TZOFFSETFROM:-0800
TZOFFSETTO:-0700
TZNAME:PDT
DTSTART:20250309T100000
END:DAYLIGHT
BEGIN:STANDARD
TZOFFSETFROM:-0700
TZOFFSETTO:-0800
TZNAME:PST
DTSTART:20251102T090000
END:STANDARD
BEGIN:DAYLIGHT
TZOFFSETFROM:-0800
TZOFFSETTO:-0700
TZNAME:PDT
DTSTART:20260308T100000
END:DAYLIGHT
BEGIN:STANDARD
TZOFFSETFROM:-0700
TZOFFSETTO:-0800
TZNAME:PST
DTSTART:20261101T090000
END:STANDARD
END:VTIMEZONE
BEGIN:VEVENT
DTSTART;TZID=America/Los_Angeles:20250519T073000
DTEND;TZID=America/Los_Angeles:20250519T073000
DTSTAMP:20260421T175127
CREATED:20250304T032623Z
LAST-MODIFIED:20250505T160236Z
UID:44741-1747639800-1747639800@network.vegas
SUMMARY:HCC Swing for Success Golf Tournament
DESCRIPTION:The Henderson Chamber of Commerce proudly presents the 34th Annual Swing for Success\, a premier golf tournament supporting both the Henderson Chamber of Commerce and the Nevada State University Foundation Scholarship Fund. More than just a day on the course\, this highly anticipated event brings together Southern NevadaÕs top business and community leaders for a world-class golf experience with a purpose. Participants will enjoy a day of friendly competition\, networking\, and philanthropyÑhelping to fund scholarships that empower the next generation of local professionals and leaders. Shotgun Start: 8:30 a.m. Luncheon & Awards to Follow Individual Player: $400 Foursome: $1\,500 Sponsorship opportunities are available! Download sponsorship packet here. Please contact Lindsey Bengtson\, Director of Events or call the HCC Office 702-565-8951 with any questions.
URL:https://network.vegas/calendar/hcc-swing-for-success-golf-tournament/
LOCATION:Reflection Bay Golf Club\, 75 Monte Lago Blvd.\, Henderson\, NV\, 89011\, United States
CATEGORIES:Chamber,Las Vegas Business,Networking
ATTACH;FMTTYPE=image/png:https://network.vegas/wp-content/uploads/2025/03/Swing_for_Success_Logo-9gTaco.tmp_.png
GEO:36.109721;-114.925439
X-APPLE-STRUCTURED-LOCATION;VALUE=URI;X-ADDRESS=Reflection Bay Golf Club 75 Monte Lago Blvd. Henderson NV 89011 United States;X-APPLE-RADIUS=500;X-TITLE=75 Monte Lago Blvd.:geo:-114.925439,36.109721
END:VEVENT
END:VCALENDAR