BEGIN:VCALENDAR
VERSION:2.0
PRODID:-//Network.Vegas - ECPv6.15.20//NONSGML v1.0//EN
CALSCALE:GREGORIAN
METHOD:PUBLISH
X-ORIGINAL-URL:https://network.vegas
X-WR-CALDESC:Events for Network.Vegas
REFRESH-INTERVAL;VALUE=DURATION:PT1H
X-Robots-Tag:noindex
X-PUBLISHED-TTL:PT1H
BEGIN:VTIMEZONE
TZID:America/Los_Angeles
BEGIN:DAYLIGHT
TZOFFSETFROM:-0800
TZOFFSETTO:-0700
TZNAME:PDT
DTSTART:20230312T100000
END:DAYLIGHT
BEGIN:STANDARD
TZOFFSETFROM:-0700
TZOFFSETTO:-0800
TZNAME:PST
DTSTART:20231105T090000
END:STANDARD
BEGIN:DAYLIGHT
TZOFFSETFROM:-0800
TZOFFSETTO:-0700
TZNAME:PDT
DTSTART:20240310T100000
END:DAYLIGHT
BEGIN:STANDARD
TZOFFSETFROM:-0700
TZOFFSETTO:-0800
TZNAME:PST
DTSTART:20241103T090000
END:STANDARD
BEGIN:DAYLIGHT
TZOFFSETFROM:-0800
TZOFFSETTO:-0700
TZNAME:PDT
DTSTART:20250309T100000
END:DAYLIGHT
BEGIN:STANDARD
TZOFFSETFROM:-0700
TZOFFSETTO:-0800
TZNAME:PST
DTSTART:20251102T090000
END:STANDARD
BEGIN:DAYLIGHT
TZOFFSETFROM:-0800
TZOFFSETTO:-0700
TZNAME:PDT
DTSTART:20260308T100000
END:DAYLIGHT
BEGIN:STANDARD
TZOFFSETFROM:-0700
TZOFFSETTO:-0800
TZNAME:PST
DTSTART:20261101T090000
END:STANDARD
BEGIN:DAYLIGHT
TZOFFSETFROM:-0800
TZOFFSETTO:-0700
TZNAME:PDT
DTSTART:20270314T100000
END:DAYLIGHT
BEGIN:STANDARD
TZOFFSETFROM:-0700
TZOFFSETTO:-0800
TZNAME:PST
DTSTART:20271107T090000
END:STANDARD
END:VTIMEZONE
BEGIN:VEVENT
DTSTART;TZID=America/Los_Angeles:20260219T170000
DTEND;TZID=America/Los_Angeles:20260219T190000
DTSTAMP:20260422T185455
CREATED:20260212T193155Z
LAST-MODIFIED:20260212T193407Z
UID:52048-1771520400-1771527600@network.vegas
SUMMARY:TARIFFS\, TAXES AND THE LAS VEGAS ECONOMY
DESCRIPTION:@ 			\n			\n							 \n\nJoin us as the Economic Club of Las Vegas welcomes Dr. Kristopher Sanchez\, Director for the State of Nevada Department of Business & Industry\, Cameron Belt\, Senior Economist & Research Director at RCG Economics\, and David Damore\, Ph.D.\, Executive Director of The Lincy Institute and Brookings Mountain West\, as they discuss how tariffs and new legislation are impacting the state of Nevada during a panel discussion. \nPresenters: Dr. Kristopher Sanchez\, Director for the State of Nevada Department of Business & Industry\, Cameron Belt\, Senior Economist & Research Director at RCG Economics\, and David Damore\, Ph.D.\, Executive Director of The Lincy Institute and Brookings Mountain West \n \n\n		\n\n\nThe Economic Club of Las Vegas\n \n\n\n\n\n\n\n\n\n						\n	\n	\n\n						\n							Add to calendar						\n						\n	\n\n					\n\n\n\n									\n										Google Calendar									\n								\n\n									\n										iCalendar									\n								\n\n									\n										Outlook 365									\n								\n\n									\n										Outlook Live
URL:https://network.vegas/calendar/tariffs-taxes-and-the-las-vegas-economy/
LOCATION:Park MGM Las Vegas\, 3770 South Las Vegas Boulevard Las Vegas\, NV 89109 United States
CATEGORIES:Economic Development,Educational,Featured
ATTACH;FMTTYPE=image/png:https://network.vegas/wp-content/uploads/2026/02/image-3-QSKP4c.png
END:VEVENT
BEGIN:VEVENT
DTSTART;TZID=America/Los_Angeles:20250116T170000
DTEND;TZID=America/Los_Angeles:20250116T190000
DTSTAMP:20260422T185455
CREATED:20250104T215546Z
LAST-MODIFIED:20250104T215548Z
UID:43272-1737046800-1737054000@network.vegas
SUMMARY:The Economic Impact of Sports and Events in Las Vegas
DESCRIPTION:Join us as the Economic Club of Las Vegas welcomes Lori Nelson-Kraft\, Senior Vice President of Corporate Affairs at the Las Vegas Grand Prix\, Inc.\, Andrew Lanzino III\, Executive at MGM Resorts International\, and Lisa Motley\, Vice President of Sports and Special Events for the Las Vegas Convention and Visitors Authority (LVCVA)\, to discuss the economic growth and emerging opportunities driven by sports and events in Las Vegas during our happy hour event. \n\n\n\nPresenters: Lori Nelson-Kraft\, Senior Vice President of Corporate Affairs at the Las Vegas Grand Prix\, Inc.\, Andrew Lanzino III\, Executive at MGM Resorts International\, and Lisa Motley\, Vice President of Sports and Special Events for the Las Vegas Convention and Visitors Authority (LVCVA).
URL:https://network.vegas/calendar/the-economic-impact-of-sports-and-events-in-las-vegas-2/
LOCATION:Park MGM Las Vegas\, 3770 South Las Vegas Boulevard Las Vegas\, NV 89109 United States
CATEGORIES:Featured,Las Vegas Business,Networking,Professional Association
ATTACH;FMTTYPE=image/jpeg:https://network.vegas/wp-content/uploads/2023/10/the-economic-club-banner.jpg
END:VEVENT
BEGIN:VEVENT
DTSTART;TZID=America/Los_Angeles:20240606T113000
DTEND;TZID=America/Los_Angeles:20240606T133000
DTSTAMP:20260422T185455
CREATED:20240513T092234Z
LAST-MODIFIED:20240513T092238Z
UID:37745-1717673400-1717680600@network.vegas
SUMMARY:The Past\, The Present and The Future of Las Vegas
DESCRIPTION:Join us as the Economic Club of Las Vegas welcomes Stephen M. Miller\, Ph.D.\, Professor of Economics at the UNLV Center for Business and Economic Research\, Bo Bernhard\, Ph.D.\, VP of Economic Development and Professor at UNLV\, and Tick Segerblom\, Clark County Commission Chairman\, to discuss the growth and expansion opportunities of the Las Vegas economy through the years during our quarterly luncheon. Lunch is included.
URL:https://network.vegas/calendar/the-past-the-present-and-the-future-of-las-vegas/
LOCATION:Park MGM Las Vegas\, 3770 South Las Vegas Boulevard Las Vegas\, NV 89109 United States
CATEGORIES:Las Vegas Business,Networking
ATTACH;FMTTYPE=image/jpeg:https://network.vegas/wp-content/uploads/2023/10/the-economic-club-banner.jpg
END:VEVENT
END:VCALENDAR