BEGIN:VCALENDAR
VERSION:2.0
PRODID:-//Network.Vegas - ECPv6.15.20//NONSGML v1.0//EN
CALSCALE:GREGORIAN
METHOD:PUBLISH
X-ORIGINAL-URL:https://network.vegas
X-WR-CALDESC:Events for Network.Vegas
REFRESH-INTERVAL;VALUE=DURATION:PT1H
X-Robots-Tag:noindex
X-PUBLISHED-TTL:PT1H
BEGIN:VTIMEZONE
TZID:America/Los_Angeles
BEGIN:DAYLIGHT
TZOFFSETFROM:-0800
TZOFFSETTO:-0700
TZNAME:PDT
DTSTART:20240310T100000
END:DAYLIGHT
BEGIN:STANDARD
TZOFFSETFROM:-0700
TZOFFSETTO:-0800
TZNAME:PST
DTSTART:20241103T090000
END:STANDARD
BEGIN:DAYLIGHT
TZOFFSETFROM:-0800
TZOFFSETTO:-0700
TZNAME:PDT
DTSTART:20250309T100000
END:DAYLIGHT
BEGIN:STANDARD
TZOFFSETFROM:-0700
TZOFFSETTO:-0800
TZNAME:PST
DTSTART:20251102T090000
END:STANDARD
BEGIN:DAYLIGHT
TZOFFSETFROM:-0800
TZOFFSETTO:-0700
TZNAME:PDT
DTSTART:20260308T100000
END:DAYLIGHT
BEGIN:STANDARD
TZOFFSETFROM:-0700
TZOFFSETTO:-0800
TZNAME:PST
DTSTART:20261101T090000
END:STANDARD
END:VTIMEZONE
BEGIN:VEVENT
DTSTART;TZID=America/Los_Angeles:20251209T180000
DTEND;TZID=America/Los_Angeles:20251209T193000
DTSTAMP:20260421T183510
CREATED:20251014T065235Z
LAST-MODIFIED:20251119T190330Z
UID:49561-1765303200-1765308600@network.vegas
SUMMARY:TIME MANAGEMENT WITH JH CONSULTANTS
DESCRIPTION:Learn how to maximize your time and productivity with JH Consultants in a fun and interactive workshop!\n\n\nTIME MANAGEMENT WITH JH CONSULTANTS \nJoin us for a dynamic event where JH Consultants will share their top tips and tricks for mastering time management. This in-person event will be held at Muze Office\, offering a comfortable setting to learn and network. Don’t miss this opportunity to boost your productivity and efficiency!
URL:https://network.vegas/calendar/time-management-with-jh-consultants/
LOCATION:Muze Office | Virtual Office | Coworking | Event Venue |\, 6860 Bermuda Road\, #Suite 200\, Las Vegas\, NV\, 89119\, United States
CATEGORIES:Networking
ATTACH;FMTTYPE=image/jpeg:https://network.vegas/wp-content/uploads/2025/11/bb86ea6b24d2734d17f017a61ef812aa.jpg
END:VEVENT
BEGIN:VEVENT
DTSTART;TZID=America/Los_Angeles:20251120T090000
DTEND;TZID=America/Los_Angeles:20251120T103000
DTSTAMP:20260421T183510
CREATED:20251030T191802Z
LAST-MODIFIED:20251119T190330Z
UID:49904-1763629200-1763634600@network.vegas
SUMMARY:LLC ESSENCIALS:BENEFITS & LIMITATIONS OF LLC
DESCRIPTION:Learn all about the benefits and limitations of forming an LLC in this essential workshop!\n\n\nWelcome to the LLC ESSENTIALS: BENEFITS & LIMITATIONS OF LLC event! Are you curious about the perks and drawbacks of forming an LLC? Join us at the Muze Office for an informative session where you’ll learn all about it. This in-person event will cover everything you need to know about LLCs. Don’t miss out on this opportunity to expand your knowledge and make informed decisions for your business. See you there!
URL:https://network.vegas/calendar/llc-essencialsbenefits-limitations-of-llc/
LOCATION:Muze Office | Virtual Office | Coworking | Event Venue |\, 6860 Bermuda Road\, #Suite 200\, Las Vegas\, NV\, 89119\, United States
CATEGORIES:Networking
ATTACH;FMTTYPE=image/jpeg:https://network.vegas/wp-content/uploads/2025/10/ee66041d323f83881b9bd03aa0a62b10.jpg
END:VEVENT
BEGIN:VEVENT
DTSTART;TZID=America/Los_Angeles:20251119T180000
DTEND;TZID=America/Los_Angeles:20251119T193000
DTSTAMP:20260421T183510
CREATED:20251119T190326Z
LAST-MODIFIED:20251119T190326Z
UID:50568-1763575200-1763580600@network.vegas
SUMMARY:FREE LOGO WORKSHOP WITH BIZLY APP TEAM
DESCRIPTION:Join us for a free logo workshop with the Bizly app team – learn how to create your own unique logo in person!\n\n\nJoin us for a FREE LOGO WORKSHOP WITH BIZLY APP TEAM! \nGet ready to unleash your creativity and design skills at this exciting event. Our team of experts from Bizly App will guide you through the process of creating a unique and eye-catching logo for your business or personal brand. \nDon’t miss out on this opportunity to learn from the best in the industry and take your branding to the next level. The workshop will take place at Muze Office | Virtual Office | Coworking | Event Venue\, so mark your calendars and come prepared to get inspired!
URL:https://network.vegas/calendar/free-logo-workshop-with-bizly-app-team/
LOCATION:Muze Office | Virtual Office | Coworking | Event Venue |\, 6860 Bermuda Road\, #Suite 200\, Las Vegas\, NV\, 89119\, United States
CATEGORIES:Networking
ATTACH;FMTTYPE=image/jpeg:https://network.vegas/wp-content/uploads/2025/11/2050a1150b20b51a762d791e23f7dd09.jpg
END:VEVENT
BEGIN:VEVENT
DTSTART;TZID=America/Los_Angeles:20251105T173000
DTEND;TZID=America/Los_Angeles:20251105T190000
DTSTAMP:20260421T183510
CREATED:20250927T004628Z
LAST-MODIFIED:20251030T191801Z
UID:49150-1762363800-1762369200@network.vegas
SUMMARY:TIMELESS WEALTH  WITH MILA ZAYDON
DESCRIPTION:Join us for a day of inspiration and motivation as Mila Zaydon shares her journey from vision to venture!\n\n\nTIMELESS WEALTH WITH MILA ZAYDON \nJoin us at Muze Office on November 5\, 2025 at 5:30 PM Pacific Time for an insightful session with Mila Zaydon. Get ready to unlock the secrets to building wealth that stands the test of time. Whether you’re a seasoned investor or just starting out\, this event is perfect for anyone looking to secure their financial future. Don’t miss out on this opportunity to learn from a true expert!
URL:https://network.vegas/calendar/timeless-wealth-with-mila-zaydon/
LOCATION:Muze Office | Virtual Office | Coworking | Event Venue |\, 6860 Bermuda Road\, #Suite 200\, Las Vegas\, NV\, 89119\, United States
CATEGORIES:Networking
ATTACH;FMTTYPE=image/jpeg:https://network.vegas/wp-content/uploads/2025/10/75c07cabf9a8041ce73ba5cc2fb46bd0.jpg
END:VEVENT
END:VCALENDAR