BEGIN:VCALENDAR
VERSION:2.0
PRODID:-//Network.Vegas - ECPv6.15.20//NONSGML v1.0//EN
CALSCALE:GREGORIAN
METHOD:PUBLISH
X-WR-CALNAME:Network.Vegas
X-ORIGINAL-URL:https://network.vegas
X-WR-CALDESC:Events for Network.Vegas
REFRESH-INTERVAL;VALUE=DURATION:PT1H
X-Robots-Tag:noindex
X-PUBLISHED-TTL:PT1H
BEGIN:VTIMEZONE
TZID:America/Los_Angeles
BEGIN:DAYLIGHT
TZOFFSETFROM:-0800
TZOFFSETTO:-0700
TZNAME:PDT
DTSTART:20250309T100000
END:DAYLIGHT
BEGIN:STANDARD
TZOFFSETFROM:-0700
TZOFFSETTO:-0800
TZNAME:PST
DTSTART:20251102T090000
END:STANDARD
BEGIN:DAYLIGHT
TZOFFSETFROM:-0800
TZOFFSETTO:-0700
TZNAME:PDT
DTSTART:20260308T100000
END:DAYLIGHT
BEGIN:STANDARD
TZOFFSETFROM:-0700
TZOFFSETTO:-0800
TZNAME:PST
DTSTART:20261101T090000
END:STANDARD
BEGIN:DAYLIGHT
TZOFFSETFROM:-0800
TZOFFSETTO:-0700
TZNAME:PDT
DTSTART:20270314T100000
END:DAYLIGHT
BEGIN:STANDARD
TZOFFSETFROM:-0700
TZOFFSETTO:-0800
TZNAME:PST
DTSTART:20271107T090000
END:STANDARD
END:VTIMEZONE
BEGIN:VEVENT
DTSTART;TZID=America/Los_Angeles:20260504T000000
DTEND;TZID=America/Los_Angeles:20260507T000000
DTSTAMP:20260421T055228
CREATED:20260116T182127Z
LAST-MODIFIED:20260116T182127Z
UID:51518-1777852800-1778112000@network.vegas
SUMMARY:Advanced Clean Transportation Expo - ACT Expo
DESCRIPTION:
URL:https://network.vegas/calendar/advanced-clean-transportation-expo-act-expo/
LOCATION:Las Vegas Convention Center\, 3150 Paradise Rd\, Las Vegas\, NV 89109\, United States
ATTACH;FMTTYPE=image/png:https://network.vegas/wp-content/uploads/2026/01/12678-U9GsSk.png
END:VEVENT
BEGIN:VEVENT
DTSTART;TZID=America/Los_Angeles:20260617T000000
DTEND;TZID=America/Los_Angeles:20260619T000000
DTSTAMP:20260421T055228
CREATED:20260116T182152Z
LAST-MODIFIED:20260116T182201Z
UID:51546-1781654400-1781827200@network.vegas
SUMMARY:CANNAONE
DESCRIPTION:
URL:https://network.vegas/calendar/cannaone/
LOCATION:Las Vegas Convention Center\, 3150 Paradise Rd\, Las Vegas\, NV 89109\, United States
CATEGORIES:Convention
ATTACH;FMTTYPE=image/png:https://network.vegas/wp-content/uploads/2026/01/50710-B7F0kO.png
END:VEVENT
BEGIN:VEVENT
DTSTART;TZID=America/Los_Angeles:20261103T000000
DTEND;TZID=America/Los_Angeles:20261106T235959
DTSTAMP:20260421T055228
CREATED:20240812T175417Z
LAST-MODIFIED:20240812T175417Z
UID:39407-1793664000-1794009599@network.vegas
SUMMARY:SEMA Show 2026
DESCRIPTION:The SEMA Show 2026 is set to take place in Las Vegas\, a city renowned for its vibrant events and displays. This premier automotive specialty products trade event will showcase the latest trends\, innovations\, and technologies from industries involved in automotive design\, performance\, and accessories. Held at the Las Vegas Convention Center\, the SEMA Show attracts automotive enthusiasts\, industry professionals\, and businesses from around the globe\, making it a must-attend event for anyone passionate about the automotive world.\nOrganized by the Specialty Equipment Market Association (SEMA)\, the show boasts a diverse audience that includes vehicle manufacturers\, aftermarket suppliers\, online retailers\, and car enthusiasts. With thousands of exhibitors showcasing an extensive range of products—from custom wheels and high-performance parts to innovative technology and vehicle modifications—there is something for everyone. For locals and visitors alike\, the SEMA Show serves as an unparalleled opportunity to explore the cutting-edge advancements shaping the automotive landscape\, create connections within the industry\, and gain insight into the trends that are driving the market. \nOne of the highlights of the SEMA Show is the opportunity to hear from influential speakers and industry leaders during keynotes and educational sessions. Attendees can participate in workshops\, panel discussions\, and networking events that foster collaboration and knowledge-sharing. Additionally\, the event features impressive vehicle displays\, including custom builds\, concept cars\, and vehicles that showcase the latest innovations in design and performance. The vibrant atmosphere and engaging exhibitions promise an unforgettable experience for all who attend. \nAs the excitement builds for SEMA Show 2026\, there’s no better time to secure your attendance. Whether you are a resident of Las Vegas or visiting from out of town\, this event offers countless opportunities to immerse yourself in the automotive community\, discover new products\, and connect with like-minded individuals. Don’t miss out on this chance to be part of the automotive industry’s largest gathering. Get your tickets now and get ready to fuel your passion for automotive innovation!
URL:https://network.vegas/calendar/sema-show-2026/
LOCATION:Las Vegas Convention Center\, 3150 Paradise Rd\, Las Vegas\, NV 89109\, United States
CATEGORIES:Convention
ATTACH;FMTTYPE=image/jpeg:https://network.vegas/wp-content/uploads/2024/08/Convention-Banner.jpg
END:VEVENT
END:VCALENDAR