BEGIN:VCALENDAR
VERSION:2.0
PRODID:-//Network.Vegas - ECPv6.15.20//NONSGML v1.0//EN
CALSCALE:GREGORIAN
METHOD:PUBLISH
X-WR-CALNAME:Network.Vegas
X-ORIGINAL-URL:https://network.vegas
X-WR-CALDESC:Events for Network.Vegas
REFRESH-INTERVAL;VALUE=DURATION:PT1H
X-Robots-Tag:noindex
X-PUBLISHED-TTL:PT1H
BEGIN:VTIMEZONE
TZID:America/Los_Angeles
BEGIN:DAYLIGHT
TZOFFSETFROM:-0800
TZOFFSETTO:-0700
TZNAME:PDT
DTSTART:20230312T100000
END:DAYLIGHT
BEGIN:STANDARD
TZOFFSETFROM:-0700
TZOFFSETTO:-0800
TZNAME:PST
DTSTART:20231105T090000
END:STANDARD
BEGIN:DAYLIGHT
TZOFFSETFROM:-0800
TZOFFSETTO:-0700
TZNAME:PDT
DTSTART:20240310T100000
END:DAYLIGHT
BEGIN:STANDARD
TZOFFSETFROM:-0700
TZOFFSETTO:-0800
TZNAME:PST
DTSTART:20241103T090000
END:STANDARD
BEGIN:DAYLIGHT
TZOFFSETFROM:-0800
TZOFFSETTO:-0700
TZNAME:PDT
DTSTART:20250309T100000
END:DAYLIGHT
BEGIN:STANDARD
TZOFFSETFROM:-0700
TZOFFSETTO:-0800
TZNAME:PST
DTSTART:20251102T090000
END:STANDARD
END:VTIMEZONE
BEGIN:VEVENT
DTSTART;TZID=America/Los_Angeles:20240502T183000
DTEND;TZID=America/Los_Angeles:20240502T203000
DTSTAMP:20260422T202259
CREATED:20240420T105459Z
LAST-MODIFIED:20240420T105502Z
UID:36537-1714674600-1714681800@network.vegas
SUMMARY:NAIOP Mixer & Aviators Game
DESCRIPTION:
URL:https://network.vegas/calendar/naiop-mixer-aviators-game/
LOCATION:Las Vegas Ball Park\, 1650 S Pavilion Drive\, Las Vegas\, 89135
CATEGORIES:Professional Association
ATTACH;FMTTYPE=image/png:https://network.vegas/wp-content/uploads/2021/07/NAIOP-Banner.png
ORGANIZER;CN="NAIOP Southern Nevada Chapter":MAILTO:info@naiopnv.org
END:VEVENT
BEGIN:VEVENT
DTSTART;TZID=America/Los_Angeles:20240428T090000
DTEND;TZID=America/Los_Angeles:20240428T113000
DTSTAMP:20260422T202259
CREATED:20240420T103326Z
LAST-MODIFIED:20240420T103329Z
UID:36509-1714294800-1714303800@network.vegas
SUMMARY:AFAN AIDS Walk 2024
DESCRIPTION:Join Team Lambda and walk for a healthier community. Join thousands of attendees who walk to raise funds and awareness in support of Southern Nevadans infected and/or affected by HIV/AIDS. This is one of the most significant fundraising events in the state of Nevada to support the fight against AIDS.
URL:https://network.vegas/calendar/afan-aids-walk-2024/
LOCATION:Las Vegas Ball Park\, 1650 S Pavilion Drive\, Las Vegas\, 89135
CATEGORIES:Fundraiser/ Benefit
ATTACH;FMTTYPE=image/jpeg:https://network.vegas/wp-content/uploads/2022/01/lambda-banner.jpg
ORGANIZER;CN="LambdaBusinessAssociation":MAILTO:paul@lambdalv.com
END:VEVENT
END:VCALENDAR