BEGIN:VCALENDAR
VERSION:2.0
PRODID:-//Network.Vegas - ECPv6.15.20//NONSGML v1.0//EN
CALSCALE:GREGORIAN
METHOD:PUBLISH
X-WR-CALNAME:Network.Vegas
X-ORIGINAL-URL:https://network.vegas
X-WR-CALDESC:Events for Network.Vegas
REFRESH-INTERVAL;VALUE=DURATION:PT1H
X-Robots-Tag:noindex
X-PUBLISHED-TTL:PT1H
BEGIN:VTIMEZONE
TZID:America/Los_Angeles
BEGIN:DAYLIGHT
TZOFFSETFROM:-0800
TZOFFSETTO:-0700
TZNAME:PDT
DTSTART:20250309T100000
END:DAYLIGHT
BEGIN:STANDARD
TZOFFSETFROM:-0700
TZOFFSETTO:-0800
TZNAME:PST
DTSTART:20251102T090000
END:STANDARD
BEGIN:DAYLIGHT
TZOFFSETFROM:-0800
TZOFFSETTO:-0700
TZNAME:PDT
DTSTART:20260308T100000
END:DAYLIGHT
BEGIN:STANDARD
TZOFFSETFROM:-0700
TZOFFSETTO:-0800
TZNAME:PST
DTSTART:20261101T090000
END:STANDARD
BEGIN:DAYLIGHT
TZOFFSETFROM:-0800
TZOFFSETTO:-0700
TZNAME:PDT
DTSTART:20270314T100000
END:DAYLIGHT
BEGIN:STANDARD
TZOFFSETFROM:-0700
TZOFFSETTO:-0800
TZNAME:PST
DTSTART:20271107T090000
END:STANDARD
END:VTIMEZONE
BEGIN:VEVENT
DTSTART;TZID=America/Los_Angeles:20260421T000000
DTEND;TZID=America/Los_Angeles:20260423T235959
DTSTAMP:20260425T072635
CREATED:20260228T102328Z
LAST-MODIFIED:20260228T102331Z
UID:52286-1776729600-1776988799@network.vegas
SUMMARY:The Great Place To Work® For All Summit™
DESCRIPTION:The Great Place To Work For All Summit is a premier leadership event focused on accelerating business performance through workplace culture. Scheduled for April 21 to 23\, 2026\, at the Las Vegas Hilton at Resorts World\, the summit brings together over 2\,000 forward thinking leaders to share high trust\, high performance strategies. Attendees gain insider access to the practices of the world’s most admired companies through keynote speakers\, executive leader experiences\, and tailored sessions for employee resource groups. The program is designed to provide actionable insights for inspiring trust\, reducing turnover\, and driving growth across all levels of an organization.
URL:https://network.vegas/calendar/the-great-place-to-work-for-all-summit/
LOCATION:Hilton Garden Inn Las Vegas City Center\, 4655 Dean Martin Dr Las Vegas\, NV 89103\, Las Vegas
CATEGORIES:Convention,Networking
ATTACH;FMTTYPE=image/png:https://network.vegas/wp-content/uploads/2026/02/image-11-scaled.png
END:VEVENT
END:VCALENDAR