BEGIN:VCALENDAR
VERSION:2.0
PRODID:-//Network.Vegas - ECPv6.15.20//NONSGML v1.0//EN
CALSCALE:GREGORIAN
METHOD:PUBLISH
X-WR-CALNAME:Network.Vegas
X-ORIGINAL-URL:https://network.vegas
X-WR-CALDESC:Events for Network.Vegas
REFRESH-INTERVAL;VALUE=DURATION:PT1H
X-Robots-Tag:noindex
X-PUBLISHED-TTL:PT1H
BEGIN:VTIMEZONE
TZID:America/Los_Angeles
BEGIN:DAYLIGHT
TZOFFSETFROM:-0800
TZOFFSETTO:-0700
TZNAME:PDT
DTSTART:20260308T100000
END:DAYLIGHT
BEGIN:STANDARD
TZOFFSETFROM:-0700
TZOFFSETTO:-0800
TZNAME:PST
DTSTART:20261101T090000
END:STANDARD
BEGIN:DAYLIGHT
TZOFFSETFROM:-0800
TZOFFSETTO:-0700
TZNAME:PDT
DTSTART:20270314T100000
END:DAYLIGHT
BEGIN:STANDARD
TZOFFSETFROM:-0700
TZOFFSETTO:-0800
TZNAME:PST
DTSTART:20271107T090000
END:STANDARD
BEGIN:DAYLIGHT
TZOFFSETFROM:-0800
TZOFFSETTO:-0700
TZNAME:PDT
DTSTART:20280312T100000
END:DAYLIGHT
BEGIN:STANDARD
TZOFFSETFROM:-0700
TZOFFSETTO:-0800
TZNAME:PST
DTSTART:20281105T090000
END:STANDARD
END:VTIMEZONE
BEGIN:VEVENT
DTSTART;TZID=America/Los_Angeles:20270724T000000
DTEND;TZID=America/Los_Angeles:20270731T235959
DTSTAMP:20260424T212227
CREATED:20240812T175005Z
LAST-MODIFIED:20250507T172925Z
UID:39284-1816387200-1817078399@network.vegas
SUMMARY:Central Showcase 2027
DESCRIPTION:Central Showcase 2027 is set to bring together industry leaders\, innovators\, and key players from the natural and organic product sectors. Taking place in the vibrant city of Las Vegas\, this event promises to be an essential gathering for anyone interested in the future of food distribution and retail. With its engaging atmosphere and focus on sustainability and health\, the Central Showcase offers a unique platform for networking\, education\, and inspiration.\nOrganized by UNFI\, a leading wholesale distributor of natural and organic foods\, the Central Showcase typically attracts retailers\, suppliers\, and industry professionals from across the nation. Whether you’re a local business owner seeking new partnerships or a visitor eager to learn about the latest trends in the natural products industry\, this event presents a valuable opportunity for both personal and professional growth. Las Vegas residents and tourists alike will find that the Central Showcase is not just an event but an experience that allows them to connect with like-minded individuals and broaden their horizons.\n\nOne of the standout features of the Central Showcase is its impressive lineup of keynote speakers and panel discussions\, featuring experts who are shaping the future of the industry. Attendees can look forward to insights into market trends\, consumer preferences\, and innovative strategies that are driving change. Additionally\, the event often includes interactive workshops and product showcases\, where participants can sample new products and discover cutting-edge solutions that enhance their business practices.\n\nWhether you are a local Las Vegas resident or a visitor exploring the city\, attending the Central Showcase 2027 is an opportunity you won’t want to miss. Engaging with industry leaders and fellow enthusiasts will provide you with invaluable knowledge and connections that can benefit your career or business. Don’t wait any longer; visit the event website and secure your tickets now to ensure you are part of this exciting event that is set to shape the future of natural and organic products.
URL:https://network.vegas/calendar/central-showcase-2027/
LOCATION:Harrah’s Las Vegas\, 3475 South Las Vegas Boulevard Las Vegas\, NV 89109 United States\, Las Vegas
CATEGORIES:Convention
ATTACH;FMTTYPE=image/jpeg:https://network.vegas/wp-content/uploads/2024/08/Convention-Banner.jpg
END:VEVENT
END:VCALENDAR