BEGIN:VCALENDAR
VERSION:2.0
PRODID:-//Network.Vegas - ECPv6.15.20//NONSGML v1.0//EN
CALSCALE:GREGORIAN
METHOD:PUBLISH
X-WR-CALNAME:Network.Vegas
X-ORIGINAL-URL:https://network.vegas
X-WR-CALDESC:Events for Network.Vegas
REFRESH-INTERVAL;VALUE=DURATION:PT1H
X-Robots-Tag:noindex
X-PUBLISHED-TTL:PT1H
BEGIN:VTIMEZONE
TZID:America/Los_Angeles
BEGIN:DAYLIGHT
TZOFFSETFROM:-0800
TZOFFSETTO:-0700
TZNAME:PDT
DTSTART:20240310T100000
END:DAYLIGHT
BEGIN:STANDARD
TZOFFSETFROM:-0700
TZOFFSETTO:-0800
TZNAME:PST
DTSTART:20241103T090000
END:STANDARD
BEGIN:DAYLIGHT
TZOFFSETFROM:-0800
TZOFFSETTO:-0700
TZNAME:PDT
DTSTART:20250309T100000
END:DAYLIGHT
BEGIN:STANDARD
TZOFFSETFROM:-0700
TZOFFSETTO:-0800
TZNAME:PST
DTSTART:20251102T090000
END:STANDARD
BEGIN:DAYLIGHT
TZOFFSETFROM:-0800
TZOFFSETTO:-0700
TZNAME:PDT
DTSTART:20260308T100000
END:DAYLIGHT
BEGIN:STANDARD
TZOFFSETFROM:-0700
TZOFFSETTO:-0800
TZNAME:PST
DTSTART:20261101T090000
END:STANDARD
END:VTIMEZONE
BEGIN:VEVENT
DTSTART;TZID=America/Los_Angeles:20250926T080000
DTEND;TZID=America/Los_Angeles:20250926T180000
DTSTAMP:20260422T075330
CREATED:20250912T123420Z
LAST-MODIFIED:20250912T123420Z
UID:48877-1758873600-1758909600@network.vegas
SUMMARY:Be You Brand LIVE! Business Event for Coaches\, Service providers & Creators
DESCRIPTION:3 Day -Personal Branding \, Marketing and sales MEETS spirituality and inner work for women rising -September 25th-27th\, 2025
URL:https://network.vegas/calendar/be-you-brand-live-business-event-for-coaches-service-providers-creators-2/
LOCATION:Downtown Grand Hotel & Casino\, 206 North 3rd Street\, Las Vegas\, NV\, 89101\, United States
CATEGORIES:Las Vegas Business
ATTACH;FMTTYPE=image/jpeg:https://network.vegas/wp-content/uploads/2025/09/7656b84ed08d672ddc6da3d83634196f.jpg
END:VEVENT
BEGIN:VEVENT
DTSTART;TZID=America/Los_Angeles:20250925T173000
DTEND;TZID=America/Los_Angeles:20250925T200000
DTSTAMP:20260422T075330
CREATED:20250912T123418Z
LAST-MODIFIED:20250912T123418Z
UID:48875-1758821400-1758830400@network.vegas
SUMMARY:Be You Brand LIVE! Business Event for Coaches\, Service providers & Creators
DESCRIPTION:3 Day -Personal Branding \, Marketing and sales MEETS spirituality and inner work for women rising -September 25th-27th\, 2025
URL:https://network.vegas/calendar/be-you-brand-live-business-event-for-coaches-service-providers-creators/
LOCATION:Downtown Grand Hotel & Casino\, 206 North 3rd Street\, Las Vegas\, NV\, 89101\, United States
CATEGORIES:Las Vegas Business
ATTACH;FMTTYPE=image/jpeg:https://network.vegas/wp-content/uploads/2025/09/7656b84ed08d672ddc6da3d83634196f.jpg
END:VEVENT
END:VCALENDAR