BEGIN:VCALENDAR
VERSION:2.0
PRODID:-//Network.Vegas - ECPv6.15.20//NONSGML v1.0//EN
CALSCALE:GREGORIAN
METHOD:PUBLISH
X-WR-CALNAME:Network.Vegas
X-ORIGINAL-URL:https://network.vegas
X-WR-CALDESC:Events for Network.Vegas
REFRESH-INTERVAL;VALUE=DURATION:PT1H
X-Robots-Tag:noindex
X-PUBLISHED-TTL:PT1H
BEGIN:VTIMEZONE
TZID:America/Los_Angeles
BEGIN:DAYLIGHT
TZOFFSETFROM:-0800
TZOFFSETTO:-0700
TZNAME:PDT
DTSTART:20250309T100000
END:DAYLIGHT
BEGIN:STANDARD
TZOFFSETFROM:-0700
TZOFFSETTO:-0800
TZNAME:PST
DTSTART:20251102T090000
END:STANDARD
BEGIN:DAYLIGHT
TZOFFSETFROM:-0800
TZOFFSETTO:-0700
TZNAME:PDT
DTSTART:20260308T100000
END:DAYLIGHT
BEGIN:STANDARD
TZOFFSETFROM:-0700
TZOFFSETTO:-0800
TZNAME:PST
DTSTART:20261101T090000
END:STANDARD
BEGIN:DAYLIGHT
TZOFFSETFROM:-0800
TZOFFSETTO:-0700
TZNAME:PDT
DTSTART:20270314T100000
END:DAYLIGHT
BEGIN:STANDARD
TZOFFSETFROM:-0700
TZOFFSETTO:-0800
TZNAME:PST
DTSTART:20271107T090000
END:STANDARD
END:VTIMEZONE
BEGIN:VEVENT
DTSTART;TZID=America/Los_Angeles:20260503T140000
DTEND;TZID=America/Los_Angeles:20260503T170000
DTSTAMP:20260424T161621
CREATED:20260307T174315Z
LAST-MODIFIED:20260307T174324Z
UID:52361-1777816800-1777827600@network.vegas
SUMMARY:Dinking for a Difference: S.A.F.E. House Pickleball Tournament
DESCRIPTION:Dinking for a Difference: Benefiting S.A.F.E. House in Henderson! \n\nJoin us for Dinking for a Difference\, an exciting pickleball tournament at Chicken N Pickle! Teams will compete for prizes and bragging rights\, and guests can take part in a raffle featuring great prizes. Whether you’re playing on the court or cheering from the sidelines\, this event promises fun\, friendly competition\, and a meaningful way to support families in our community. \n\nTournament Participant tickets are $100 per person while Spectator tickets are $50 per person. All ticket holders will receive an exclusive event-branded t-shirt and food as part of their registration. Proceeds from the tournament will benefit S.A.F.E. House and help provide safety\, shelter\, and supportive services to survivors of domestic violence and their children.  \n\nS.A.F.E. House is a community based non-profit organization committed to Stop Abuse in the Family Environment by providing a comprehensive approach to end domestic violence that includes crisis intervention\, safe shelter\, counseling\, advocacy\, and community education. If you are someone you know is a victim of domestic violence\, please call our 24/7 crisis hotline at 702-564-3227. To learn more about S.A.F.E. House and its services\, visit www.safehousenv.org.
URL:https://network.vegas/calendar/dinking-for-a-difference-s-a-f-e-house-pickleball-tournament/
LOCATION:Chicken N Pickle Henderson\, 3381 St. Rose Parkway\, Henderson\, NV\, 89052\, United States
CATEGORIES:Community,Fundraiser/ Benefit,Sports & Esports
ATTACH;FMTTYPE=image/png:https://network.vegas/wp-content/uploads/2026/03/Pickleball-Fireball.png
ORGANIZER;CN="S.A.F.E House":MAILTO:bethf@safehousenv.org
END:VEVENT
END:VCALENDAR