BEGIN:VCALENDAR
VERSION:2.0
PRODID:-//Network.Vegas - ECPv6.15.20//NONSGML v1.0//EN
CALSCALE:GREGORIAN
METHOD:PUBLISH
X-WR-CALNAME:Network.Vegas
X-ORIGINAL-URL:https://network.vegas
X-WR-CALDESC:Events for Network.Vegas
REFRESH-INTERVAL;VALUE=DURATION:PT1H
X-Robots-Tag:noindex
X-PUBLISHED-TTL:PT1H
BEGIN:VTIMEZONE
TZID:America/Los_Angeles
BEGIN:DAYLIGHT
TZOFFSETFROM:-0800
TZOFFSETTO:-0700
TZNAME:PDT
DTSTART:20250309T100000
END:DAYLIGHT
BEGIN:STANDARD
TZOFFSETFROM:-0700
TZOFFSETTO:-0800
TZNAME:PST
DTSTART:20251102T090000
END:STANDARD
BEGIN:DAYLIGHT
TZOFFSETFROM:-0800
TZOFFSETTO:-0700
TZNAME:PDT
DTSTART:20260308T100000
END:DAYLIGHT
BEGIN:STANDARD
TZOFFSETFROM:-0700
TZOFFSETTO:-0800
TZNAME:PST
DTSTART:20261101T090000
END:STANDARD
BEGIN:DAYLIGHT
TZOFFSETFROM:-0800
TZOFFSETTO:-0700
TZNAME:PDT
DTSTART:20270314T100000
END:DAYLIGHT
BEGIN:STANDARD
TZOFFSETFROM:-0700
TZOFFSETTO:-0800
TZNAME:PST
DTSTART:20271107T090000
END:STANDARD
END:VTIMEZONE
BEGIN:VEVENT
DTSTART;TZID=America/Los_Angeles:20260207T130000
DTEND;TZID=America/Los_Angeles:20260207T160000
DTSTAMP:20260424T173218
CREATED:20260129T230018Z
LAST-MODIFIED:20260129T230018Z
UID:51798-1770469200-1770480000@network.vegas
SUMMARY:End Polio Now Pickleball Event
DESCRIPTION:Often\, we are asked to give to causes that feel important—but distant. Ending polio is different. For the first time in history\, we are on the brink of eradicating a disease from the face of the earth\, and Rotary has led the charge every step of the way.  Now is the moment to finish what we started! \nYou are invited to join us for an exciting and meaningful End Polio Now Pickleball Event at Chicken N Pickle\, where community\, connection\, and purpose come together for one powerful goal: a polio-free world. \nWhether you play pickleball or simply come to cheer and connect\, your participation helps move us closer to a history-making impact. Together\, we can help ensure that polio is eradicated—forever. \nThis event is open to the public. We hope to see you on the court!
URL:https://network.vegas/calendar/end-polio-now-pickleball-event/
LOCATION:Chicken N Pickle Henderson\, 3381 St. Rose Parkway\, Henderson\, NV\, 89052\, United States
CATEGORIES:Community
ATTACH;FMTTYPE=image/png:https://network.vegas/wp-content/uploads/2026/01/Pickleball-Polio-Flyer-D1Omet.png
END:VEVENT
END:VCALENDAR