BEGIN:VCALENDAR
VERSION:2.0
PRODID:-//Network.Vegas - ECPv6.15.20//NONSGML v1.0//EN
CALSCALE:GREGORIAN
METHOD:PUBLISH
X-WR-CALNAME:Network.Vegas
X-ORIGINAL-URL:https://network.vegas
X-WR-CALDESC:Events for Network.Vegas
REFRESH-INTERVAL;VALUE=DURATION:PT1H
X-Robots-Tag:noindex
X-PUBLISHED-TTL:PT1H
BEGIN:VTIMEZONE
TZID:America/Los_Angeles
BEGIN:DAYLIGHT
TZOFFSETFROM:-0800
TZOFFSETTO:-0700
TZNAME:PDT
DTSTART:20230312T100000
END:DAYLIGHT
BEGIN:STANDARD
TZOFFSETFROM:-0700
TZOFFSETTO:-0800
TZNAME:PST
DTSTART:20231105T090000
END:STANDARD
BEGIN:DAYLIGHT
TZOFFSETFROM:-0800
TZOFFSETTO:-0700
TZNAME:PDT
DTSTART:20240310T100000
END:DAYLIGHT
BEGIN:STANDARD
TZOFFSETFROM:-0700
TZOFFSETTO:-0800
TZNAME:PST
DTSTART:20241103T090000
END:STANDARD
BEGIN:DAYLIGHT
TZOFFSETFROM:-0800
TZOFFSETTO:-0700
TZNAME:PDT
DTSTART:20250309T100000
END:DAYLIGHT
BEGIN:STANDARD
TZOFFSETFROM:-0700
TZOFFSETTO:-0800
TZNAME:PST
DTSTART:20251102T090000
END:STANDARD
END:VTIMEZONE
BEGIN:VEVENT
DTSTART;TZID=America/Los_Angeles:20241212T100000
DTEND;TZID=America/Los_Angeles:20241212T210000
DTSTAMP:20260422T025334
CREATED:20241120T025911Z
LAST-MODIFIED:20241120T025911Z
UID:42669-1733997600-1734037200@network.vegas
SUMMARY:Las Vegas Investor Conference
DESCRIPTION:This 1-Day Investor conference will bring together industry leaders\, innovators\, investors\, and global investing opportunities.\n\n\nLas Vegas Investor ConferenceDecember 12\, 2024 | Private Celebrity MansionConnecting Visionary Investors with Next-Gen OpportunitiesJoin 500+ investors for an exclusive\, one-day gathering showcasing cutting-edge investment opportunities across sectors like AI\, Blockchain\, Cannabis\, Consumer Products\, Longevity\, Medtech\, Real Estate\, and Sports Tech.Held in an iconic private mansion\, this event is designed to connect accredited investors\, venture capitalists\, private equity firms\, family offices\, and other high-net-worth individuals with a curated lineup of presenting companies and entrepreneurs actively raising capital.Event DetailsThe Las Vegas Investor Conference is a 1 – Day in person and live webinar conference co-hosted by the Global Capital Network\, Medtech Investing Forum\, Marketing Completion Fund\, Mission Matters\, StartupStarter and the Big Idea CONNECTpreneur Forum.Date: December 12\, 2024Time: 10 AM – 9 PM PDTFormat: In-Person & Virtual WebinarLocation: Celebrity Private Mansion\, Las Vegas\, NVAgenda Highlights \n\nMorning Sessions In Person\n(10 AM – 12 PM): Registration\, Breakfast\, Private Investor Networking​\nSector-Specific Showcases:\n10 AM – 12 PM: Virtual Webinar Only – All Industries\n12 PM – 3 PM: Longevity & Medtech Innovations\n3 PM – 9 PM: AI\, Blockchain\, Cannabis\, Consumer Products\, Real Estate\, and Sports Tech\n\nInvestor Access: Explore potential deals through company showcases\, direct access to founders\, and exclusive booth discussions with sector leaders.Why Attend?Access High-Quality Deal Flow – This is where innovation meets investment. From early-stage startups to established companies\, the presenting firms are positioned to drive the future of their industries\, offering you exclusive insight and access.Networking & Deal-Making – Meet like-minded investors\, connect with founders\, and get involved in groundbreaking ventures. The event offers multiple opportunities for one-on-one discussions and sector-focused presentations.For Accredited Investors Only – Attendance is complimentary for verified accredited investors\, with limited availability to ensure an intimate\, high-impact experience.Opportunities to Participate – Click Link \n\nSpeakers\nPresenting Companies Raising Capital\nInvestor Judges\nSponsors\nExhibitors\nVIP Gift Bag Product and Marketing Material Distribution\nMarketing / Media Partners\nVolunteers\n\nTickets on Sale \n\n$199 – VIP Conference Ticket – Includes Conference / Exhibitors / Meals / Drinks / 1 VIP Gift Bag / VIP Party\n$149 – General Admission – Includes Conference / Exhibitors / Meals / Drinks / VIP Party\n$99 – General Admission – Includes Conference / Exhibitors / Meals\nAccredited Investor – Apply for Complimentary Tickets – Click Link\n​Free Zoom Webinar Registration – Click Link\n\nParticipation Pricing \n\n$15000 – Event Sponsor / Speaker / Panel / Presenting Company Raising Capital – 25 Minutes / Exhibitor Table / VIP Gift Bag Distribution / Event Signage / Edited Video / Article / Podcast Interview / 200 Investor Leads\n$10000 – Speaker / Panel / Presenting Company Raising Capital – 20 Minutes / Exhibitor Table / VIP Gift Bag Distribution / Edited Video / Article / Podcast Interview / 100 Investor Leads\n$5000 – Speaker / Panel / Presenting Company Raising Capital – 18 Minutes / Exhibitor Table / VIP Gift Bag Distribution / Edited Video / Article / Podcast Interview / 50 Investor Leads\n$3500 – Speaker / Panel / Presenting Company Raising Capital – 18 Minutes / Exhibitor Table / VIP Gift Bag Distribution / Edited Video / Article / Podcast Interview\n$3000 – Speaker / Panel / Presenting Company Raising Capital – 12 Minutes / Exhibitor Table / VIP Gift Bag Distribution / Article / Podcast Interview\n$2500 – Speaker / Panel / Presenting Company Raising Capital – 12 Minutes / VIP Gift Bag Distribution / Article / Podcast Interview\n$1000 – StartUp Fast Pitch Competition to Investor Judges – 5 Minute / Exhibitor Table\n$1500 – Exhibitor Table\n$500 – VIP Gift Bag Product and Marketing Material Distribution – 200 Items\n$1000 – Edited Speaker Video\n$500 – Podcast Interview
URL:https://network.vegas/calendar/las-vegas-investor-conference/
LOCATION:Celebrity Private Mansion\, to be provided\, Las Vegas\, NV\, 89120\, United States
CATEGORIES:Technology
ATTACH;FMTTYPE=image/jpeg:https://network.vegas/wp-content/uploads/2024/11/55dac490fb48e7a6f2374e93e8669ddb.jpg
END:VEVENT
END:VCALENDAR