BEGIN:VCALENDAR
VERSION:2.0
PRODID:-//Network.Vegas - ECPv6.15.20//NONSGML v1.0//EN
CALSCALE:GREGORIAN
METHOD:PUBLISH
X-ORIGINAL-URL:https://network.vegas
X-WR-CALDESC:Events for Network.Vegas
REFRESH-INTERVAL;VALUE=DURATION:PT1H
X-Robots-Tag:noindex
X-PUBLISHED-TTL:PT1H
BEGIN:VTIMEZONE
TZID:America/Los_Angeles
BEGIN:DAYLIGHT
TZOFFSETFROM:-0800
TZOFFSETTO:-0700
TZNAME:PDT
DTSTART:20240310T100000
END:DAYLIGHT
BEGIN:STANDARD
TZOFFSETFROM:-0700
TZOFFSETTO:-0800
TZNAME:PST
DTSTART:20241103T090000
END:STANDARD
BEGIN:DAYLIGHT
TZOFFSETFROM:-0800
TZOFFSETTO:-0700
TZNAME:PDT
DTSTART:20250309T100000
END:DAYLIGHT
BEGIN:STANDARD
TZOFFSETFROM:-0700
TZOFFSETTO:-0800
TZNAME:PST
DTSTART:20251102T090000
END:STANDARD
BEGIN:DAYLIGHT
TZOFFSETFROM:-0800
TZOFFSETTO:-0700
TZNAME:PDT
DTSTART:20260308T100000
END:DAYLIGHT
BEGIN:STANDARD
TZOFFSETFROM:-0700
TZOFFSETTO:-0800
TZNAME:PST
DTSTART:20261101T090000
END:STANDARD
END:VTIMEZONE
BEGIN:VEVENT
DTSTART;TZID=America/Los_Angeles:20251005T080000
DTEND;TZID=America/Los_Angeles:20251007T170000
DTSTAMP:20260420T004713
CREATED:20250723T225653Z
LAST-MODIFIED:20250723T232301Z
UID:47633-1759651200-1759856400@network.vegas
SUMMARY:BPCON 2025 Las Vegas
DESCRIPTION:BiggerPockets Conference (BPCON2025) will take over Caesars Palace in Las Vegas from October 5–7\, 2025. It’s a three-day deep dive into real‑estate investing featuring 50+ expert speakers\, breakout sessions\, hands‑on workshops\, evening networking socials\, author signings\, and podcast meet‑and‑greets—all designed to deliver actionable strategies that are working in today’s market instagram.com+8get.biggerpockets.com+8biggerpockets.com+8. Whether you’re just starting out or managing a multi‑million‑dollar portfolio\, BPCON2025 is your chance to build wealth\, expand your network\, and leave with a strategic plan—no fluff\, no theory. This is your opportunity to learn from active investors\, gain practical tools\, and connect with a community of more than 2\,000+ attendees who are all closing real deals get.biggerpockets.com+1biggerpockets.com+1.
URL:https://network.vegas/calendar/bpcon-2025-las-vegas/
LOCATION:Caesars Palace – Milano Ballroom\, 3570 S. Las Vegas Blvd.\, Las Vegas\, 89109\, United States
CATEGORIES:Convention,Networking
ATTACH;FMTTYPE=image/png:https://network.vegas/wp-content/uploads/2025/07/image-11.png
GEO:36.1162194;-115.1745719
X-APPLE-STRUCTURED-LOCATION;VALUE=URI;X-ADDRESS=Caesars Palace – Milano Ballroom 3570 S. Las Vegas Blvd. Las Vegas 89109 United States;X-APPLE-RADIUS=500;X-TITLE=3570 S. Las Vegas Blvd.:geo:-115.1745719,36.1162194
END:VEVENT
END:VCALENDAR