BEGIN:VCALENDAR
VERSION:2.0
PRODID:-//Network.Vegas - ECPv6.15.20//NONSGML v1.0//EN
CALSCALE:GREGORIAN
METHOD:PUBLISH
X-ORIGINAL-URL:https://network.vegas
X-WR-CALDESC:Events for Network.Vegas
REFRESH-INTERVAL;VALUE=DURATION:PT1H
X-Robots-Tag:noindex
X-PUBLISHED-TTL:PT1H
BEGIN:VTIMEZONE
TZID:America/Los_Angeles
BEGIN:DAYLIGHT
TZOFFSETFROM:-0800
TZOFFSETTO:-0700
TZNAME:PDT
DTSTART:20240310T100000
END:DAYLIGHT
BEGIN:STANDARD
TZOFFSETFROM:-0700
TZOFFSETTO:-0800
TZNAME:PST
DTSTART:20241103T090000
END:STANDARD
BEGIN:DAYLIGHT
TZOFFSETFROM:-0800
TZOFFSETTO:-0700
TZNAME:PDT
DTSTART:20250309T100000
END:DAYLIGHT
BEGIN:STANDARD
TZOFFSETFROM:-0700
TZOFFSETTO:-0800
TZNAME:PST
DTSTART:20251102T090000
END:STANDARD
BEGIN:DAYLIGHT
TZOFFSETFROM:-0800
TZOFFSETTO:-0700
TZNAME:PDT
DTSTART:20260308T100000
END:DAYLIGHT
BEGIN:STANDARD
TZOFFSETFROM:-0700
TZOFFSETTO:-0800
TZNAME:PST
DTSTART:20261101T090000
END:STANDARD
END:VTIMEZONE
BEGIN:VEVENT
DTSTART;TZID=America/Los_Angeles:20251107T120000
DTEND;TZID=America/Los_Angeles:20251107T130000
DTSTAMP:20260424T034228
CREATED:20251025T073534Z
LAST-MODIFIED:20251103T193930Z
UID:49787-1762516800-1762520400@network.vegas
SUMMARY:Ribbon Cutting: Boot Barn
DESCRIPTION:Come join Boot Barn for their Ribbon Cutting celebration!  \n\n\n\nRibbon Cutting at: 12:30 PM \n\n\n\nGeneral Public & Chamber Members Welcome! Limit: 100 \n\n\n\nLight bites and refreshments will be served.  \n\n\n\nFor questions\, please email Art Goldberg\, Agoldberg@vegaschamber.com
URL:https://network.vegas/calendar/ribbon-cutting-boot-barn-3/
LOCATION:Boot Barn Nellis\, 5001 E Bonanza Rd Las Vegas\, NV 89110\, Las Vegas
CATEGORIES:Networking
END:VEVENT
END:VCALENDAR