BEGIN:VCALENDAR
VERSION:2.0
PRODID:-//Network.Vegas - ECPv6.15.20//NONSGML v1.0//EN
CALSCALE:GREGORIAN
METHOD:PUBLISH
X-ORIGINAL-URL:https://network.vegas
X-WR-CALDESC:Events for Network.Vegas
REFRESH-INTERVAL;VALUE=DURATION:PT1H
X-Robots-Tag:noindex
X-PUBLISHED-TTL:PT1H
BEGIN:VTIMEZONE
TZID:America/Los_Angeles
BEGIN:DAYLIGHT
TZOFFSETFROM:-0800
TZOFFSETTO:-0700
TZNAME:PDT
DTSTART:20230312T100000
END:DAYLIGHT
BEGIN:STANDARD
TZOFFSETFROM:-0700
TZOFFSETTO:-0800
TZNAME:PST
DTSTART:20231105T090000
END:STANDARD
BEGIN:DAYLIGHT
TZOFFSETFROM:-0800
TZOFFSETTO:-0700
TZNAME:PDT
DTSTART:20240310T100000
END:DAYLIGHT
BEGIN:STANDARD
TZOFFSETFROM:-0700
TZOFFSETTO:-0800
TZNAME:PST
DTSTART:20241103T090000
END:STANDARD
BEGIN:DAYLIGHT
TZOFFSETFROM:-0800
TZOFFSETTO:-0700
TZNAME:PDT
DTSTART:20250309T100000
END:DAYLIGHT
BEGIN:STANDARD
TZOFFSETFROM:-0700
TZOFFSETTO:-0800
TZNAME:PST
DTSTART:20251102T090000
END:STANDARD
BEGIN:DAYLIGHT
TZOFFSETFROM:-0800
TZOFFSETTO:-0700
TZNAME:PDT
DTSTART:20260308T100000
END:DAYLIGHT
BEGIN:STANDARD
TZOFFSETFROM:-0700
TZOFFSETTO:-0800
TZNAME:PST
DTSTART:20261101T090000
END:STANDARD
END:VTIMEZONE
BEGIN:VEVENT
DTSTART;TZID=America/Los_Angeles:20250513T080000
DTEND;TZID=America/Los_Angeles:20250513T080000
DTSTAMP:20260421T111615
CREATED:20250304T031204Z
LAST-MODIFIED:20250505T160252Z
UID:44626-1747123200-1747123200@network.vegas
SUMMARY:Caffeine & Connections
DESCRIPTION:Join us for a casual networking event over coffee! Meet\, mingle\, and connect with professionals in a relaxed setting. Come for the coffee\, stay for the conversations! If you have any questions\, please email Dalton Schneitter at dschneitter@vegaschamber.com
URL:https://network.vegas/calendar/caffeine-connections-13/
LOCATION:BODY20 Las Vegas\, 4280 S Hualapai Way Ste 106 Las Vegas\, NV 89147\, Las Vegas\, NV\, United States
CATEGORIES:Chamber,Las Vegas Business,Networking
END:VEVENT
BEGIN:VEVENT
DTSTART;TZID=America/Los_Angeles:20241008T080000
DTEND;TZID=America/Los_Angeles:20241008T080000
DTSTAMP:20260421T111615
CREATED:20241018T192555Z
LAST-MODIFIED:20241018T203447Z
UID:41898-1728374400-1728374400@network.vegas
SUMMARY:Caffeine & Connections
DESCRIPTION:Join us for a casual networking event over coffee! Meet\, mingle\, and connect with professionals in a relaxed setting.
URL:https://network.vegas/calendar/caffeine-connections-3/
LOCATION:BODY20 Las Vegas\, 4280 S Hualapai Way Ste 106 Las Vegas\, NV 89147\, Las Vegas\, NV\, United States
CATEGORIES:Chamber,Las Vegas Business,Networking
ATTACH;FMTTYPE=image/png:https://network.vegas/wp-content/uploads/2024/09/tmp_16232_8-13-2024_13941_.png
END:VEVENT
END:VCALENDAR