BEGIN:VCALENDAR
VERSION:2.0
PRODID:-//Network.Vegas - ECPv6.15.20//NONSGML v1.0//EN
CALSCALE:GREGORIAN
METHOD:PUBLISH
X-ORIGINAL-URL:https://network.vegas
X-WR-CALDESC:Events for Network.Vegas
REFRESH-INTERVAL;VALUE=DURATION:PT1H
X-Robots-Tag:noindex
X-PUBLISHED-TTL:PT1H
BEGIN:VTIMEZONE
TZID:America/Los_Angeles
BEGIN:DAYLIGHT
TZOFFSETFROM:-0800
TZOFFSETTO:-0700
TZNAME:PDT
DTSTART:20250309T100000
END:DAYLIGHT
BEGIN:STANDARD
TZOFFSETFROM:-0700
TZOFFSETTO:-0800
TZNAME:PST
DTSTART:20251102T090000
END:STANDARD
BEGIN:DAYLIGHT
TZOFFSETFROM:-0800
TZOFFSETTO:-0700
TZNAME:PDT
DTSTART:20260308T100000
END:DAYLIGHT
BEGIN:STANDARD
TZOFFSETFROM:-0700
TZOFFSETTO:-0800
TZNAME:PST
DTSTART:20261101T090000
END:STANDARD
BEGIN:DAYLIGHT
TZOFFSETFROM:-0800
TZOFFSETTO:-0700
TZNAME:PDT
DTSTART:20270314T100000
END:DAYLIGHT
BEGIN:STANDARD
TZOFFSETFROM:-0700
TZOFFSETTO:-0800
TZNAME:PST
DTSTART:20271107T090000
END:STANDARD
END:VTIMEZONE
BEGIN:VEVENT
DTSTART;TZID=America/Los_Angeles:20260211T173000
DTEND;TZID=America/Los_Angeles:20260211T200000
DTSTAMP:20260424T173344
CREATED:20260210T174910Z
LAST-MODIFIED:20260210T174910Z
UID:51959-1770831000-1770840000@network.vegas
SUMMARY:Love & Politics
DESCRIPTION:Love\, laughter\, and a little politics — Love & Politics: The Game Show is a Valentine’s-themed night of fun hosted by Chuck Muth\, featuring guest couples competing in a lively game show setting. Join the Nevada Republican Club on February 11 at the Ahern Hotel for an unforgettable evening of entertainment\, connection\, and conservative camaraderie. \nGet Tickets Here
URL:https://network.vegas/calendar/love-politics/
LOCATION:Ahern Hotel & Convention Center 300 W Sahara Ave\, Las Vegas\, NV 89102
CATEGORIES:Chamber
ATTACH;FMTTYPE=image/jpeg:https://network.vegas/wp-content/uploads/2026/02/Love-Politics-Flyer-J4Sdm4.jpg
END:VEVENT
END:VCALENDAR