BEGIN:VCALENDAR
VERSION:2.0
PRODID:-//Network.Vegas - ECPv6.15.20//NONSGML v1.0//EN
CALSCALE:GREGORIAN
METHOD:PUBLISH
X-ORIGINAL-URL:https://network.vegas
X-WR-CALDESC:Events for Network.Vegas
REFRESH-INTERVAL;VALUE=DURATION:PT1H
X-Robots-Tag:noindex
X-PUBLISHED-TTL:PT1H
BEGIN:VTIMEZONE
TZID:America/Los_Angeles
BEGIN:DAYLIGHT
TZOFFSETFROM:-0800
TZOFFSETTO:-0700
TZNAME:PDT
DTSTART:20250309T100000
END:DAYLIGHT
BEGIN:STANDARD
TZOFFSETFROM:-0700
TZOFFSETTO:-0800
TZNAME:PST
DTSTART:20251102T090000
END:STANDARD
BEGIN:DAYLIGHT
TZOFFSETFROM:-0800
TZOFFSETTO:-0700
TZNAME:PDT
DTSTART:20260308T100000
END:DAYLIGHT
BEGIN:STANDARD
TZOFFSETFROM:-0700
TZOFFSETTO:-0800
TZNAME:PST
DTSTART:20261101T090000
END:STANDARD
BEGIN:DAYLIGHT
TZOFFSETFROM:-0800
TZOFFSETTO:-0700
TZNAME:PDT
DTSTART:20270314T100000
END:DAYLIGHT
BEGIN:STANDARD
TZOFFSETFROM:-0700
TZOFFSETTO:-0800
TZNAME:PST
DTSTART:20271107T090000
END:STANDARD
END:VTIMEZONE
BEGIN:VEVENT
DTSTART;TZID=America/Los_Angeles:20260123T190000
DTEND;TZID=America/Los_Angeles:20260123T230000
DTSTAMP:20260425T164205
CREATED:20260114T104354Z
LAST-MODIFIED:20260114T104356Z
UID:51391-1769194800-1769209200@network.vegas
SUMMARY:Ribbon Cutting: AAA
DESCRIPTION:Come join AAA for their Grand Opening celebration! \n\n\n\nRibbon Cutting: 9:00 AM \n\n\n\nGeneral Public\, Chamber Members\, & Clients Welcome! Limit: 250 \n\n\n\nWater and a meal will be provided! \n\n\n\nChance\, the Golden Knights mascot\, will be joining the grand opening from 12:00 PM to 1:00 PM along with two Vegas Vivas! Plus\, enjoy exciting giveaways throughout the event! \n\n\n\nFor questions\, please email Joe Green at jgreen@vegaschamber.com
URL:https://network.vegas/calendar/ribbon-cutting-aaa/
LOCATION:AAA\, 7550 West Lake Mead Blvd Suite 1 Las Vegas\, NV 89128\, Las Vegas
CATEGORIES:Networking,Ribbon Cutting
END:VEVENT
END:VCALENDAR