BEGIN:VCALENDAR
VERSION:2.0
PRODID:-//Network.Vegas - ECPv6.15.20//NONSGML v1.0//EN
CALSCALE:GREGORIAN
METHOD:PUBLISH
X-WR-CALNAME:Network.Vegas
X-ORIGINAL-URL:https://network.vegas
X-WR-CALDESC:Events for Network.Vegas
REFRESH-INTERVAL;VALUE=DURATION:PT1H
X-Robots-Tag:noindex
X-PUBLISHED-TTL:PT1H
BEGIN:VTIMEZONE
TZID:America/Los_Angeles
BEGIN:DAYLIGHT
TZOFFSETFROM:-0800
TZOFFSETTO:-0700
TZNAME:PDT
DTSTART:20240310T100000
END:DAYLIGHT
BEGIN:STANDARD
TZOFFSETFROM:-0700
TZOFFSETTO:-0800
TZNAME:PST
DTSTART:20241103T090000
END:STANDARD
BEGIN:DAYLIGHT
TZOFFSETFROM:-0800
TZOFFSETTO:-0700
TZNAME:PDT
DTSTART:20250309T100000
END:DAYLIGHT
BEGIN:STANDARD
TZOFFSETFROM:-0700
TZOFFSETTO:-0800
TZNAME:PST
DTSTART:20251102T090000
END:STANDARD
BEGIN:DAYLIGHT
TZOFFSETFROM:-0800
TZOFFSETTO:-0700
TZNAME:PDT
DTSTART:20260308T100000
END:DAYLIGHT
BEGIN:STANDARD
TZOFFSETFROM:-0700
TZOFFSETTO:-0800
TZNAME:PST
DTSTART:20261101T090000
END:STANDARD
END:VTIMEZONE
BEGIN:VEVENT
DTSTART;TZID=America/Los_Angeles:20251105T170000
DTEND;TZID=America/Los_Angeles:20251105T180000
DTSTAMP:20260421T235627
CREATED:20251025T075545Z
LAST-MODIFIED:20251025T075625Z
UID:49801-1762362000-1762365600@network.vegas
SUMMARY:Michaelson Law West Side Office Ribbon Cutting
DESCRIPTION:Join the team at Michaelson Law for our west side office ribbon cutting and open house.  \n\n\n\nThe official ribbon cutting will be at 5PM and the open house will run from 4PM to 7PM. Please RSVP for the event for food catering purposes.
URL:https://network.vegas/calendar/michaelson-law-west-side-office-ribbon-cutting/
LOCATION:9930 W. Flamingo Rd #105 Las vegas\, NV 89147\, 9930 W. Flamingo Rd #105 Las vegas\, NV 89147\, Las Vegas
CATEGORIES:Networking
END:VEVENT
END:VCALENDAR