BEGIN:VCALENDAR
VERSION:2.0
PRODID:-//Network.Vegas - ECPv6.15.20//NONSGML v1.0//EN
CALSCALE:GREGORIAN
METHOD:PUBLISH
X-ORIGINAL-URL:https://network.vegas
X-WR-CALDESC:Events for Network.Vegas
REFRESH-INTERVAL;VALUE=DURATION:PT1H
X-Robots-Tag:noindex
X-PUBLISHED-TTL:PT1H
BEGIN:VTIMEZONE
TZID:America/Los_Angeles
BEGIN:DAYLIGHT
TZOFFSETFROM:-0800
TZOFFSETTO:-0700
TZNAME:PDT
DTSTART:20250309T100000
END:DAYLIGHT
BEGIN:STANDARD
TZOFFSETFROM:-0700
TZOFFSETTO:-0800
TZNAME:PST
DTSTART:20251102T090000
END:STANDARD
BEGIN:DAYLIGHT
TZOFFSETFROM:-0800
TZOFFSETTO:-0700
TZNAME:PDT
DTSTART:20260308T100000
END:DAYLIGHT
BEGIN:STANDARD
TZOFFSETFROM:-0700
TZOFFSETTO:-0800
TZNAME:PST
DTSTART:20261101T090000
END:STANDARD
BEGIN:DAYLIGHT
TZOFFSETFROM:-0800
TZOFFSETTO:-0700
TZNAME:PDT
DTSTART:20270314T100000
END:DAYLIGHT
BEGIN:STANDARD
TZOFFSETFROM:-0700
TZOFFSETTO:-0800
TZNAME:PST
DTSTART:20271107T090000
END:STANDARD
END:VTIMEZONE
BEGIN:VEVENT
DTSTART;TZID=America/Los_Angeles:20260112T160000
DTEND;TZID=America/Los_Angeles:20260112T180000
DTSTAMP:20260425T112937
CREATED:20260111T170320Z
LAST-MODIFIED:20260111T170320Z
UID:51304-1768233600-1768240800@network.vegas
SUMMARY:Personal Branding Workshop  for Women entrepreneurs
DESCRIPTION:Learn how to position your personal brand so clients choose you\, trust you\, and pay you—without burning out on content.\n\n\nPersonal Branding Workshop for Women Entrepreneurs\n \nThis live workshop is for women entrepreneurs who are already offering services\, already helping people\, and know they’re meant for more visibility\, authority\, and income — but feel under-expressed\, overlooked\, or unclear in how they communicate their value. \nIf you’ve ever thought: \n\n“I know I’m good at what I do\, but it’s not translating”\n“People still don’t really get what I do”\n“I blend in when I should stand out”\n\nThis is the room you want to be in. \nThis workshop is about positioning\, not algorithms.Identity\, not aesthetics.And building a personal brand that makes clients trust you before they ever talk to you. \nThis workshop is especially powerful for coaches\, service providers\, and experts who know they’re good — but aren’t yet being recognized as leaders. \n \nWhat You’ll Learn\nIn this workshop\, you’ll learn how to: \n\nClarify what makes your work distinct (and how to communicate it clearly)\nPosition yourself so the right clients choose you — without convincing or chasing\nStop over-explaining\, oversharing\, or hiding behind vague messaging\nLead with authority while staying authentic and grounded\nBuild visibility that feels aligned\, not exhausting\n\nThis is practical\, strategic\, and rooted in real-world application — not theory. \nYou’ll Leave With\n✔ A clearer personal brand message you can actually use✔ Language that reflects your value and leadership✔ More confidence showing up and speaking about your work✔ Clear next steps to grow visibility in a way that fits you \nYou won’t leave inspired but confused.You’ll leave clear and activated. \n\nSpots are limited. If this resonates\, trust the pull and reserve your seat. \n\n \nAbout the Hosts\nAti Grinspun is a personal branding and business coach who helps women entrepreneurs become known\, trusted\, and chosen in their industry. \nShe works with women who are already talented and committed — but feel under-recognized\, underpaid\, or unsure how to communicate the depth of their work. Her approach blends strategy\, identity\, and visibility\, so clients don’t just “show up more” — they show up with authority. \nAti is known for her direct\, grounded\, no-fluff style and for helping women stop blending in and start leading. Her work focuses on building personal brands that convert because they are rooted in clarity\, confidence\, and truth — not trends or hustle. \nThis workshop is grounded in the same frameworks she uses with private clients\, live events\, and her coaching programs. \n \nCarolina Molina is a licensed esthetician and advanced medical assistant with over 12 years of experience supporting women in the beauty and wellness industry. \nBeyond her clinical work\, she mentors beauty professionals in building independent\, sustainable businesses and owns a premium suite rental space that supports women in growing their practices with confidence. \nDuring this workshop\, Carolina will support the space and participant integration\, helping attendees apply what they learn and feel grounded as they step into greater clarity and visibility. \n \nThis Workshop Is For You If:\n\nYou’re already offering services or programs\nYou want to be seen as a leader in your space\nYou’re done playing small or hiding behind “safe” messaging\nYou want clients who respect your work and pay your rates
URL:https://network.vegas/calendar/personal-branding-workshop-for-women-entrepreneurs/
LOCATION:9484 W Flamingo Rd #300\, 9484 West Flamingo Road\, #300\, Las Vegas\, NV\, 89147\, United States
CATEGORIES:Las Vegas Business
END:VEVENT
END:VCALENDAR