BEGIN:VCALENDAR
VERSION:2.0
PRODID:-//Network.Vegas - ECPv6.15.20//NONSGML v1.0//EN
CALSCALE:GREGORIAN
METHOD:PUBLISH
X-WR-CALNAME:Network.Vegas
X-ORIGINAL-URL:https://network.vegas
X-WR-CALDESC:Events for Network.Vegas
REFRESH-INTERVAL;VALUE=DURATION:PT1H
X-Robots-Tag:noindex
X-PUBLISHED-TTL:PT1H
BEGIN:VTIMEZONE
TZID:America/Los_Angeles
BEGIN:DAYLIGHT
TZOFFSETFROM:-0800
TZOFFSETTO:-0700
TZNAME:PDT
DTSTART:20250309T100000
END:DAYLIGHT
BEGIN:STANDARD
TZOFFSETFROM:-0700
TZOFFSETTO:-0800
TZNAME:PST
DTSTART:20251102T090000
END:STANDARD
BEGIN:DAYLIGHT
TZOFFSETFROM:-0800
TZOFFSETTO:-0700
TZNAME:PDT
DTSTART:20260308T100000
END:DAYLIGHT
BEGIN:STANDARD
TZOFFSETFROM:-0700
TZOFFSETTO:-0800
TZNAME:PST
DTSTART:20261101T090000
END:STANDARD
BEGIN:DAYLIGHT
TZOFFSETFROM:-0800
TZOFFSETTO:-0700
TZNAME:PDT
DTSTART:20270314T100000
END:DAYLIGHT
BEGIN:STANDARD
TZOFFSETFROM:-0700
TZOFFSETTO:-0800
TZNAME:PST
DTSTART:20271107T090000
END:STANDARD
END:VTIMEZONE
BEGIN:VEVENT
DTSTART;TZID=America/Los_Angeles:20260115T150000
DTEND;TZID=America/Los_Angeles:20260115T180000
DTSTAMP:20260425T034606
CREATED:20260114T091522Z
LAST-MODIFIED:20260114T091524Z
UID:51378-1768489200-1768500000@network.vegas
SUMMARY:Ribbon Cutting: Enterprise Bank & Trust
DESCRIPTION:Come join Enterprise Bank & Trust  for their Grand Opening celebration! \n\n\n\nRibbon Cutting: 4:00 PM \n\n\n\nAppetizers & Drinks will be served.  \n\n\n\n Chamber Members\, Local Representatives\, General Public & Clients Welcome! Limit: 250 \n\n\n\nFor questions\, please email Shane Hamlett shamlett@vegaschamber.com
URL:https://network.vegas/calendar/ribbon-cutting-enterprise-bank-trust/
LOCATION:7160 Rafael Rivera Way #100 Las Vegas\, NV 89113\, 7160 Rafael Rivera Way #100 Las Vegas\, NV 89113\, Las Vegas
CATEGORIES:Networking,Ribbon Cutting
END:VEVENT
END:VCALENDAR