BEGIN:VCALENDAR
VERSION:2.0
PRODID:-//Network.Vegas - ECPv6.15.20//NONSGML v1.0//EN
CALSCALE:GREGORIAN
METHOD:PUBLISH
X-WR-CALNAME:Network.Vegas
X-ORIGINAL-URL:https://network.vegas
X-WR-CALDESC:Events for Network.Vegas
REFRESH-INTERVAL;VALUE=DURATION:PT1H
X-Robots-Tag:noindex
X-PUBLISHED-TTL:PT1H
BEGIN:VTIMEZONE
TZID:America/Los_Angeles
BEGIN:DAYLIGHT
TZOFFSETFROM:-0800
TZOFFSETTO:-0700
TZNAME:PDT
DTSTART:20250309T100000
END:DAYLIGHT
BEGIN:STANDARD
TZOFFSETFROM:-0700
TZOFFSETTO:-0800
TZNAME:PST
DTSTART:20251102T090000
END:STANDARD
BEGIN:DAYLIGHT
TZOFFSETFROM:-0800
TZOFFSETTO:-0700
TZNAME:PDT
DTSTART:20260308T100000
END:DAYLIGHT
BEGIN:STANDARD
TZOFFSETFROM:-0700
TZOFFSETTO:-0800
TZNAME:PST
DTSTART:20261101T090000
END:STANDARD
BEGIN:DAYLIGHT
TZOFFSETFROM:-0800
TZOFFSETTO:-0700
TZNAME:PDT
DTSTART:20270314T100000
END:DAYLIGHT
BEGIN:STANDARD
TZOFFSETFROM:-0700
TZOFFSETTO:-0800
TZNAME:PST
DTSTART:20271107T090000
END:STANDARD
END:VTIMEZONE
BEGIN:VEVENT
DTSTART;TZID=America/Los_Angeles:20260128T180000
DTEND;TZID=America/Los_Angeles:20260128T203000
DTSTAMP:20260424T173318
CREATED:20260111T004912Z
LAST-MODIFIED:20260111T170426Z
UID:51268-1769623200-1769632200@network.vegas
SUMMARY:Popstar U Grand Opening Party
DESCRIPTION:Join us for a fun-filled party celebrating the grand opening of Popstar U  – you won’t want to miss it!\n\n\nWelcome to the Popstar U Grand Opening Party! 🎉\n\nJoin us at 6620 S Tenaya Way\, Suite 200 on January 28\, 2026 at 6:00 PM (Pacific Time) for a night of music and nonstop fun. Get ready to celebrate the launch. \n\nStudio Tour\nLight Bites\nSoft Drinks\nGIVEAWAYS!\n\nDon’t miss out on this exciting event! \nDress Code: Popstar Chic \n \nABOUT POPSTAR U\nLearn more : www.popstaru.com \nTake Your Career To The Next Level! \nAt Popstar U\, we take pride in delivering a full suite of music services tailored to enhance your skills and realize your creative vision. \nBacked by extensive experience in the music industry\, our team consists of veteran professionals who have collaborated with celebrated artists and brands. Our proficiency covers production\, radio promo\, songwriting\, social media management\, lessons\, and PR/marketing\, guaranteeing exceptional quality and industry-standard outcomes. \nOur goal is to identify\, mentor\, and nurture exceptionally gifted singers\, bands\, and songwriters\, equipping them for sustained success in the music industry. Popstar U collaborates closely with Grammy winning and Billboard #1 charting producers\, writers and engineers. Maintaining an arms distance relationship with Labels\, Publishers\, Sync agents and Music supervisors\, giving our projects the best chance for national and global success.
URL:https://network.vegas/calendar/popstar-u-grand-opening-party/
LOCATION:6620 S Tenaya Way suite 200\, 6620 South Tenaya Way\, #suite 200\, Las Vegas\, NV\, 89113\, United States
ATTACH;FMTTYPE=image/jpeg:https://network.vegas/wp-content/uploads/2026/01/27ead0f07f02594ee3447d49ad315865.jpg
END:VEVENT
END:VCALENDAR