BEGIN:VCALENDAR
VERSION:2.0
PRODID:-//Network.Vegas - ECPv6.15.20//NONSGML v1.0//EN
CALSCALE:GREGORIAN
METHOD:PUBLISH
X-WR-CALNAME:Network.Vegas
X-ORIGINAL-URL:https://network.vegas
X-WR-CALDESC:Events for Network.Vegas
REFRESH-INTERVAL;VALUE=DURATION:PT1H
X-Robots-Tag:noindex
X-PUBLISHED-TTL:PT1H
BEGIN:VTIMEZONE
TZID:America/Los_Angeles
BEGIN:DAYLIGHT
TZOFFSETFROM:-0800
TZOFFSETTO:-0700
TZNAME:PDT
DTSTART:20250309T100000
END:DAYLIGHT
BEGIN:STANDARD
TZOFFSETFROM:-0700
TZOFFSETTO:-0800
TZNAME:PST
DTSTART:20251102T090000
END:STANDARD
BEGIN:DAYLIGHT
TZOFFSETFROM:-0800
TZOFFSETTO:-0700
TZNAME:PDT
DTSTART:20260308T100000
END:DAYLIGHT
BEGIN:STANDARD
TZOFFSETFROM:-0700
TZOFFSETTO:-0800
TZNAME:PST
DTSTART:20261101T090000
END:STANDARD
BEGIN:DAYLIGHT
TZOFFSETFROM:-0800
TZOFFSETTO:-0700
TZNAME:PDT
DTSTART:20270314T100000
END:DAYLIGHT
BEGIN:STANDARD
TZOFFSETFROM:-0700
TZOFFSETTO:-0800
TZNAME:PST
DTSTART:20271107T090000
END:STANDARD
END:VTIMEZONE
BEGIN:VEVENT
DTSTART;TZID=America/Los_Angeles:20260428T180000
DTEND;TZID=America/Los_Angeles:20260428T200000
DTSTAMP:20260425T033903
CREATED:20260312T233432Z
LAST-MODIFIED:20260411T233414Z
UID:52487-1777399200-1777406400@network.vegas
SUMMARY:Spring Business Social — VIP Networking Mixer
DESCRIPTION:Come mingle with professionals from the Sin City Chamber of Commerce  & Biz Chicks\n\n\nHosted by the Sin City Chamber of Commerce  \nJoin us for an elevated evening of connection\, collaboration\, and opportunity at the Spring Business Social\, an exclusive business networking experience designed for entrepreneurs\, professionals\, executives\, and community leaders looking to grow meaningful relationships in Las Vegas. \nWhether you’re building your brand\, expanding your network\, or seeking new business opportunities\, this event brings together ambitious professionals in a relaxed\, upscale environment.
URL:https://network.vegas/calendar/spring-business-social-vip-networking-mixer/
LOCATION:3950 S Las Vegas Blvd\, 3950 South Las Vegas Boulevard\, Las Vegas\, NV\, 89119\, United States
CATEGORIES:Chamber
ATTACH;FMTTYPE=image/jpeg:https://network.vegas/wp-content/uploads/2026/03/0e8a738bed7b25f2dc78bc5c3c839fd2.jpg
END:VEVENT
END:VCALENDAR