BEGIN:VCALENDAR
VERSION:2.0
PRODID:-//Network.Vegas - ECPv6.15.20//NONSGML v1.0//EN
CALSCALE:GREGORIAN
METHOD:PUBLISH
X-WR-CALNAME:Network.Vegas
X-ORIGINAL-URL:https://network.vegas
X-WR-CALDESC:Events for Network.Vegas
REFRESH-INTERVAL;VALUE=DURATION:PT1H
X-Robots-Tag:noindex
X-PUBLISHED-TTL:PT1H
BEGIN:VTIMEZONE
TZID:America/Los_Angeles
BEGIN:DAYLIGHT
TZOFFSETFROM:-0800
TZOFFSETTO:-0700
TZNAME:PDT
DTSTART:20240310T100000
END:DAYLIGHT
BEGIN:STANDARD
TZOFFSETFROM:-0700
TZOFFSETTO:-0800
TZNAME:PST
DTSTART:20241103T090000
END:STANDARD
BEGIN:DAYLIGHT
TZOFFSETFROM:-0800
TZOFFSETTO:-0700
TZNAME:PDT
DTSTART:20250309T100000
END:DAYLIGHT
BEGIN:STANDARD
TZOFFSETFROM:-0700
TZOFFSETTO:-0800
TZNAME:PST
DTSTART:20251102T090000
END:STANDARD
BEGIN:DAYLIGHT
TZOFFSETFROM:-0800
TZOFFSETTO:-0700
TZNAME:PDT
DTSTART:20260308T100000
END:DAYLIGHT
BEGIN:STANDARD
TZOFFSETFROM:-0700
TZOFFSETTO:-0800
TZNAME:PST
DTSTART:20261101T090000
END:STANDARD
END:VTIMEZONE
BEGIN:VEVENT
DTSTART;TZID=America/Los_Angeles:20250223T130000
DTEND;TZID=America/Los_Angeles:20250223T160000
DTSTAMP:20260422T095344
CREATED:20250212T221242Z
LAST-MODIFIED:20250212T221242Z
UID:44162-1740315600-1740326400@network.vegas
SUMMARY:JDK Financial Group  Grand Opening Ribbon Cutting
DESCRIPTION:Welcome to ACC new member JDK Financial Group to the Grand Opening.
URL:https://network.vegas/calendar/jdk-financial-group-grand-opening-ribbon-cutting/
LOCATION:2213 N Green Valley Pkwy Ste. 201\, 2213 N Green Valley Pkwy Ste 201 Henderson\, NV 89011\, Henderson\, NV\, 89011\, United States
CATEGORIES:Chamber
ATTACH;FMTTYPE=image/jpeg:https://network.vegas/wp-content/uploads/2025/02/JDK-Grand-Opening-rnSjmz.tmp_.jpg
END:VEVENT
END:VCALENDAR