BEGIN:VCALENDAR
VERSION:2.0
PRODID:-//Network.Vegas - ECPv6.15.20//NONSGML v1.0//EN
CALSCALE:GREGORIAN
METHOD:PUBLISH
X-WR-CALNAME:Network.Vegas
X-ORIGINAL-URL:https://network.vegas
X-WR-CALDESC:Events for Network.Vegas
REFRESH-INTERVAL;VALUE=DURATION:PT1H
X-Robots-Tag:noindex
X-PUBLISHED-TTL:PT1H
BEGIN:VTIMEZONE
TZID:America/Los_Angeles
BEGIN:DAYLIGHT
TZOFFSETFROM:-0800
TZOFFSETTO:-0700
TZNAME:PDT
DTSTART:20240310T100000
END:DAYLIGHT
BEGIN:STANDARD
TZOFFSETFROM:-0700
TZOFFSETTO:-0800
TZNAME:PST
DTSTART:20241103T090000
END:STANDARD
BEGIN:DAYLIGHT
TZOFFSETFROM:-0800
TZOFFSETTO:-0700
TZNAME:PDT
DTSTART:20250309T100000
END:DAYLIGHT
BEGIN:STANDARD
TZOFFSETFROM:-0700
TZOFFSETTO:-0800
TZNAME:PST
DTSTART:20251102T090000
END:STANDARD
BEGIN:DAYLIGHT
TZOFFSETFROM:-0800
TZOFFSETTO:-0700
TZNAME:PDT
DTSTART:20260308T100000
END:DAYLIGHT
BEGIN:STANDARD
TZOFFSETFROM:-0700
TZOFFSETTO:-0800
TZNAME:PST
DTSTART:20261101T090000
END:STANDARD
END:VTIMEZONE
BEGIN:VEVENT
DTSTART;TZID=America/Los_Angeles:20251123T160000
DTEND;TZID=America/Los_Angeles:20251123T190000
DTSTAMP:20260422T082251
CREATED:20251112T000637Z
LAST-MODIFIED:20251119T185858Z
UID:50386-1763913600-1763924400@network.vegas
SUMMARY:Fashion\, Sip\, & Fireside; An Evening of Style\, Connection\, and Networking
DESCRIPTION:Join us for a Night of Fashion\, Champagne\, and a view of Kéraye Londons Fall Collection – the perfect  blend of Style & Networking Awaits!\n\n\nFashion\, Sip\, & Fireside; An Evening of Style\, Connection\, and Networking \nStep into an evening where fashion\, warmth\, and connection interwine. A curated collection viewing experience for Kéraye Londons newest fall collection by fashion designer @KevonRaye. \nJoin us as we unveil a luxe\, sexy\, and exclusive collection- created for the woman who commands presence and lives boldly in her truth. Expect elevated style moments\, curated ambiance\, and a fashion showcase that highlights design\, artistry\, and intentional detail. This is more than a viewing – its a mood\, a gathering\, and a celebration of self-expression. \nCome dressed to impress\, mingle\, and indulge in an evening of style and energy. Admission is complimentary along with a glass of champagne. See you there!
URL:https://network.vegas/calendar/fashion-sip-an-evening-of-style-connection-and-networking/
LOCATION:1021 S Main St\, 1021 South Main Street\, Las Vegas\, NV\, 89101\, United States
CATEGORIES:Networking
ATTACH;FMTTYPE=image/jpeg:https://network.vegas/wp-content/uploads/2025/11/1cc2f7c99f8f9fd6bf70920d30003cf1.jpg
END:VEVENT
END:VCALENDAR