BEGIN:VCALENDAR
VERSION:2.0
PRODID:-//Network.Vegas - ECPv6.15.20//NONSGML v1.0//EN
CALSCALE:GREGORIAN
METHOD:PUBLISH
X-ORIGINAL-URL:https://network.vegas
X-WR-CALDESC:Events for Network.Vegas
REFRESH-INTERVAL;VALUE=DURATION:PT1H
X-Robots-Tag:noindex
X-PUBLISHED-TTL:PT1H
BEGIN:VTIMEZONE
TZID:America/Los_Angeles
BEGIN:DAYLIGHT
TZOFFSETFROM:-0800
TZOFFSETTO:-0700
TZNAME:PDT
DTSTART:20240310T100000
END:DAYLIGHT
BEGIN:STANDARD
TZOFFSETFROM:-0700
TZOFFSETTO:-0800
TZNAME:PST
DTSTART:20241103T090000
END:STANDARD
BEGIN:DAYLIGHT
TZOFFSETFROM:-0800
TZOFFSETTO:-0700
TZNAME:PDT
DTSTART:20250309T100000
END:DAYLIGHT
BEGIN:STANDARD
TZOFFSETFROM:-0700
TZOFFSETTO:-0800
TZNAME:PST
DTSTART:20251102T090000
END:STANDARD
BEGIN:DAYLIGHT
TZOFFSETFROM:-0800
TZOFFSETTO:-0700
TZNAME:PDT
DTSTART:20260308T100000
END:DAYLIGHT
BEGIN:STANDARD
TZOFFSETFROM:-0700
TZOFFSETTO:-0800
TZNAME:PST
DTSTART:20261101T090000
END:STANDARD
END:VTIMEZONE
BEGIN:VEVENT
DTSTART;TZID=America/Los_Angeles:20251024T170000
DTEND;TZID=America/Los_Angeles:20251024T190000
DTSTAMP:20260421T012051
CREATED:20251024T182808Z
LAST-MODIFIED:20251024T182808Z
UID:49763-1761325200-1761332400@network.vegas
SUMMARY:Your Friends In Finance
DESCRIPTION:Join us for a chill gathering where we talk all things money\, investments\, and financial tips with your buddies in the finance world!\n\n\nWelcome to Your Friends In Finance! Join us for a night of networking and mingling with fellow finance enthusiasts at the Foreign Exchange Lounge. Whether you’re a seasoned professional or just starting out in the industry\, this event is the perfect opportunity to connect with like-minded individuals and expand your network. Don’t miss out on this chance to meet new friends and colleagues in the finance world. See you there!
URL:https://network.vegas/calendar/your-friends-in-finance/
LOCATION:Foreign Exchange Lounge\, 200 Hoover Avenue\, #STE 150\, Las Vegas\, NV\, 89101\, United States
CATEGORIES:Networking
ATTACH;FMTTYPE=image/jpeg:https://network.vegas/wp-content/uploads/2025/10/403978e8c9c0240973b51ad0947e0ca8.jpg
END:VEVENT
END:VCALENDAR