BEGIN:VCALENDAR
VERSION:2.0
PRODID:-//Network.Vegas - ECPv6.15.20//NONSGML v1.0//EN
CALSCALE:GREGORIAN
METHOD:PUBLISH
X-WR-CALNAME:Network.Vegas
X-ORIGINAL-URL:https://network.vegas
X-WR-CALDESC:Events for Network.Vegas
REFRESH-INTERVAL;VALUE=DURATION:PT1H
X-Robots-Tag:noindex
X-PUBLISHED-TTL:PT1H
BEGIN:VTIMEZONE
TZID:America/Los_Angeles
BEGIN:DAYLIGHT
TZOFFSETFROM:-0800
TZOFFSETTO:-0700
TZNAME:PDT
DTSTART:20240310T100000
END:DAYLIGHT
BEGIN:STANDARD
TZOFFSETFROM:-0700
TZOFFSETTO:-0800
TZNAME:PST
DTSTART:20241103T090000
END:STANDARD
BEGIN:DAYLIGHT
TZOFFSETFROM:-0800
TZOFFSETTO:-0700
TZNAME:PDT
DTSTART:20250309T100000
END:DAYLIGHT
BEGIN:STANDARD
TZOFFSETFROM:-0700
TZOFFSETTO:-0800
TZNAME:PST
DTSTART:20251102T090000
END:STANDARD
BEGIN:DAYLIGHT
TZOFFSETFROM:-0800
TZOFFSETTO:-0700
TZNAME:PDT
DTSTART:20260308T100000
END:DAYLIGHT
BEGIN:STANDARD
TZOFFSETFROM:-0700
TZOFFSETTO:-0800
TZNAME:PST
DTSTART:20261101T090000
END:STANDARD
END:VTIMEZONE
BEGIN:VEVENT
DTSTART;TZID=America/Los_Angeles:20250814T180000
DTEND;TZID=America/Los_Angeles:20250814T210000
DTSTAMP:20260422T013136
CREATED:20250811T162513Z
LAST-MODIFIED:20250811T162513Z
UID:48199-1755194400-1755205200@network.vegas
SUMMARY:VAREP Membership Mixer At Lazy Dog Restaurant
DESCRIPTION:Join us for a fun evening of networking and socializing at the VAREP Membership Mixer at Lazy Dog Restaurant!\n\n\nVAREP Membership Mixer At Lazy Dog Restaurant \nCome join us for a fun evening at the Lazy Dog Restaurant located at 6509 S Las Vegas Blvd! This in person event is the perfect opportunity to network with fellow VAREP members and enjoy delicious food in a relaxed atmosphere. Entry FREE with DONATION of NEW UNUSED SOCKS\, UNDEWARE\, DIAPERS\, MALE AND FEMALE HIGENE PRODUCTS\, all will be donated to local veterans!  You can also order from our Amazon Link if you are unable to attend but would like to donate. Don’t miss out on this chance to connect with others in the real estate and veteran community. See you there!
URL:https://network.vegas/calendar/varep-membership-mixer-at-lazy-dog-restaurant/
LOCATION:6509 S Las Vegas Blvd\, 6509 South Las Vegas Boulevard\, Las Vegas\, NV\, 89119\, United States
CATEGORIES:Networking
ATTACH;FMTTYPE=image/jpeg:https://network.vegas/wp-content/uploads/2025/08/77d62c92f53036fe7b7364a7a5b02100.jpg
END:VEVENT
END:VCALENDAR