BEGIN:VCALENDAR
VERSION:2.0
PRODID:-//Network.Vegas - ECPv6.15.20//NONSGML v1.0//EN
CALSCALE:GREGORIAN
METHOD:PUBLISH
X-ORIGINAL-URL:https://network.vegas
X-WR-CALDESC:Events for Network.Vegas
REFRESH-INTERVAL;VALUE=DURATION:PT1H
X-Robots-Tag:noindex
X-PUBLISHED-TTL:PT1H
BEGIN:VTIMEZONE
TZID:America/Los_Angeles
BEGIN:DAYLIGHT
TZOFFSETFROM:-0800
TZOFFSETTO:-0700
TZNAME:PDT
DTSTART:20240310T100000
END:DAYLIGHT
BEGIN:STANDARD
TZOFFSETFROM:-0700
TZOFFSETTO:-0800
TZNAME:PST
DTSTART:20241103T090000
END:STANDARD
BEGIN:DAYLIGHT
TZOFFSETFROM:-0800
TZOFFSETTO:-0700
TZNAME:PDT
DTSTART:20250309T100000
END:DAYLIGHT
BEGIN:STANDARD
TZOFFSETFROM:-0700
TZOFFSETTO:-0800
TZNAME:PST
DTSTART:20251102T090000
END:STANDARD
BEGIN:DAYLIGHT
TZOFFSETFROM:-0800
TZOFFSETTO:-0700
TZNAME:PDT
DTSTART:20260308T100000
END:DAYLIGHT
BEGIN:STANDARD
TZOFFSETFROM:-0700
TZOFFSETTO:-0800
TZNAME:PST
DTSTART:20261101T090000
END:STANDARD
END:VTIMEZONE
BEGIN:VEVENT
DTSTART;TZID=America/Los_Angeles:20250412T090000
DTEND;TZID=America/Los_Angeles:20250412T160000
DTSTAMP:20260422T163044
CREATED:20250319T014357Z
LAST-MODIFIED:20250319T014357Z
UID:44980-1744448400-1744473600@network.vegas
SUMMARY:Social Media X Marketing Pro Conference
DESCRIPTION:Get ready to level up your social media marketing game at our Social Media X Marketing Pro Conference – it’s gonna be lit!\n\n\nWelcome to the Social Media X Marketing Pro Conference! Join us in Las Vegas for a one-of-a-kind event where you’ll learn the latest strategies and trends in social media and marketing. Whether you’re a seasoned pro or just starting out\, this conference is perfect for anyone looking to up their game in the digital world. Network with industry experts\, attend informative workshops\, and gain valuable insights to take your marketing skills to the next level. Don’t miss out on this opportunity to elevate your social media game!
URL:https://network.vegas/calendar/social-media-x-marketing-pro-conference/
LOCATION:Las Vegas
CATEGORIES:Technology
ATTACH;FMTTYPE=image/jpeg:https://network.vegas/wp-content/uploads/2025/03/ff97b0b2e56c9a062a28caf15b5504ad.jpg
GEO:36.086876;-115.12715
END:VEVENT
END:VCALENDAR