BEGIN:VCALENDAR
VERSION:2.0
PRODID:-//Network.Vegas - ECPv6.15.20//NONSGML v1.0//EN
CALSCALE:GREGORIAN
METHOD:PUBLISH
X-WR-CALNAME:Network.Vegas
X-ORIGINAL-URL:https://network.vegas
X-WR-CALDESC:Events for Network.Vegas
REFRESH-INTERVAL;VALUE=DURATION:PT1H
X-Robots-Tag:noindex
X-PUBLISHED-TTL:PT1H
BEGIN:VTIMEZONE
TZID:America/Los_Angeles
BEGIN:DAYLIGHT
TZOFFSETFROM:-0800
TZOFFSETTO:-0700
TZNAME:PDT
DTSTART:20230312T100000
END:DAYLIGHT
BEGIN:STANDARD
TZOFFSETFROM:-0700
TZOFFSETTO:-0800
TZNAME:PST
DTSTART:20231105T090000
END:STANDARD
BEGIN:DAYLIGHT
TZOFFSETFROM:-0800
TZOFFSETTO:-0700
TZNAME:PDT
DTSTART:20240310T100000
END:DAYLIGHT
BEGIN:STANDARD
TZOFFSETFROM:-0700
TZOFFSETTO:-0800
TZNAME:PST
DTSTART:20241103T090000
END:STANDARD
BEGIN:DAYLIGHT
TZOFFSETFROM:-0800
TZOFFSETTO:-0700
TZNAME:PDT
DTSTART:20250309T100000
END:DAYLIGHT
BEGIN:STANDARD
TZOFFSETFROM:-0700
TZOFFSETTO:-0800
TZNAME:PST
DTSTART:20251102T090000
END:STANDARD
BEGIN:DAYLIGHT
TZOFFSETFROM:-0800
TZOFFSETTO:-0700
TZNAME:PDT
DTSTART:20260308T100000
END:DAYLIGHT
BEGIN:STANDARD
TZOFFSETFROM:-0700
TZOFFSETTO:-0800
TZNAME:PST
DTSTART:20261101T090000
END:STANDARD
END:VTIMEZONE
BEGIN:VEVENT
DTSTART;TZID=America/Los_Angeles:20251001T100000
DTEND;TZID=America/Los_Angeles:20251001T170000
DTSTAMP:20260424T122143
CREATED:20250915T061020Z
LAST-MODIFIED:20250915T061020Z
UID:48936-1759312800-1759338000@network.vegas
SUMMARY:Las Vegas Small Business Expo 2025
DESCRIPTION:Small Business Expo is Las Vegas’s Largest Networking & Educational Event for Small Business Owners & Entrepreneurs.\n\n\nLAS VEGAS SMALL BUSINESS EXPO 2025 \nWelcome to the Las Vegas Small Business Expo 2025! Get ready to connect\, learn\, and grow with fellow small business owners in the vibrant city of Las Vegas. Join us in person on Wednesday\, October 1st\, 2025 at 10:00 AM PST for a day filled with exciting opportunities. \nAt this Expo\, you’ll have the chance to network with like-minded entrepreneurs\, discover new products and services\, and gain valuable insights from industry experts. Whether you’re a startup or an established business\, this event is designed to help you thrive. \nExplore a wide range of exhibitors showcasing their innovative solutions and cutting-edge technologies. From marketing strategies to finance management\, you’ll find everything you need to take your business to the next level. Don’t miss the chance to connect with potential clients\, partners\, and collaborators. \nJoin us at the Las Vegas Small Business Expo 2025 and unlock the secrets to success. Mark your calendar and get ready to be inspired\, motivated\, and empowered. We look forward to seeing you there! \n \nExhibitor Information: \nFor exhibitor rates and information\, please visit us online at TheSmallBusinessExpo.com/exhibit
URL:https://network.vegas/calendar/las-vegas-small-business-expo-2025/
LOCATION:Plaza Hotel & Casino Convention Center\, 1 North Main Street\, Las Vegas\, NV\, 89101\, United States
ATTACH;FMTTYPE=image/jpeg:https://network.vegas/wp-content/uploads/2025/09/5086a71d42111b83e281a4cd60c99248.jpg
END:VEVENT
BEGIN:VEVENT
DTSTART;TZID=America/Los_Angeles:20241017T100000
DTEND;TZID=America/Los_Angeles:20241017T170000
DTSTAMP:20260424T122143
CREATED:20240827T021946Z
LAST-MODIFIED:20241010T163438Z
UID:39988-1729159200-1729184400@network.vegas
SUMMARY:Las Vegas Small Business Expo 2024
DESCRIPTION:Small Business Expo is Las Vegas’s Largest Networking & Educational Event for Small Business Owners & Entrepreneurs.\n\n\nLAS VEGAS SMALL BUSINESS EXPO 2024 \nWelcome to the Las Vegas Small Business Expo 2024! Get ready to connect\, learn\, and grow with fellow small business owners in the vibrant city of Las Vegas. Join us in person on Wednesday\, October 17\, 2024 at 10:00 AM PST for a day filled with exciting opportunities. \nAt this Expo\, you’ll have the chance to network with like-minded entrepreneurs\, discover new products and services\, and gain valuable insights from industry experts. Whether you’re a startup or an established business\, this event is designed to help you thrive. \nExplore a wide range of exhibitors showcasing their innovative solutions and cutting-edge technologies. From marketing strategies to finance management\, you’ll find everything you need to take your business to the next level. Don’t miss the chance to connect with potential clients\, partners\, and collaborators. \nJoin us at the Las Vegas Small Business Expo 2024 and unlock the secrets to success. Mark your calendar and get ready to be inspired\, motivated\, and empowered. We look forward to seeing you there! \n  \nExhibitor Information: \nFor exhibitor rates and information\, please visit us online at TheSmallBusinessExpo.com/exhibit \n\n\n 
URL:https://network.vegas/calendar/las-vegas-small-business-expo-2024/
LOCATION:Plaza Hotel & Casino Convention Center\, 1 North Main Street\, Las Vegas\, NV\, 89101\, United States
CATEGORIES:Las Vegas Business
ATTACH;FMTTYPE=image/jpeg:https://network.vegas/wp-content/uploads/2024/08/a7bfe485546e7fa6da7852fc5622be5e.jpg
END:VEVENT
END:VCALENDAR