BEGIN:VCALENDAR
VERSION:2.0
PRODID:-//Network.Vegas - ECPv6.15.20//NONSGML v1.0//EN
CALSCALE:GREGORIAN
METHOD:PUBLISH
X-ORIGINAL-URL:https://network.vegas
X-WR-CALDESC:Events for Network.Vegas
REFRESH-INTERVAL;VALUE=DURATION:PT1H
X-Robots-Tag:noindex
X-PUBLISHED-TTL:PT1H
BEGIN:VTIMEZONE
TZID:America/Los_Angeles
BEGIN:DAYLIGHT
TZOFFSETFROM:-0800
TZOFFSETTO:-0700
TZNAME:PDT
DTSTART:20240310T100000
END:DAYLIGHT
BEGIN:STANDARD
TZOFFSETFROM:-0700
TZOFFSETTO:-0800
TZNAME:PST
DTSTART:20241103T090000
END:STANDARD
BEGIN:DAYLIGHT
TZOFFSETFROM:-0800
TZOFFSETTO:-0700
TZNAME:PDT
DTSTART:20250309T100000
END:DAYLIGHT
BEGIN:STANDARD
TZOFFSETFROM:-0700
TZOFFSETTO:-0800
TZNAME:PST
DTSTART:20251102T090000
END:STANDARD
BEGIN:DAYLIGHT
TZOFFSETFROM:-0800
TZOFFSETTO:-0700
TZNAME:PDT
DTSTART:20260308T100000
END:DAYLIGHT
BEGIN:STANDARD
TZOFFSETFROM:-0700
TZOFFSETTO:-0800
TZNAME:PST
DTSTART:20261101T090000
END:STANDARD
END:VTIMEZONE
BEGIN:VEVENT
DTSTART;TZID=America/Los_Angeles:20250201T110000
DTEND;TZID=America/Los_Angeles:20250202T160000
DTSTAMP:20260424T204954
CREATED:20250116T215104Z
LAST-MODIFIED:20250116T215104Z
UID:43530-1738407600-1738512000@network.vegas
SUMMARY:Las Vegas Franchise Expo
DESCRIPTION:Join us at the Franchise Expo to explore 100’s of exciting business opportunities.  Find your perfect business. Or franchise your business!\n\n\nTwo expos in one! The Great American Franchise Expo & The Money Show. If you own a business or need business capital\, don’t miss these awesome events!
URL:https://network.vegas/calendar/las-vegas-franchise-expo/
LOCATION:Alexis Park Resort\, 375 East Harmon Avenue\, Las Vegas\, NV\, 89169\, United States
CATEGORIES:Convention
ATTACH;FMTTYPE=image/jpeg:https://network.vegas/wp-content/uploads/2025/01/963b3d0acfe09a939805f04725178813.jpg
END:VEVENT
END:VCALENDAR