BEGIN:VCALENDAR
VERSION:2.0
PRODID:-//Network.Vegas - ECPv6.15.20//NONSGML v1.0//EN
CALSCALE:GREGORIAN
METHOD:PUBLISH
X-ORIGINAL-URL:https://network.vegas
X-WR-CALDESC:Events for Network.Vegas
REFRESH-INTERVAL;VALUE=DURATION:PT1H
X-Robots-Tag:noindex
X-PUBLISHED-TTL:PT1H
BEGIN:VTIMEZONE
TZID:America/Los_Angeles
BEGIN:DAYLIGHT
TZOFFSETFROM:-0800
TZOFFSETTO:-0700
TZNAME:PDT
DTSTART:20240310T100000
END:DAYLIGHT
BEGIN:STANDARD
TZOFFSETFROM:-0700
TZOFFSETTO:-0800
TZNAME:PST
DTSTART:20241103T090000
END:STANDARD
BEGIN:DAYLIGHT
TZOFFSETFROM:-0800
TZOFFSETTO:-0700
TZNAME:PDT
DTSTART:20250309T100000
END:DAYLIGHT
BEGIN:STANDARD
TZOFFSETFROM:-0700
TZOFFSETTO:-0800
TZNAME:PST
DTSTART:20251102T090000
END:STANDARD
BEGIN:DAYLIGHT
TZOFFSETFROM:-0800
TZOFFSETTO:-0700
TZNAME:PDT
DTSTART:20260308T100000
END:DAYLIGHT
BEGIN:STANDARD
TZOFFSETFROM:-0700
TZOFFSETTO:-0800
TZNAME:PST
DTSTART:20261101T090000
END:STANDARD
BEGIN:DAYLIGHT
TZOFFSETFROM:-0800
TZOFFSETTO:-0700
TZNAME:PDT
DTSTART:20270314T100000
END:DAYLIGHT
BEGIN:STANDARD
TZOFFSETFROM:-0700
TZOFFSETTO:-0800
TZNAME:PST
DTSTART:20271107T090000
END:STANDARD
END:VTIMEZONE
BEGIN:VEVENT
DTSTART;TZID=America/Los_Angeles:20260319T073000
DTEND;TZID=America/Los_Angeles:20260319T090000
DTSTAMP:20260421T235627
CREATED:20260228T104643Z
LAST-MODIFIED:20260228T104646Z
UID:52294-1773905400-1773910800@network.vegas
SUMMARY:The State of M&A and Outlook for 2026
DESCRIPTION:
URL:https://network.vegas/calendar/the-state-of-ma-and-outlook-for-2026/
LOCATION:Sierra Gold – Second Floor Private Dining Room\, 6515 S. Jones Blvd.\, Las Vegas\, NV 89118\, Las Vegas
CATEGORIES:Networking
ATTACH;FMTTYPE=image/png:https://network.vegas/wp-content/uploads/2026/02/image-13.png
END:VEVENT
BEGIN:VEVENT
DTSTART;TZID=America/Los_Angeles:20251120T073000
DTEND;TZID=America/Los_Angeles:20251120T090000
DTSTAMP:20260421T235627
CREATED:20251025T080659Z
LAST-MODIFIED:20251025T080700Z
UID:49814-1763623800-1763629200@network.vegas
SUMMARY:SAR - One Big Beautiful Bill
DESCRIPTION:
URL:https://network.vegas/calendar/sar-one-big-beautiful-bill/
LOCATION:Sierra Gold\, 6515 S Jones Blvd\, Las Vegas\, Las Vegas\, NV\, 89118\, United States
CATEGORIES:Networking
ATTACH;FMTTYPE=image/png:https://network.vegas/wp-content/uploads/2025/10/image-19.png
END:VEVENT
BEGIN:VEVENT
DTSTART;TZID=America/Los_Angeles:20250320T073000
DTEND;TZID=America/Los_Angeles:20250320T090000
DTSTAMP:20260421T235627
CREATED:20250228T133414Z
LAST-MODIFIED:20250228T133415Z
UID:44494-1742455800-1742461200@network.vegas
SUMMARY:5 Myths of Exit Planning
DESCRIPTION:5 Myths of Exit Planning” is an exclusive event featuring Brian Mohler from Eagle Corporate Advisors and Joe Seetoo from Morton Wealth. They will discuss key strategies for business owners preparing for ownership transitions\, debunking common myths about exit planning. Learn how to maximize value\, ensure smooth transitions\, and secure financial futures. Gain valuable insights and networking opportunities.
URL:https://network.vegas/calendar/5-myths-of-exit-planning/
LOCATION:Sierra Gold – Second Floor Private Dining Room\, 6515 S. Jones Blvd.\, Las Vegas\, NV 89118\, Las Vegas
CATEGORIES:Legal, Financial & Government,Networking
ATTACH;FMTTYPE=image/png:https://network.vegas/wp-content/uploads/2025/02/9821782_7313273@2x.png
END:VEVENT
END:VCALENDAR