BEGIN:VCALENDAR
VERSION:2.0
PRODID:-//Network.Vegas - ECPv6.15.20//NONSGML v1.0//EN
CALSCALE:GREGORIAN
METHOD:PUBLISH
X-ORIGINAL-URL:https://network.vegas
X-WR-CALDESC:Events for Network.Vegas
REFRESH-INTERVAL;VALUE=DURATION:PT1H
X-Robots-Tag:noindex
X-PUBLISHED-TTL:PT1H
BEGIN:VTIMEZONE
TZID:America/Los_Angeles
BEGIN:DAYLIGHT
TZOFFSETFROM:-0800
TZOFFSETTO:-0700
TZNAME:PDT
DTSTART:20240310T100000
END:DAYLIGHT
BEGIN:STANDARD
TZOFFSETFROM:-0700
TZOFFSETTO:-0800
TZNAME:PST
DTSTART:20241103T090000
END:STANDARD
BEGIN:DAYLIGHT
TZOFFSETFROM:-0800
TZOFFSETTO:-0700
TZNAME:PDT
DTSTART:20250309T100000
END:DAYLIGHT
BEGIN:STANDARD
TZOFFSETFROM:-0700
TZOFFSETTO:-0800
TZNAME:PST
DTSTART:20251102T090000
END:STANDARD
BEGIN:DAYLIGHT
TZOFFSETFROM:-0800
TZOFFSETTO:-0700
TZNAME:PDT
DTSTART:20260308T100000
END:DAYLIGHT
BEGIN:STANDARD
TZOFFSETFROM:-0700
TZOFFSETTO:-0800
TZNAME:PST
DTSTART:20261101T090000
END:STANDARD
END:VTIMEZONE
BEGIN:VEVENT
DTSTART;TZID=America/Los_Angeles:20250621T100000
DTEND;TZID=America/Los_Angeles:20250622T180000
DTSTAMP:20260421T125727
CREATED:20250611T143232Z
LAST-MODIFIED:20250611T143232Z
UID:46756-1750500000-1750615200@network.vegas
SUMMARY:SoulSearch Las Vegas Enlightenment Expo - Psychic & Healing Fair ~ SAT&SUN
DESCRIPTION:Join our Enlightenment Expo! Experience psychic & tarot readings. Receive energy healings\, chakra balancing\, massage  & more – Sat&Sun!\n\n\nGet ready for an incredible experience at the our first SoulSearch Enlightenment Expo in fabulous Las Vegas\, where you’ll explore healing & transformation. \nJoin us for our 2-day Enlightenment Expo Saturday-Sunday. We have transformational talks & workshops all weekend. Meet energy healers\, spiritual guides\, mediums\, psychics\, astrologers\, intuitive artists\, holistic health experts and more at the SoulSearch Enlightenment Expo and Psychic & Healing Fair in Las Vegas\, Nevada!! \n \nTicket Info\nEarly Bird Tickets are FREE! \nTickets are $15 at the Door. \nAges 12 and under enter FREE. Admission includes access to the exhibit hall & all speakers. Tickets are good for BOTH Saturday & Sunday. \n \nEvent Info\nThe SoulSearch Las Vegas Enlightenment Expo and Psychic & Healing Arts Fair – Saturday & Sunday\, June 21st – 22nd\, 2025 – is a psychic & healing fair\, metaphysical festival\, health & wellness fair and mind body spirit expo. \nOur expo features psychics\, healers\, artists\, and speakers. Experience readings and healings for yourself and/or buy gift certificates for your loved ones – astrology readings\, tarot readings\, energy healing\, chakra balancing\, bodywork\, and much more. Shop crystals\, gemstone jewelry\, holistic self-care products\, wellness products\, handmade home decor products\, and much more. \nConnect with spiritual and energetic healers at the SoulSearch at the Las Vegas SoulSearch Enlightenment Expo\, where you’ll explore healing & transformation! Get readings\, clear your energy field\, and find crystals and other high vibe products. This will be a fun and exciting high frequency event. Don’t miss out on the transformational talks and experiences! \nPlease meet our practitioners here: soulsearch.io/lasvegasexpo \n \nSPECIAL EVENT! \n6:30 PM SaturdayCircle Readings with JARED THE MEDIUMSeating is limited to 20 | $55 \nRegister for an unforgettable evening with Jared the Medium at this limited Circle Reading event\, where everyone in the circle will have the opportunity to connect with their loved ones—whether family\, friends\, or even cherished pets! \nWith over a decade of experience as a professional medium\, Jared brings a refreshing approach to mediumship—straightforward\, earnest\, and truly grounded. His mantra? “The key is to get out of the way so that spirit can deliver the messages.” \nDon’t miss Jared the Medium’s original series\, *Medium Sized Ego*\, where powerful readings are blended with insightful teachings. Jared deeply believes that each of us has the ability to connect with the other side. Now streaming anytime on SoulSearch.TV—tune in and discover your own spiritual potential! \nLearn more at: www.soulsearch.io/jared-the-medium/united-states \n \nWatch Original Series on SoulSearch.TV\nSoulSearch.TV brings you the best brings you the best in Conscious Content that Ignites\, Inspires\, Enlightens\, Empowers\, and\, of course\, Entertains. Stream the latest episodes of your favorite SoulSearchTV shows on demand on Roku\, Amazon\, AppleTV & AndroidTV. Get access to our growing library of original shows and stay tuned for our upcoming LIVE TV events at https://soulsearch.tv \n \nAbout Us\nSoulSearch is your Global Guide to Spirituality & Consciousness: Find Healers & Guides\, Events\, Courses\, Community\, & Experiences. \nConnect with spiritual & energetic healers\, take courses\, read articles\, watch videos\, join groups\, and much more on www.SoulSearch.io Join our community for FREE! \nWatch here to learn more: https://youtu.be/HNxojTlGso4 \n \nBuy Vendor Booths\nVisit soulsearchexpos.com to purchase vendor booths or speaking slots. \nContact info@soulsearch.io if you have any questions. \n \nQuestions?\nIf you have any questions\, please contact info@soulsearch.io \n \nSocial Media\nFacebook: https://www.facebook.com/SoulSearch.io \nInstagram: https://www.instagram.com/soulsearch.io/ \nYouTube: https://youtu.be/HNxojTlGso4 \nTikTok: https://www.tiktok.com/@soulsearch.io \nMeetup: https://www.meetup.com/soulsearch-io-find-spiritual-energetic-experiences \n \nWishing you Health\, Joy\, Love\, & Abundance!
URL:https://network.vegas/calendar/soulsearch-las-vegas-enlightenment-expo-psychic-healing-fair-satsun/
LOCATION:Palace Station Hotel and Casino\, 2411 West Sahara Avenue\, Las Vegas\, NV\, 89102\, United States
ATTACH;FMTTYPE=image/jpeg:https://network.vegas/wp-content/uploads/2025/06/658d769b24b9c6cb0df44c3ea0e88a34.jpg
END:VEVENT
END:VCALENDAR