BEGIN:VCALENDAR
VERSION:2.0
PRODID:-//Network.Vegas - ECPv6.15.20//NONSGML v1.0//EN
CALSCALE:GREGORIAN
METHOD:PUBLISH
X-WR-CALNAME:Network.Vegas
X-ORIGINAL-URL:https://network.vegas
X-WR-CALDESC:Events for Network.Vegas
REFRESH-INTERVAL;VALUE=DURATION:PT1H
X-Robots-Tag:noindex
X-PUBLISHED-TTL:PT1H
BEGIN:VTIMEZONE
TZID:America/Los_Angeles
BEGIN:DAYLIGHT
TZOFFSETFROM:-0800
TZOFFSETTO:-0700
TZNAME:PDT
DTSTART:20230312T100000
END:DAYLIGHT
BEGIN:STANDARD
TZOFFSETFROM:-0700
TZOFFSETTO:-0800
TZNAME:PST
DTSTART:20231105T090000
END:STANDARD
BEGIN:DAYLIGHT
TZOFFSETFROM:-0800
TZOFFSETTO:-0700
TZNAME:PDT
DTSTART:20240310T100000
END:DAYLIGHT
BEGIN:STANDARD
TZOFFSETFROM:-0700
TZOFFSETTO:-0800
TZNAME:PST
DTSTART:20241103T090000
END:STANDARD
BEGIN:DAYLIGHT
TZOFFSETFROM:-0800
TZOFFSETTO:-0700
TZNAME:PDT
DTSTART:20250309T100000
END:DAYLIGHT
BEGIN:STANDARD
TZOFFSETFROM:-0700
TZOFFSETTO:-0800
TZNAME:PST
DTSTART:20251102T090000
END:STANDARD
BEGIN:DAYLIGHT
TZOFFSETFROM:-0800
TZOFFSETTO:-0700
TZNAME:PDT
DTSTART:20260308T100000
END:DAYLIGHT
BEGIN:STANDARD
TZOFFSETFROM:-0700
TZOFFSETTO:-0800
TZNAME:PST
DTSTART:20261101T090000
END:STANDARD
BEGIN:DAYLIGHT
TZOFFSETFROM:-0800
TZOFFSETTO:-0700
TZNAME:PDT
DTSTART:20270314T100000
END:DAYLIGHT
BEGIN:STANDARD
TZOFFSETFROM:-0700
TZOFFSETTO:-0800
TZNAME:PST
DTSTART:20271107T090000
END:STANDARD
END:VTIMEZONE
BEGIN:VEVENT
DTSTART;TZID=America/Los_Angeles:20260325T113000
DTEND;TZID=America/Los_Angeles:20260325T130000
DTSTAMP:20260424T135103
CREATED:20260314T121238Z
LAST-MODIFIED:20260314T121243Z
UID:52584-1774438200-1774443600@network.vegas
SUMMARY:March 2026 Luncheon - The Capital Playbook
DESCRIPTION:
URL:https://network.vegas/calendar/march-2026-luncheon-the-capital-playbook/
LOCATION:Orleans Hotel & Casino\, 4500 W Tropicana Road 2nd Floor Convention Area\, Las Vegas\, NV\, 89103\, United States
CATEGORIES:Featured,Networking
ATTACH;FMTTYPE=image/png:https://network.vegas/wp-content/uploads/2026/03/image-9.png
GEO:36.1104125;-115.2067011
X-APPLE-STRUCTURED-LOCATION;VALUE=URI;X-ADDRESS=Orleans Hotel & Casino 4500 W Tropicana Road 2nd Floor Convention Area Las Vegas NV 89103 United States;X-APPLE-RADIUS=500;X-TITLE=4500 W Tropicana Road 2nd Floor Convention Area:geo:-115.2067011,36.1104125
END:VEVENT
BEGIN:VEVENT
DTSTART;TZID=America/Los_Angeles:20260128T110000
DTEND;TZID=America/Los_Angeles:20260128T130000
DTSTAMP:20260424T135103
CREATED:20251229T185337Z
LAST-MODIFIED:20251229T185339Z
UID:51049-1769598000-1769605200@network.vegas
SUMMARY:2026 Economic Outlook:  Mapping the Market's Next Move
DESCRIPTION:2026 Economic Outlook: Mapping the Market’s Next Move \n\n\n\nWednesday\, January 28\, 2026 |  11:15 AM – 1:00 PM \n\n\n\nNOTE: New Start Times11:15 AM – Registration/Check-in11:45 AM – Program \n\n\n\nNew Year means New Coupon Code for Chapter Sponsors \n\n\n\nRegistration Deadline – 5:00 p.m.\, Friday\, January 23\, 2026 \n\n\n\n$65 – All payments made after the Registration Deadline or the day of the luncheon with or without Advance Registration.
URL:https://network.vegas/calendar/2026-economic-outlook-mapping-the-markets-next-move/
LOCATION:Orleans Hotel & Casino\, 4500 W Tropicana Road 2nd Floor Convention Area\, Las Vegas\, NV\, 89103\, United States
CATEGORIES:Featured,Networking,Professional Association,Real Estate & Construction
ATTACH;FMTTYPE=image/png:https://network.vegas/wp-content/uploads/2025/12/image-18.png
GEO:36.1104125;-115.2067011
X-APPLE-STRUCTURED-LOCATION;VALUE=URI;X-ADDRESS=Orleans Hotel & Casino 4500 W Tropicana Road 2nd Floor Convention Area Las Vegas NV 89103 United States;X-APPLE-RADIUS=500;X-TITLE=4500 W Tropicana Road 2nd Floor Convention Area:geo:-115.2067011,36.1104125
END:VEVENT
BEGIN:VEVENT
DTSTART;TZID=America/Los_Angeles:20250723T113000
DTEND;TZID=America/Los_Angeles:20250723T130000
DTSTAMP:20260424T135103
CREATED:20250605T095940Z
LAST-MODIFIED:20250605T095941Z
UID:46682-1753270200-1753275600@network.vegas
SUMMARY:CCIM July 2025 Luncheon
DESCRIPTION:Registration Deadline – 5:00 p.m.\, Friday\, July 18\, 2025 \n\n\n\n$65 – All payments made after the Registration Deadline or the day of the luncheon with or without Advance Registration. \n\n\n\nPhoto Release NoticePlease be aware that by entering the meeting areas\, you grant CCIM Insitute\, its assigns\, and /or any person or entity authorized by CCIM Institute permission to use your image and/or testimonial for any lawful purpose\, in all media\, whether now or hereafter known\, throughout the world in perpetuity\, without payment or other consideration\, and you release CCIM Insititute\, its successors \, assigns\, and licensees from any liability whatsoever of any nature. \n\n\n\nCancellations must be received in writing by Friday\, July 18\, 2025\, to receive a refund. No refunds after Friday\, July 18\, 2025. Substitutions are welcome – No shows will be billed.
URL:https://network.vegas/calendar/ccim-july-2025-luncheon/
LOCATION:Orleans Hotel & Casino\, 4500 W Tropicana Road 2nd Floor Convention Area\, Las Vegas\, NV\, 89103\, United States
CATEGORIES:Networking
GEO:36.1104125;-115.2067011
X-APPLE-STRUCTURED-LOCATION;VALUE=URI;X-ADDRESS=Orleans Hotel & Casino 4500 W Tropicana Road 2nd Floor Convention Area Las Vegas NV 89103 United States;X-APPLE-RADIUS=500;X-TITLE=4500 W Tropicana Road 2nd Floor Convention Area:geo:-115.2067011,36.1104125
END:VEVENT
BEGIN:VEVENT
DTSTART;TZID=America/Los_Angeles:20250625T113000
DTEND;TZID=America/Los_Angeles:20250625T130000
DTSTAMP:20260424T135103
CREATED:20250605T095037Z
LAST-MODIFIED:20250605T095038Z
UID:46680-1750851000-1750856400@network.vegas
SUMMARY:CCIM June 2025 Luncheon
DESCRIPTION:Program Details Coming Soon \n\n\n\nRegistration Deadline – 5:00 p.m.\, Friday\, June 20\, 2025 \n\n\n\n$65 – All payments made after the Registration Deadline or the day of the luncheon with or without Advance Registration. \n\n\n\nPhoto Release NoticePlease be aware that by entering the meeting areas\, you grant CCIM Insitute\, its assigns\, and /or any person or entity authorized by CCIM Institute permission to use your image and/or testimonial for any lawful purpose\, in all media\, whether now or hereafter known\, throughout the world in perpetuity\, without payment or other consideration\, and you release CCIM Insititute\, its successors \, assigns\, and licensees from any liability whatsoever of any nature. \n\n\n\nCancellations must be received in writing by Friday\, June 20\, 2025\, to receive a refund. No refunds after Friday\, June 20\, 2025. Substitutions are welcome – No shows will be billed.
URL:https://network.vegas/calendar/ccim-june-2025-luncheon/
LOCATION:Orleans Hotel & Casino\, 4500 W Tropicana Road 2nd Floor Convention Area\, Las Vegas\, NV\, 89103\, United States
CATEGORIES:Networking
GEO:36.1104125;-115.2067011
X-APPLE-STRUCTURED-LOCATION;VALUE=URI;X-ADDRESS=Orleans Hotel & Casino 4500 W Tropicana Road 2nd Floor Convention Area Las Vegas NV 89103 United States;X-APPLE-RADIUS=500;X-TITLE=4500 W Tropicana Road 2nd Floor Convention Area:geo:-115.2067011,36.1104125
END:VEVENT
BEGIN:VEVENT
DTSTART;TZID=America/Los_Angeles:20241218T113000
DTEND;TZID=America/Los_Angeles:20241218T130000
DTSTAMP:20260424T135103
CREATED:20241202T202448Z
LAST-MODIFIED:20241202T202450Z
UID:42922-1734521400-1734526800@network.vegas
SUMMARY:CCIM Holiday Luncheon
DESCRIPTION:Southern Nevada CCIM Chapter \n\n\n\n2024 Holiday LuncheonHonoring our Sponsors\, Designees & Members \n\n\n\nWednesday\, December 18\, 2024Four SeasonsFour Seasons Ballrooms 1 & 23960 Las Vegas Blvd. South | Las Vegas\, NV 89119**The Four Seasons Valet Only Parking will be Complimentary** \n\n\n\nGoogle Map \n\n\n\nYou can help with a donation to the John S. Park Elementary SchoolGo to the Wishlist \n\n\n\n11:30 a.m. – Registration and Networking \n\n\n\nNoon – 1:30 p.m. – Holiday ProgramChapter Sponsors are FREE$45 – Members$90 – Non-member GuestsRegistration Deadline – 5:00 p.m. Wednesday\, December 11\, 2024
URL:https://network.vegas/calendar/ccim-holiday-luncheon/
LOCATION:Four Seasons Hotel\, 3960 S Las Vegas Blvd\, Las Vegas\, NV 89119\, United States\, Las Vegas
CATEGORIES:Featured,Networking
ATTACH;FMTTYPE=image/jpeg:https://network.vegas/wp-content/uploads/2024/12/CCIM-Holiday-Luncheon.jpg
END:VEVENT
BEGIN:VEVENT
DTSTART;TZID=America/Los_Angeles:20240724T113000
DTEND;TZID=America/Los_Angeles:20240724T130000
DTSTAMP:20260424T135103
CREATED:20240714T134349Z
LAST-MODIFIED:20240714T134352Z
UID:38598-1721820600-1721826000@network.vegas
SUMMARY:CCIM July 2024 Luncheon - Securing Success
DESCRIPTION:
URL:https://network.vegas/calendar/ccim-july-2024-luncheon-securing-success/
LOCATION:The Orleans Hotel & Casino – 2nd Floor Convention Area\, 4500 W Tropicana Ave\, Las Vegas\, NV 89103\, United States\, Las Vegas\, NV\, United States
CATEGORIES:Networking,Professional Association
ATTACH;FMTTYPE=image/png:https://network.vegas/wp-content/uploads/2021/07/CCIM-Banner.png
END:VEVENT
BEGIN:VEVENT
DTSTART;TZID=America/Los_Angeles:20240722T080000
DTEND;TZID=America/Los_Angeles:20240722T170000
DTSTAMP:20260424T135103
CREATED:20240714T134532Z
LAST-MODIFIED:20240714T134536Z
UID:38603-1721635200-1721667600@network.vegas
SUMMARY:CCIM 2024 CI 101 Financial Analysis Course
DESCRIPTION:CI 101 is a bedrock class for real estate practitioners at a time when risk mitigation\, pricing\, and cycle assurance have become critical to investors.  CI 101 introduces the CCIM Cash Flow Model\, a tool for ensuring your investment decisions are based on wise finance fundamentals. During the course\, you will learn how to use key financial concepts such as Internal Rate of Return (IRR)\, Net Present Value (NPV)\, Cap Rate\, Capital Accumulation\, and the Annual Growth Rate of Capital to compare different types of commercial real estate investments.
URL:https://network.vegas/calendar/ccim-2024-ci-101-financial-analysis-course/
LOCATION:LV Realtors\, 6360 S. Rainbow Blvd.\, Las Vegas\, NV 89118\, Las Vegas
CATEGORIES:Education,Professional Association
ATTACH;FMTTYPE=image/png:https://network.vegas/wp-content/uploads/2021/07/CCIM-Banner.png
END:VEVENT
BEGIN:VEVENT
DTSTART;TZID=America/Los_Angeles:20240719T090000
DTEND;TZID=America/Los_Angeles:20240719T160000
DTSTAMP:20260424T135103
CREATED:20240714T134652Z
LAST-MODIFIED:20240714T134655Z
UID:38604-1721379600-1721404800@network.vegas
SUMMARY:Commercial Alliance Elevate Your Real Estate Education Skills
DESCRIPTION:Schedule \n\n\n\n\nMorning Session (9 AM – Noon) – Train the Trainer\n\n\n\nAfternoon Session (1 PM – 4 PM) – Writing Commercial Classes
URL:https://network.vegas/calendar/commercial-alliance-elevate-your-real-estate-education-skills/
LOCATION:LV Realtors\, 6360 S. Rainbow Blvd.\, Las Vegas\, NV 89118\, Las Vegas
CATEGORIES:Professional Association
ATTACH;FMTTYPE=image/png:https://network.vegas/wp-content/uploads/2021/07/CCIM-Banner.png
END:VEVENT
BEGIN:VEVENT
DTSTART;TZID=America/Los_Angeles:20240626T113000
DTEND;TZID=America/Los_Angeles:20240626T130000
DTSTAMP:20260424T135103
CREATED:20240614T224719Z
LAST-MODIFIED:20240614T224722Z
UID:38239-1719401400-1719406800@network.vegas
SUMMARY:CCIM June 2024 Luncheon - Local Market Update - The Good\, The New\, The Upcoming
DESCRIPTION:
URL:https://network.vegas/calendar/ccim-june-2024-luncheon-local-market-update-the-good-the-new-the-upcoming/
LOCATION:The Orleans Hotel & Casino – 2nd Floor Convention Area\, 4500 W Tropicana Ave\, Las Vegas\, NV 89103\, United States\, Las Vegas\, NV\, United States
CATEGORIES:Networking,Professional Association
ATTACH;FMTTYPE=image/png:https://network.vegas/wp-content/uploads/2021/07/CCIM-Banner.png
END:VEVENT
BEGIN:VEVENT
DTSTART;TZID=America/Los_Angeles:20240517T113000
DTEND;TZID=America/Los_Angeles:20240517T130000
DTSTAMP:20260424T135103
CREATED:20240517T165803Z
LAST-MODIFIED:20240517T165808Z
UID:37907-1715945400-1715950800@network.vegas
SUMMARY:CCIM May 2024 Luncheon - The Future of Transportation
DESCRIPTION:
URL:https://network.vegas/calendar/ccim-may-2024-luncheon-the-future-of-transportation/
LOCATION:The Orleans Hotel & Casino – 2nd Floor Convention Area\, 4500 W Tropicana Ave\, Las Vegas\, NV 89103\, United States\, Las Vegas\, NV\, United States
CATEGORIES:Networking,Professional Association
ATTACH;FMTTYPE=image/png:https://network.vegas/wp-content/uploads/2021/07/CCIM-Banner.png
END:VEVENT
BEGIN:VEVENT
DTSTART;TZID=America/Los_Angeles:20240424T113000
DTEND;TZID=America/Los_Angeles:20240424T130000
DTSTAMP:20260424T135103
CREATED:20240420T104404Z
LAST-MODIFIED:20240420T104407Z
UID:36523-1713958200-1713963600@network.vegas
SUMMARY:CCIM April 2024 Luncheon - The Realm of Las Vegas Entertainment
DESCRIPTION:
URL:https://network.vegas/calendar/ccim-april-2024-luncheon-the-realm-of-las-vegas-entertainment/
CATEGORIES:Networking,Professional Association
ATTACH;FMTTYPE=image/png:https://network.vegas/wp-content/uploads/2021/07/CCIM-Banner.png
END:VEVENT
BEGIN:VEVENT
DTSTART;TZID=America/Los_Angeles:20240411T170000
DTEND;TZID=America/Los_Angeles:20240411T200000
DTSTAMP:20260424T135103
CREATED:20240406T074105Z
LAST-MODIFIED:20240406T074109Z
UID:36098-1712854800-1712865600@network.vegas
SUMMARY:CCIM 2024 Beer & Poker Run
DESCRIPTION:
URL:https://network.vegas/calendar/ccim-2024-beer-poker-run/
LOCATION:Able Baker Brewing\, 1510 S Main Street\, Ste 120\, Las Vegas
CATEGORIES:Professional Association
ATTACH;FMTTYPE=image/png:https://network.vegas/wp-content/uploads/2021/07/CCIM-Banner.png
END:VEVENT
BEGIN:VEVENT
DTSTART;TZID=America/Los_Angeles:20240328T080000
DTEND;TZID=America/Los_Angeles:20240328T110000
DTSTAMP:20260424T135103
CREATED:20240322T133558Z
LAST-MODIFIED:20240322T133601Z
UID:35805-1711612800-1711623600@network.vegas
SUMMARY:CCIM 2024 Title 30 Workshop
DESCRIPTION:
URL:https://network.vegas/calendar/ccim-2024-title-30-workshop/
LOCATION:Las Vegas Realtors\, 6360 S Rainbow Blvd\, Las Vegas\, NV 89118\, Las Vegas
CATEGORIES:Government & Education,Professional Association
ATTACH;FMTTYPE=image/png:https://network.vegas/wp-content/uploads/2021/07/CCIM-Banner.png
END:VEVENT
BEGIN:VEVENT
DTSTART;TZID=America/Los_Angeles:20240327T113000
DTEND;TZID=America/Los_Angeles:20240327T130000
DTSTAMP:20260424T135103
CREATED:20240322T133708Z
LAST-MODIFIED:20240322T133711Z
UID:35807-1711539000-1711544400@network.vegas
SUMMARY:CCIM March 2024 Luncheon - Inspiring Excellence
DESCRIPTION:
URL:https://network.vegas/calendar/ccim-march-2024-luncheon-inspiring-excellence/
LOCATION:The Orleans Hotel & Casino – 2nd Floor Convention Area\, 4500 W Tropicana Ave\, Las Vegas\, NV 89103\, United States\, Las Vegas\, NV\, United States
CATEGORIES:Networking,Professional Association
ATTACH;FMTTYPE=image/png:https://network.vegas/wp-content/uploads/2021/07/CCIM-Banner.png
END:VEVENT
END:VCALENDAR