BEGIN:VCALENDAR
VERSION:2.0
PRODID:-//Network.Vegas - ECPv6.15.20//NONSGML v1.0//EN
CALSCALE:GREGORIAN
METHOD:PUBLISH
X-ORIGINAL-URL:https://network.vegas
X-WR-CALDESC:Events for Network.Vegas
REFRESH-INTERVAL;VALUE=DURATION:PT1H
X-Robots-Tag:noindex
X-PUBLISHED-TTL:PT1H
BEGIN:VTIMEZONE
TZID:America/Los_Angeles
BEGIN:DAYLIGHT
TZOFFSETFROM:-0800
TZOFFSETTO:-0700
TZNAME:PDT
DTSTART:20240310T100000
END:DAYLIGHT
BEGIN:STANDARD
TZOFFSETFROM:-0700
TZOFFSETTO:-0800
TZNAME:PST
DTSTART:20241103T090000
END:STANDARD
BEGIN:DAYLIGHT
TZOFFSETFROM:-0800
TZOFFSETTO:-0700
TZNAME:PDT
DTSTART:20250309T100000
END:DAYLIGHT
BEGIN:STANDARD
TZOFFSETFROM:-0700
TZOFFSETTO:-0800
TZNAME:PST
DTSTART:20251102T090000
END:STANDARD
BEGIN:DAYLIGHT
TZOFFSETFROM:-0800
TZOFFSETTO:-0700
TZNAME:PDT
DTSTART:20260308T100000
END:DAYLIGHT
BEGIN:STANDARD
TZOFFSETFROM:-0700
TZOFFSETTO:-0800
TZNAME:PST
DTSTART:20261101T090000
END:STANDARD
END:VTIMEZONE
BEGIN:VEVENT
DTSTART;TZID=America/Los_Angeles:20250410T000000
DTEND;TZID=America/Los_Angeles:20250410T235959
DTSTAMP:20260423T025947
CREATED:20250210T184310Z
LAST-MODIFIED:20250210T184310Z
UID:44065-1744243200-1744329599@network.vegas
SUMMARY:LivingWell Senior Expo April 10\, 2025
DESCRIPTION:Our free senior expo is committed to providing our community’s most valuable resource\, it’s seniors\, with the tools they need to stay informed and lead healthy\, happy lives. \nNot just for seniors\, caregivers and family members will also enjoy the day! LivingWell Senior Expo boasts over 2\,500 senior resource partnerships in the past 9 years including: \n-Solar\n-Optical\n-Fitness\n-Housing\n-Hospice\n-Finance\n-Insurance\n-Legal\n-Audiology\n-Arts & Crafts\n-Home Security\n-Home Improvement\n-Medical Clinics\n-Cosmetics & Beauty\nand so much more.
URL:https://network.vegas/calendar/livingwell-senior-expo-april-10-2025/
LOCATION:LivingWell Senior Expo Centennial Hills YMCA\, 6601 N Buffalo Dr\, Las Vegas\, NV\, 89131\, United States
CATEGORIES:Community
ATTACH;FMTTYPE=image/webp:https://network.vegas/wp-content/uploads/2025/02/Green-Valley-10-27-23img_0397-M1Alnp.tmp_.webp
ORGANIZER;CN="Pro Expo LV":MAILTO:info@proexpolv.com
END:VEVENT
END:VCALENDAR