BEGIN:VCALENDAR
VERSION:2.0
PRODID:-//Network.Vegas - ECPv6.15.20//NONSGML v1.0//EN
CALSCALE:GREGORIAN
METHOD:PUBLISH
X-ORIGINAL-URL:https://network.vegas
X-WR-CALDESC:Events for Network.Vegas
REFRESH-INTERVAL;VALUE=DURATION:PT1H
X-Robots-Tag:noindex
X-PUBLISHED-TTL:PT1H
BEGIN:VTIMEZONE
TZID:America/Los_Angeles
BEGIN:DAYLIGHT
TZOFFSETFROM:-0800
TZOFFSETTO:-0700
TZNAME:PDT
DTSTART:20230312T100000
END:DAYLIGHT
BEGIN:STANDARD
TZOFFSETFROM:-0700
TZOFFSETTO:-0800
TZNAME:PST
DTSTART:20231105T090000
END:STANDARD
BEGIN:DAYLIGHT
TZOFFSETFROM:-0800
TZOFFSETTO:-0700
TZNAME:PDT
DTSTART:20240310T100000
END:DAYLIGHT
BEGIN:STANDARD
TZOFFSETFROM:-0700
TZOFFSETTO:-0800
TZNAME:PST
DTSTART:20241103T090000
END:STANDARD
BEGIN:DAYLIGHT
TZOFFSETFROM:-0800
TZOFFSETTO:-0700
TZNAME:PDT
DTSTART:20250309T100000
END:DAYLIGHT
BEGIN:STANDARD
TZOFFSETFROM:-0700
TZOFFSETTO:-0800
TZNAME:PST
DTSTART:20251102T090000
END:STANDARD
BEGIN:DAYLIGHT
TZOFFSETFROM:-0800
TZOFFSETTO:-0700
TZNAME:PDT
DTSTART:20260308T100000
END:DAYLIGHT
BEGIN:STANDARD
TZOFFSETFROM:-0700
TZOFFSETTO:-0800
TZNAME:PST
DTSTART:20261101T090000
END:STANDARD
END:VTIMEZONE
BEGIN:VEVENT
DTSTART;TZID=America/Los_Angeles:20251209T163000
DTEND;TZID=America/Los_Angeles:20251209T180000
DTSTAMP:20260425T052815
CREATED:20251209T213426Z
LAST-MODIFIED:20251209T213427Z
UID:50793-1765297800-1765303200@network.vegas
SUMMARY:POWHer of WE Holiday Happy Hour
DESCRIPTION:Annual Holiday Happy Hour | Tues. Dec 9th | Close out the Year with Colleagues & Friends!\n\n\nJoin Us for Holiday Happy Hour!\n \nDate: Tuesday\, December 9Time: 4:30 PM – 6:00 PMLocation: Dom Demarco’s Pizzeria & Wine Bar(LV 89117)Cost: $15 for Members / $25 for Non-MembersIncludes: Lite Bites \n \nCelebrate the season of joy and togetherness with an evening of warmth and cheer at our Annual Holiday Happy Hour. Gather with fellow women entrepreneurs and business leaders  for a delightful mix of food\, conversations\, and wonderful company.  \nIt’s the perfect setting to unwind\, mingle\, and celebrate our achievements and friendships\, old and new. Don’t miss this wonderful opportunity to connect and make merry in the spirit of the holidays.  \n \nSpace is limited. \nRSVP Today and get ready to share in the festivities. \nWe look forward to celebrating with you!
URL:https://network.vegas/calendar/powher-of-we-holiday-happy-hour/
LOCATION:Dom Demarco’s Pizzeria & Wine Bar\, 9785 West Charleston Boulevard\, Las Vegas\, NV\, 89117\, United States
CATEGORIES:Networking
ATTACH;FMTTYPE=image/jpeg:https://network.vegas/wp-content/uploads/2025/12/a1438d4f8f8bd512cc6550a32a258eb7.jpg
END:VEVENT
BEGIN:VEVENT
DTSTART;TZID=America/Los_Angeles:20250610T083000
DTEND;TZID=America/Los_Angeles:20250610T100000
DTSTAMP:20260425T052815
CREATED:20250418T181910Z
LAST-MODIFIED:20250513T222441Z
UID:45463-1749544200-1749549600@network.vegas
SUMMARY:Building Bridges: The Power of Empathy and  Curiosity in Communications
DESCRIPTION:Qrtly POWHer Breakfast: Building Bridges – How curiosity & empathy create powerful connections in business and workplace communications\n\n\nBuilding Bridges\nThe Power of Curiosity and Empathy in Business and Workplace Communications\n \nJoin us for an enlightening POWHer Breakfast\, themed “Building Bridges.” This session is designed for leaders and teams who aspire to transform their workplace culture through effective communication. \n \nWhy Attend? \nIn today’s fast-paced business environment\, the art of communication through curiosity and empathy is not just beneficial—it’s essential. Transformative dialogues can lead to breakthroughs in productivity\, foster a culture of mutual respect\, and ignite innovation across all levels of your organization. \n \nWhat You Will Learn: \nEmpathetic Leadership: Discover how to use empathy not just as a tool\, but as a transformational leadership strategy to deepen trust and engagement among your team members. \nCuriosity-Driven Results: Learn how fostering curiosity can uncover hidden potential within your team\, leading to greater understanding and more innovative solutions. \nConflict to Collaboration: Practice real-life techniques that transform potential conflicts into collaborative dialogues\, enhancing team dynamics and outcomes. \n\n\n\nTracy Gniewek brings over 30 years of experience in leading Human Resources teams and partnering with executive leadership in corporate environments. As the founder and President of TG HR Consulting\, Tracy is recognized as a “Champion of Change\,” dedicated to enhancing leadership capabilities and fostering engaged\, high-performing teams. Her firm specializes in delivering comprehensive HR solutions\, including organizational planning\, leadership development\, employee engagement\, and conflict resolution to businesses nationwide. \nA passionate and intuitive coach\, Tracy is committed to driving business performance by transforming workplace dynamics. She resides in Las Vegas\, where she is an active member of the local non-profit community and a founding member of Vegas Strategic Connectors. \n \nReady to transform your leadership and communication styles? \nJoin us at the POWHer Breakfast for a morning of transformative insights and networking. Elevate your team’s communication dynamics and lead the charge towards a more collaborative and innovative future.  \n \nRegister now to secure your spot!
URL:https://network.vegas/calendar/building-bridges-the-power-of-empathy-and-curiosity-in-communications/
LOCATION:Nevada State Business Center- Department of Business and Industry\, 3300 West Sahara Avenue\, Red Rock Room\, Las Vegas\, NV\, 89102\, United States
CATEGORIES:Networking
ATTACH;FMTTYPE=image/jpeg:https://network.vegas/wp-content/uploads/2025/04/7e8c0c782308fa4a2756e6cdece8eae6.jpg
END:VEVENT
BEGIN:VEVENT
DTSTART;TZID=America/Los_Angeles:20250508T163000
DTEND;TZID=America/Los_Angeles:20250508T183000
DTSTAMP:20260425T052815
CREATED:20250418T181908Z
LAST-MODIFIED:20250423T233126Z
UID:45461-1746721800-1746729000@network.vegas
SUMMARY:ConnectHER to Business Mixer (Reno)
DESCRIPTION:Networking. Connections. Women in Business.\n\n\nYou’re invited to the May ConnectHER to Business Mixer\n \nJoin us for an evening of networking and connections with other women business owners\, professionals and entrepreneurs on Thursday\, May 8 at the beautiful Dolce Vita Spa in Reno\, NV. \n \nWhen: May 8\, 2025 \nTime: 4:30 – 6:30 pm \nWhere: Dolce Vita \nCost: $20 per person \nCapacity will be limited to no more than 25. \n \n\nNetworking\nSkincare tips by Dolce Vita\nStyling tips with Khalilah Cage\nWine & Chocolate pairing by Dorinda’s Chocolates and About Town Deb Wine with Purpose\n\n \nRegister Today. We’ll see you there!
URL:https://network.vegas/calendar/connecther-to-business-mixer-reno/
LOCATION:Dolce Vita Wellness Spa\, 7200 Rancharrah Parkway\, Reno\, NV\, 89511\, United States
CATEGORIES:Networking
ATTACH;FMTTYPE=image/jpeg:https://network.vegas/wp-content/uploads/2025/04/9815ee6ee84ed61bbf22230acfea89fa.jpg
END:VEVENT
BEGIN:VEVENT
DTSTART;TZID=America/Los_Angeles:20241107T083000
DTEND;TZID=America/Los_Angeles:20241107T100000
DTSTAMP:20260425T052815
CREATED:20241031T013838Z
LAST-MODIFIED:20241031T013838Z
UID:42352-1730968200-1730973600@network.vegas
SUMMARY:POWHer Breakfast: Rev Up Your Revenue - Part 2
DESCRIPTION:Morning Meetings with Meaning\n\n\nJoin Us for POWHer Breakfast: Rev Up Your Revenue – PART 2 \n \nDon’t miss the continuation of our engaging discussion from August at the next POWHer Breakfast\, where we dive deeper into the topics you care most about! This event is tailored to both returning attendees seeking more in-depth knowledge and newcomers looking for key insights into enhancing their business strategies. \n \nWhen & Where: \nDate: Thurs. Nov. 7\, 2024 \nTime: 8:30 AM – 10:00 AM (Doors open at 8:15 AM) \nLocation: Red Rock Room\, Dept of Business & Industry\, Las Vegas 89102 \nCost: $25 for Members / $35 for Non-Members \n \nFeaturing Presenter Monica Coburn \nFounder & President\, Nevada Business Advisors and Co-Founder\, POWHer of WE \n \nSession Highlights: \n✔️Focused Learning: Dive deeper into strategies to rev up your revenue through a mix of practical and collaborative discussions. \n✔️Interactive Q&A: Bring your questions and hear directly from Monica as we tackle the most requested topics from our last session. \n✔️Community Connection: Meet and share experiences with fellow women in business\, fostering relationships that support personal and professional growth. \n \nWhy You Should Join US: \n✔️Tailored Insights \n✔️Expand Your Network: \n✔️Actionable Strategies: \n \nSecure Your Spot Today! \nDon’t miss this opportunity to enhance your business acumen and network with peers in an empowering environment.
URL:https://network.vegas/calendar/powher-breakfast-rev-up-your-revenue-part-2/
LOCATION:Nevada State Business Center- Department of Business and Industry\, 3300 West Sahara Avenue\, Red Rock Room\, Las Vegas\, NV\, 89102\, United States
CATEGORIES:Networking
ATTACH;FMTTYPE=image/jpeg:https://network.vegas/wp-content/uploads/2024/10/e381e0a44eb73808ecd27d95921be2f6.jpg
END:VEVENT
BEGIN:VEVENT
DTSTART;TZID=America/Los_Angeles:20240814T083000
DTEND;TZID=America/Los_Angeles:20240814T100000
DTSTAMP:20260425T052815
CREATED:20240808T161225Z
LAST-MODIFIED:20240808T161225Z
UID:39143-1723624200-1723629600@network.vegas
SUMMARY:POWHer Breakfast: Rev Up Your Revenue
DESCRIPTION:Morning Meetings with Meaning. Unlock the power of modern sales techniques and diverse revenue streams.\n\n\nJoin us for an invigorating morning of insights and networking!\n \nWhether you’re a seasoned sales professional or looking to refine your revenue generation strategy\, our breakfast meeting is the perfect opportunity to dive deep into the world of modern sales techniques and innovative revenue streams presented by Monica Coburn\, Founder and President\, Nevada Business Advisors\, and Co-Founder\, POWHer of WE. \n\nWhat we’ll cover:\n\nSales Techniques & Customer Acquisition: Discover how to elevate your sales game through consultative and relationship-based selling. Learn effective approaches to connect genuinely with your clients and secure long-term business.\nLead Generation Tactics: Enhance your lead pipeline with proven methods such as cold calling\, strategic networking\, and leveraging referrals.\nInnovative Revenue Streams: Explore how to diversify your income sources and the potential benefits of forming partnerships and collaborations that can open new revenue channels.\n\n \nWhy You Should Attend: \n\nExpert Insights: Gain valuable knowledge from our expert speaker who will share actionable strategies tailored to today’s market challenges.\nNetworking Opportunities: Connect with like-minded professionals and expand your network in a dynamic setting.\nPractical Takeaways: Leave with practical tips and techniques that you can immediately implement to enhance your sales performance and business growth.\n\n \nDon’t miss this chance to boost your sales skills and discover new avenues for revenue. \nSecure your spot today!
URL:https://network.vegas/calendar/powher-breakfast-rev-up-your-revenue/
LOCATION:Nevada State Business Center- Department of Business and Industry\, 3300 West Sahara Avenue\, Red Rock Room\, Las Vegas\, NV\, 89102\, United States
CATEGORIES:Las Vegas Business
ATTACH;FMTTYPE=image/jpeg:https://network.vegas/wp-content/uploads/2024/08/af2fc97bf1068366c27c742940387593.jpg
END:VEVENT
END:VCALENDAR