BEGIN:VCALENDAR
VERSION:2.0
PRODID:-//Network.Vegas - ECPv6.15.20//NONSGML v1.0//EN
CALSCALE:GREGORIAN
METHOD:PUBLISH
X-ORIGINAL-URL:https://network.vegas
X-WR-CALDESC:Events for Network.Vegas
REFRESH-INTERVAL;VALUE=DURATION:PT1H
X-Robots-Tag:noindex
X-PUBLISHED-TTL:PT1H
BEGIN:VTIMEZONE
TZID:America/Los_Angeles
BEGIN:DAYLIGHT
TZOFFSETFROM:-0800
TZOFFSETTO:-0700
TZNAME:PDT
DTSTART:20230312T100000
END:DAYLIGHT
BEGIN:STANDARD
TZOFFSETFROM:-0700
TZOFFSETTO:-0800
TZNAME:PST
DTSTART:20231105T090000
END:STANDARD
BEGIN:DAYLIGHT
TZOFFSETFROM:-0800
TZOFFSETTO:-0700
TZNAME:PDT
DTSTART:20240310T100000
END:DAYLIGHT
BEGIN:STANDARD
TZOFFSETFROM:-0700
TZOFFSETTO:-0800
TZNAME:PST
DTSTART:20241103T090000
END:STANDARD
BEGIN:DAYLIGHT
TZOFFSETFROM:-0800
TZOFFSETTO:-0700
TZNAME:PDT
DTSTART:20250309T100000
END:DAYLIGHT
BEGIN:STANDARD
TZOFFSETFROM:-0700
TZOFFSETTO:-0800
TZNAME:PST
DTSTART:20251102T090000
END:STANDARD
END:VTIMEZONE
BEGIN:VEVENT
DTSTART;TZID=America/Los_Angeles:20240626T080000
DTEND;TZID=America/Los_Angeles:20240626T150000
DTSTAMP:20260424T163339
CREATED:20240606T080443Z
LAST-MODIFIED:20241004T020803Z
UID:38107-1719388800-1719414000@network.vegas
SUMMARY:Icon Speaker Mastery Program
DESCRIPTION:The Icon Speaker Mastery Program is designed to help anyone monetize your passion & build your business from any Live/Digital stage.Come & Learn the Following: How to get over the Fear of Public Speaking How to Build a List of Qualified leads How to Market yourself on Social Media How to get booked to speak on stages How to Monetize your passion & business from the stage Plus access to our online learning platform for 1 year How to Maximize lead generation via social media Here are some great reasons to attend the Icon Speaker Program: Expert Guidance: Learn from Bill Walsh\, a recognized expert in the industry\, and gain insights from his experience and knowledge.Skill Enhancement: Acquire practical skills and techniques to enhance your public speaking\, leadership\, or business skills\, depending on the focus of the training.Networking Opportunities: Connect with like-minded individuals\, potential mentors\, and industry professionals during the event\, expanding your network.Motivation and Inspiration: Gain motivation and inspiration from Bill Walsh’s success stories and experiences\, helping you stay focused on your goals.Exclusive Content: Access exclusive content\, strategies\, and information that may not be readily available elsewhere.Time-Efficient: A one-day training program is often more accessible for individuals with busy schedules\, offering a concentrated learning experience.Practical Insights: Receive practical insights and real-world examples that can be immediately applied to your personal or professional life.Q&A Sessions: Engage in interactive Q&A sessions to get specific answers to your questions and challenges.Personalized Feedback: Some programs offer opportunities for participants to receive personalized feedback on their skills or projects.Investment in Self: Treat it as an investment in your personal and professional development\, with the potential for a significant return on investment in terms of career advancement or business growth.Meet your Guest Speaker for this amazing Icon Speaker Program Bill Walsh America’s Small Business-Expert & Top Business Coach Bill is a venture capitalist and is the CEO/Founder of the Success Education/Business Coaching firm Powerteam International. Bill hosts and speaks at events all over the world! His passion is to empower entrepreneurs and business owners to create massive success. He is the best selling author of the book “The Obvious”\, is an amazing speaker\, radio personality and movie celebrity. He has a very successful background in finance and marketing. He has spent over two decades working with start-ups to major global brands to help them increase sales\, productivity and overall success. He is an innovator with a remarkable ability to determine and build success plans to help business owners seize immediate market opportunities. For everyone that owns a business or would like to capitalize their entrepreneurial dream\, his message will enlighten them with knowledge and action principles to turn that passion into success! Bill has an extensive background in foreign currency trading\, real estate development and building businesses in more than 30 countries. Over the past two decades\, his firm has specialized in helping companies launch\, grow and create exponential valuation in the market. The Rainmaker Summit and WIN University programs offered through Powerteam are designed to assist entrepreneurs in creating the focus\, plans and partnerships required to build multi-million dollar companies! For the past 6 Years Bill has been recognized by GURU Magazine as one of the top 30 Business Coaches in the world. In 2021 he was awarded as the #10 Business Coach in the world. When you get time with him you will see why he has helped so many companies create even more success! To Learn More about the Powerteam Organization please watch the Video Below:
URL:https://network.vegas/calendar/icon-speaker-mastery-program/
LOCATION:Chicago Marriott Northwest\, 4800 Hoffman Boulevard\, Hoffman Estates\, IL\, 60192\, United States
ATTACH;FMTTYPE=image/jpeg:https://network.vegas/wp-content/uploads/2024/06/9c8caab2ee818f7338905a20f9a7c38f.jpg
END:VEVENT
BEGIN:VEVENT
DTSTART;TZID=America/Los_Angeles:20240621T150000
DTEND;TZID=America/Los_Angeles:20240623T160000
DTSTAMP:20260424T163339
CREATED:20240606T080437Z
LAST-MODIFIED:20240606T080437Z
UID:38103-1718982000-1719158400@network.vegas
SUMMARY:Rainmaker Summit Entrepreneur Success Program
DESCRIPTION:The Rainmaker Summit is the Ultimate Breakthrough Experience for entrepreneurs and small business owners.\n\n\nThe Rainmaker Summit is the Ultimate Breakthrough Experience for entrepreneurs and small business owners! When you attend this  Multi-DAy event you will be trained on how to launch\, grow and build an even more successful business. The foundation of the program is based on what it takes to become a brilliant leader\, have the best systems in the world and how to unleash quantum productivity in your life to accelerate your success. The Summit is a comprehensive program designed specifically to help you create a clearly defined 24-Month Success Blueprint for your life and business! At Rainmaker\, you will also learn how to connect and do deals with some of the most successful entrepreneurs from around the world\, monetize your passion and become 100% accountable to your success plan! Come and discover proven strategies and concepts that are specifically designed to assist your company in increasing your revenue and bottom line profits! If you are just getting started\, or already run a successful business and are serious about creating even more success\, then you will love the Rainmaker Summit Program. \n \nDuring this 3 day event plus the 2 UWC Bonus Days & 1 Icon Speaker Camp Day\, Powerteam small business experts will personally train you on how to grow your business… or launch a new one! The Rainmaker Summit is a comprehensive strategy weekend\, designed specifically to help you create a clearly defined\, 24 Month Success Blueprint for your life and business! Learn how to connect with multi-millionaires and realize the benefits of being part of the Powerteam Network! The Rainmaker Summit is a Breakthrough Experience for business owners and entrepreneurs! At Rainmaker\, you will reignite your passion\, become focused and design your 2 year success plan! Come and discover proven systems and accountability programs specifically designed to increase your revenue! You will learn how to connect with millionaires\, network with other brilliant people\, tap into your own competencies and take 100% ownership in creating success in the future! \n* Ultimate Breakthrough Experience* Success Plan* Increased Productivity* Money Making Website* Acquiring Business Capital* Professional Business Coaching* Great Networking Opportunities* Social Media Strategies* Your 2 Minute Presentation* Connect With Millionaires* Business Marketing System* Laser Focused Vision* Get Super Organized* Make More Money* Have More Time* Live Your Passion* Access to Powerteam Resource Center* Access to Global Rainmaker Community \nCome & Get your Blueprint For Success…Would you invest several hundred thousand dollars to build a house\, and then neglect paying for a blueprint? Your chances of ending up with anything usable would be slim to none! A project such as building a house or assembling a car requires a detailed plan\, crafted by experts with experience. Isn’t your future and quality of life more important than any material posession\, like a car or house? The fact is that the marketplace is constantly changing and solid proven plans are more essential then ever… Especially in these tough economic times!\n \n…Or The School Of Hard Knocks?Many young people will spend over $150\,000 of their parent’s (or their own) money to attend a university or college for four or more years to get a good education so they can get a good job. However\, many are working at that “good” job for a long time to pay off the loans for their education and many are finding out that those “good” jobs don’t last or aren’t what they had expected. After many years of toiling at a job just to pay the bills and try to squeeze out a moderate quality of life\, many people are frustrated and feeling that they are missing out on the most important parts of life such as watching their children grow up and being there to share in the important experiences in life. But when it comes to investing a small fraction of that amount in their own education to finally achieve their dreams\, many people are reluctant or don’t think they can afford it. The truth is that colleges do not teach you how to develop residual income or how to connect with influential people so that you can add true value to their life and increase the quality of your own life. Many people feel stuck in their current circumstances and don’t see a realistic method of ever breaking out of that cycle. A weekend at a Rainmaker Summit event can change that. It can help you connect with the right people and open up ideas to develop true residual income from businesses that will keep paying you even after you stop working. We can show you how you can use current technology to present your business in a first class manner and have a truly international business without a large investment.One of the most valuable benefits that you will receive from a weekend at the Rainmaker Summit is the connections and networking that will happen during that time. Unlike some seminars where the speakers come and go just for their presentations\, at Rainmaker Summits\, most speakers are there all weekend to assist you with your business ideas and plans. Also\, this is not just a time for sitting passively and listening to different speeches. There are many interactive opportunities where you develop and practice your skills. This includes your 29 second “elevator” speech\, making your “Why” movie\, learning about accountability and management systems and exchanging ideas about what works in today’s economy. Some long-term relationships have been formed at Rainmaker Summits that turned into profitable joint ventures. There is simply no experience that is better for launching or growing your business. Whether you have an online business\, a brick or mortar business or no business at all\, you need the skills and connections that are taught at the Rainmaker Summits.\n \nWe look forward to seeing you at the Rainmaker Summit! Have an excellent day!
URL:https://network.vegas/calendar/rainmaker-summit-entrepreneur-success-program/
LOCATION:Chicago Marriott Northwest\, 4800 Hoffman Boulevard\, Hoffman Estates\, IL\, 60192\, United States
ATTACH;FMTTYPE=image/jpeg:https://network.vegas/wp-content/uploads/2024/06/39a48d62f432f7ff8d61de43d350ef91.jpg
END:VEVENT
BEGIN:VEVENT
DTSTART;TZID=America/Los_Angeles:20240617T090000
DTEND;TZID=America/Los_Angeles:20240617T120000
DTSTAMP:20260424T163339
CREATED:20240606T080435Z
LAST-MODIFIED:20240606T080435Z
UID:38100-1718614800-1718625600@network.vegas
SUMMARY:Power Lunch/Entrepreneur Workshop
DESCRIPTION:Power Lunch/Entrepreneur Workshop with Bill Walsh – How to Survive & Thrive in Any Economy!\n\n\nWhen you attend this workshop\, you will learn about some cutting-edge ideas to elevate your leads\, sales & profits. The networking & education is priceless at this exclusive event for a very small group of local leaders! \nBe ready to take some great notes on business growth\, social media marketing\, SEO\, public speaking\, book writing plus so much more all in just a few hours! \nWe will also be serving a very nice lunch and provide a great opportunity for a networking & mastermind session with some great local business leaders! \nWho Should Attend: \n* Entrepreneurs & Business Owners that are serious about creating an even more Successful business utilizing proven processes & systems. \n* Executives in Transition that are looking for a new career or contemplating starting a business. \n* Independent Consultants that work in the Real Estate\, Financial Industry or in the Direct Sales Industry \nWhat will you leave with? \n* New Connections & Network for your business. \n* Priceless insight & tips on how to generate high quality leads for your business. \n* How to navigate the crazy world of social media \n* How to get positioned as the Expert in your Niche \n* How to become an even more effective Public Speaker \n* How to build & generate new streams of income \nTo Learn More about the Powerteam Organization please watch the Video Below
URL:https://network.vegas/calendar/power-lunch-entrepreneur-workshop/
LOCATION:Toreros Brazilian Churrascaria Fort Pierce\, 3224 South US Highway 1\, Fort Pierce\, FL\, 34982\, United States
ATTACH;FMTTYPE=image/jpeg:https://network.vegas/wp-content/uploads/2024/06/d88e72e7c14619776b8ef633adcf05e3.jpg
END:VEVENT
BEGIN:VEVENT
DTSTART;TZID=America/Los_Angeles:20240615T100000
DTEND;TZID=America/Los_Angeles:20240615T130000
DTSTAMP:20260424T163339
CREATED:20240606T080433Z
LAST-MODIFIED:20240606T080433Z
UID:38097-1718445600-1718456400@network.vegas
SUMMARY:Power Lunch/Entrepreneur Workshop Austin
DESCRIPTION:Power Lunch/Entrepreneur Workshop with Top Business Coach Bill Walsh – How to Survive & Thrive in Any Economy!\n\n\n\nWhen you attend this workshop\, you will learn about some cutting-edge ideas to elevate your leads\, sales & profits. The networking & education is priceless at this exclusive event for a very small group of local leaders! \nBe ready to take some great notes on business growth\, social media marketing\, SEO\, public speaking\, book writing plus so much more all in just a few hours! \nWe will also be serving a very nice lunch and provide a great opportunity for a networking & mastermind session with some great local business leaders! \nWho Should Attend: \n* Entrepreneurs & Business Owners that are serious about creating an even more Successful business utilizing proven processes & systems. \n* Executives in Transition that are looking for a new career or contemplating starting a business. \n* Independent Consultants that work in the Real Estate\, Financial Industry or in the Direct Sales Industry \nWhat will you leave with? \n* New Connections & Network for your business. \n* Priceless insight & tips on how to generate high quality leads for your business. \n* How to navigate the crazy world of social media \n* How to get positioned as the Expert in your Niche \n* How to become an even more effective Public Speaker \n* How to build & generate new streams of income \nMeet your Guest Speaker for this amazing Power Lunch/Workshop! \nBill Walsh \nAmerica’s Small Business-Expert & Top Business Coach \nBill is a venture capitalist and is the CEO/Founder of the Success Education/Business Coaching firm Powerteam International. Bill hosts and speaks at events all over the world! His passion is to empower entrepreneurs and business owners to create massive success. He is the bestselling author of the book “The Obvious”\, is an amazing speaker\, radio personality and movie celebrity. He has a very successful background in finance and marketing. He has spent over two decades working with start-ups to major global brands to help them increase sales\, productivity\, and overall success. He is an innovator with a remarkable ability to determine and build success plans to help business owners seize immediate market opportunities. \nFor everyone that owns a business or would like to capitalize their entrepreneurial dream\, his message will enlighten them with knowledge and action principles to turn that passion into success! Bill has an extensive background in foreign currency trading\, real estate development and building businesses in more than 30 countries. Over the past two decades\, his firm has specialized in helping companies launch\, grow\, and create exponential valuation in the market. The Rainmaker Summit and WIN University programs offered through Powerteam are designed to assist entrepreneurs in creating the focus\, plans and partnerships required to build multi-million-dollar companies! \nFor the past 6 Years Bill has been recognized by GURU Magazine as one of the top 30 Business Coaches in the world. In 2024 he was awarded as the #13 Business Coach in the world. When you get time with him you will see why he has helped so many companies create even more success! \nTo Learn More about the Powerteam Organization please watch the Video Below
URL:https://network.vegas/calendar/power-lunch-entrepreneur-workshop-austin/
LOCATION:Fogo de Chão Brazilian Steakhouse\, 623 Spectrum Center Drive\, Irvine\, CA\, 92618\, United States
ATTACH;FMTTYPE=image/jpeg:https://network.vegas/wp-content/uploads/2024/06/0c56ee3df99543c14e0124b575f54a01.jpg
END:VEVENT
BEGIN:VEVENT
DTSTART;TZID=America/Los_Angeles:20240615T060000
DTEND;TZID=America/Los_Angeles:20240615T080000
DTSTAMP:20260424T163339
CREATED:20240606T080431Z
LAST-MODIFIED:20240606T080431Z
UID:38095-1718431200-1718438400@network.vegas
SUMMARY:Houston Power Breakfast/Entrepreneur Workshop
DESCRIPTION:Power Breakfast/Workshop with Top Business Coach Bill Walsh – How to Survive & Thrive in Any Economy!\n\n\n\nWhen you attend this power breakfast/workshop you will learn about some cutting edget ideas to elevate your leads\, sales & profits. The networking & education is priceless at this exclusive event for a very small group of local leaders! \nBe ready to take some great notes on business growth\, social media marketing\, SEO\, public speaking\, book writing plus so much more all in just a few hours! \nWe will also be serving a very nice lunch and provide a great opportunity for a networking & mastermind session with some great local business leaders! \nSee you at the event! \nMeet your Guest Speaker for this amazing Power Breakfast/Workshop! \nBill-Walsh-America’s Small Business-Expert \nBill is a venture capitalist and is the CEO/Founder of the Success Education/Business Coaching firm Powerteam International. Bill hosts and speaks at events all over the world! His passion is to empower entrepreneurs and business owners to create massive success. He is the best selling author of the book “The Obvious”\, is an amazing speaker\, radio personality and movie celebrity. He has a very successful background in finance and marketing. He has spent over two decades working with start-ups to major global brands to help them increase sales\, productivity and overall success. He is an innovator with a remarkable ability to determine and build success plans to help business owners seize immediate market opportunities. \nFor everyone that owns a business or would like to capitalize their entrepreneurial dream\, his message will enlighten them with knowledge and action principles to turn that passion into success! Bill has an extensive background in foreign currency trading\, real estate development and building businesses in more than 30 countries. Over the past two decades\, his firm has specialized in helping companies launch\, grow and create exponential valuation in the market. The Rainmaker Summit and WIN University programs offered through Powerteam are designed to assist entrepreneurs in creating the focus\, plans and partnerships required to build multi-million dollar companies! \nFor the past 5 Years Bill has been recognized by GURU Magazine as one of the top 30 Business Coaches in the world. When you get time with him you will see why he has helped so many companies create even more success!
URL:https://network.vegas/calendar/houston-power-breakfast-entrepreneur-workshop/
LOCATION:The Woodlands Country Club\, 100 Grand Fairway\, #Drive\, The Woodlands\, TX\, 77381\, United States
ATTACH;FMTTYPE=image/jpeg:https://network.vegas/wp-content/uploads/2024/06/1341582279bb7a42c2d86d66d792c08b.jpg
END:VEVENT
BEGIN:VEVENT
DTSTART;TZID=America/Los_Angeles:20240614T100000
DTEND;TZID=America/Los_Angeles:20240614T130000
DTSTAMP:20260424T163339
CREATED:20240606T080429Z
LAST-MODIFIED:20240606T080429Z
UID:38092-1718359200-1718370000@network.vegas
SUMMARY:Small Business Workshop/Power Lunch  Dallas TX
DESCRIPTION:Small Business Workshop with Top Business Coach Bill Walsh – How to Survive & Thrive in Any Economy!\n\n\nWhen you attend this workshop\, you will learn about some cutting-edge ideas to elevate your leads\, sales & profits. The networking & education is priceless at this exclusive event for a very small group of local leaders! \nBe ready to take some great notes on business growth\, social media marketing\, SEO\, public speaking\, book writing plus so much more all in just a few hours! \nWe will also be serving a very nice lunch and provide a great opportunity for a networking & mastermind session with some great local business leaders! \nWho Should Attend: \n* Entrepreneurs & Business Owners that are serious about creating an even more Successful business utilizing proven processes & systems. \n* Executives in Transition that are looking for a new career or contemplating starting a business. \n* Independent Consultants that work in the Real Estate\, Financial Industry or in the Direct Sales Industry \nWhat will you leave with? \n* New Connections & Network for your business. \n* Priceless insight & tips on how to generate high quality leads for your business. \n* How to navigate the crazy world of social media \n* How to get positioned as the Expert in your Niche \n* How to become an even more effective Public Speaker \n* How to build & generate new streams of income \nMeet your Guest Speaker for this amazing Power Lunch/Workshop! \nBill Walsh \nGlobal Business Strategist/Venture Capitalist/Rainmaker \nBill is a venture capitalist and is the CEO/Founder of the Success Education/Business Coaching firm Powerteam International. Bill hosts and speaks at events all over the world! His passion is to empower entrepreneurs and business owners to create massive success. He is the bestselling author of the book “The Obvious”\, is an amazing speaker\, radio personality and movie celebrity. He has a very successful background in finance and marketing. He has spent over two decades working with start-ups to major global brands to help them increase sales\, productivity\, and overall success. He is an innovator with a remarkable ability to determine and build success plans to help business owners seize immediate market opportunities. \nFor everyone that owns a business or would like to capitalize their entrepreneurial dream\, his message will enlighten them with knowledge and action principles to turn that passion into success! Bill has an extensive background in foreign currency trading\, real estate development and building businesses in more than 30 countries. Over the past two decades\, his firm has specialized in helping companies launch\, grow\, and create exponential valuation in the market. The Rainmaker Summit and WIN University programs offered through Powerteam are designed to assist entrepreneurs in creating the focus\, plans and partnerships required to build multi-million-dollar companies! \nFor the past 6 Years Bill has been recognized by GURU Magazine as one of the top 30 Business Coaches in the world. In 2021 he was awarded as the #10 Business Coach in the world. When you get time with him you will see why he has helped so many companies create even more success! \nTo Learn More about the Powerteam Organization please watch the Video Below
URL:https://network.vegas/calendar/small-business-workshop-power-lunch-dallas-tx/
LOCATION:Fogo de Chão Brazilian Steakhouse\, 623 Spectrum Center Drive\, Irvine\, CA\, 92618\, United States
ATTACH;FMTTYPE=image/jpeg:https://network.vegas/wp-content/uploads/2024/06/3c90f8ad34c430524475de793c9732ed.jpg
END:VEVENT
BEGIN:VEVENT
DTSTART;TZID=America/Los_Angeles:20240613T120000
DTEND;TZID=America/Los_Angeles:20240613T160000
DTSTAMP:20260424T163339
CREATED:20240606T080426Z
LAST-MODIFIED:20240606T080426Z
UID:38090-1718280000-1718294400@network.vegas
SUMMARY:CEO Success Summit/Power Lunch - Las Vegas Ahern Hotel Joels Chophouse
DESCRIPTION:The CEO Success Summit conference  is a must attend event for all\nentrepreneurs & small business owners.\n\n\nWhether you are running a small business or you are a CEO of a Fortune 500 company you will love this 1/2 Day CEO Summit!\n\nCome & Experience a full day of useful and tactical content from experts in multiple industries. The session is a very hands-on workshop with leaders that live what they teach everyday and what you hear at the CEO Success Summit are proven concepts to increase your leads\, sales and overall business success.\n \nCOME & LEARN FROM:\nGlobal Business Strategist/Venture Capitalist &\nRainmaker Bill Walsh\nNetworking & Connections with some amazing attendees\, you’ll meet local business leaders\, national experts\, city leaders & global change makers all in attendance that are committed to playing full out. You’ll be able to connect with all the speakers and major sponsors at the event. It will be up to you to make the connections you will need to elevate your personal success story as well as your business!\nDiscover the latest\, cutting-edge methods tactics to make you BIG money in today’s new economy – whether you’re in business\, online marketing or as an independent agent. You cannot expect to become financially free if you continue to use outdated methods to generate income which no longer work. Those methods no longer work because the economy isn’t the same as it used to be.\nInspiration & Motivation: It’s one thing to have some ideas about creating more success and its 100% something else to have the confidence & competence to create massive success in your prospective field. That’s why we put people on stage who have done it.\nIn challenging economic conditions you need to learn and apply proven methods if you want to create enormous wealth. You also need a clear focus and a step-by-step system to help you create financial independence within 12 months or less. That is the reason we have hand picked these experts who are quietly making more money in one month than most people make in one entire year.\n \nEVENT TOPICS INCLUDE:\nBUSINESS GROWTH-SOCIAL MEDIA-LEADERSHIP-PUBLIC SPEAKING-MOBILE MARKETING-PERSONAL DEVELOPMENT-GRANTS & SO MUCH MORE!\nThe Powerteam CEO Success Summit event is for you IF you want…\nNo-fluff intensive training to accelerate your business knowledge\nPractical lessons & wisdom from successful entrepreneurs\nHands-on training to ensure that you avoid the most common mistakes in business\nOpportunities to network & make deals with other business owners\, online marketing experts and real estate investors\n\nWhat Will You Discover?\nLearn specific strategies to build successful businesses\nMeet amazing contacts from across the country who can propel your business forward\nLearn exciting new ways to generate income\nLearn how to dramatically increase your productivity & effectiveness
URL:https://network.vegas/calendar/ceo-success-summit-power-lunch-las-vegas-ahern-hotel-joels-chophouse/
LOCATION:Ahern Luxury Boutique Hotel\, 300 West Sahara Avenue\, Las Vegas\, NV\, 89102\, United States
ATTACH;FMTTYPE=image/jpeg:https://network.vegas/wp-content/uploads/2024/06/830521d14eba8690fe8cd7b0edbba123.jpg
END:VEVENT
END:VCALENDAR