BEGIN:VCALENDAR
VERSION:2.0
PRODID:-//Network.Vegas - ECPv6.15.20//NONSGML v1.0//EN
CALSCALE:GREGORIAN
METHOD:PUBLISH
X-WR-CALNAME:Network.Vegas
X-ORIGINAL-URL:https://network.vegas
X-WR-CALDESC:Events for Network.Vegas
REFRESH-INTERVAL;VALUE=DURATION:PT1H
X-Robots-Tag:noindex
X-PUBLISHED-TTL:PT1H
BEGIN:VTIMEZONE
TZID:America/Los_Angeles
BEGIN:DAYLIGHT
TZOFFSETFROM:-0800
TZOFFSETTO:-0700
TZNAME:PDT
DTSTART:20240310T100000
END:DAYLIGHT
BEGIN:STANDARD
TZOFFSETFROM:-0700
TZOFFSETTO:-0800
TZNAME:PST
DTSTART:20241103T090000
END:STANDARD
BEGIN:DAYLIGHT
TZOFFSETFROM:-0800
TZOFFSETTO:-0700
TZNAME:PDT
DTSTART:20250309T100000
END:DAYLIGHT
BEGIN:STANDARD
TZOFFSETFROM:-0700
TZOFFSETTO:-0800
TZNAME:PST
DTSTART:20251102T090000
END:STANDARD
BEGIN:DAYLIGHT
TZOFFSETFROM:-0800
TZOFFSETTO:-0700
TZNAME:PDT
DTSTART:20260308T100000
END:DAYLIGHT
BEGIN:STANDARD
TZOFFSETFROM:-0700
TZOFFSETTO:-0800
TZNAME:PST
DTSTART:20261101T090000
END:STANDARD
END:VTIMEZONE
BEGIN:VEVENT
DTSTART;TZID=America/Los_Angeles:20250628T110000
DTEND;TZID=America/Los_Angeles:20250628T140000
DTSTAMP:20260422T095318
CREATED:20250611T143500Z
LAST-MODIFIED:20250611T143500Z
UID:46762-1751108400-1751119200@network.vegas
SUMMARY:MENTOR/MENTEE CONFERENCE 2025
DESCRIPTION:Join us for Pastor Carols Mentor/Mentee 2025 Conference Theme: The year of commitment **Lunch Provided**
URL:https://network.vegas/calendar/mentor-mentee-conference-2025/
LOCATION:Aliante Casino Hotel Spa\, 7300 North Aliante Parkway\, North Las Vegas\, NV\, 89084\, United States
CATEGORIES:Education
ATTACH;FMTTYPE=image/jpeg:https://network.vegas/wp-content/uploads/2025/06/5d59076d72b2e757a154ede26310f63a.jpg
END:VEVENT
END:VCALENDAR