BEGIN:VCALENDAR
VERSION:2.0
PRODID:-//Network.Vegas - ECPv6.15.20//NONSGML v1.0//EN
CALSCALE:GREGORIAN
METHOD:PUBLISH
X-ORIGINAL-URL:https://network.vegas
X-WR-CALDESC:Events for Network.Vegas
REFRESH-INTERVAL;VALUE=DURATION:PT1H
X-Robots-Tag:noindex
X-PUBLISHED-TTL:PT1H
BEGIN:VTIMEZONE
TZID:America/Los_Angeles
BEGIN:DAYLIGHT
TZOFFSETFROM:-0800
TZOFFSETTO:-0700
TZNAME:PDT
DTSTART:20240310T100000
END:DAYLIGHT
BEGIN:STANDARD
TZOFFSETFROM:-0700
TZOFFSETTO:-0800
TZNAME:PST
DTSTART:20241103T090000
END:STANDARD
BEGIN:DAYLIGHT
TZOFFSETFROM:-0800
TZOFFSETTO:-0700
TZNAME:PDT
DTSTART:20250309T100000
END:DAYLIGHT
BEGIN:STANDARD
TZOFFSETFROM:-0700
TZOFFSETTO:-0800
TZNAME:PST
DTSTART:20251102T090000
END:STANDARD
BEGIN:DAYLIGHT
TZOFFSETFROM:-0800
TZOFFSETTO:-0700
TZNAME:PDT
DTSTART:20260308T100000
END:DAYLIGHT
BEGIN:STANDARD
TZOFFSETFROM:-0700
TZOFFSETTO:-0800
TZNAME:PST
DTSTART:20261101T090000
END:STANDARD
END:VTIMEZONE
BEGIN:VEVENT
DTSTART;TZID=America/Los_Angeles:20251112T113000
DTEND;TZID=America/Los_Angeles:20251112T130000
DTSTAMP:20260421T161649
CREATED:20250927T004433Z
LAST-MODIFIED:20250927T004433Z
UID:49142-1762947000-1762952400@network.vegas
SUMMARY:NAIFA Nevada Luncheon
DESCRIPTION:Join us for a delicious luncheon with NAIFA Nevada members to network and learn from industry experts!\n\n\nNAIFA Nevada Luncheon \nCome join us for a delicious luncheon at Lawry’s The Prime Rib! This in-person event is a fantastic opportunity to network with fellow NAIFA members\, enjoy great food\, and learn about the latest industry trends. Don’t miss out on this chance to connect with colleagues and grow your professional network. Reserve your spot today!
URL:https://network.vegas/calendar/naifa-nevada-luncheon/
LOCATION:Lawry’s The Prime Rib\, 4043 Howard Hughes Parkway\, Las Vegas\, NV\, 89169\, United States
CATEGORIES:Real Estate & Construction
ATTACH;FMTTYPE=image/jpeg:https://network.vegas/wp-content/uploads/2025/09/ba2e46a585980367005cf76a689eb624.jpg
GEO:36.1151617;-115.1597903
X-APPLE-STRUCTURED-LOCATION;VALUE=URI;X-ADDRESS=Lawry’s The Prime Rib 4043 Howard Hughes Parkway Las Vegas NV 89169 United States;X-APPLE-RADIUS=500;X-TITLE=4043 Howard Hughes Parkway:geo:-115.1597903,36.1151617
END:VEVENT
BEGIN:VEVENT
DTSTART;TZID=America/Los_Angeles:20250319T113000
DTEND;TZID=America/Los_Angeles:20250319T130000
DTSTAMP:20260421T161649
CREATED:20250316T231757Z
LAST-MODIFIED:20250316T231757Z
UID:44895-1742383800-1742389200@network.vegas
SUMMARY:NAIBIP/NAIFA /NIAA March Luncheon - Las Vegas
DESCRIPTION:Join us for an informative luncheon in Las Vegas with NAIBIP\, NAIFA\, and NIAA on March 19th!\n\n\nTreasurer Conine will speak on the topic of Nevada Employee’s Savings Trust.
URL:https://network.vegas/calendar/naibip-naifa-niaa-march-luncheon-las-vegas/
LOCATION:Lawry’s The Prime Rib\, 4043 Howard Hughes Parkway\, Las Vegas\, NV\, 89169\, United States
CATEGORIES:Networking
ATTACH;FMTTYPE=image/jpeg:https://network.vegas/wp-content/uploads/2025/03/70aac67db81521a2437a16a24b080ac4.jpg
GEO:36.1151617;-115.1597903
X-APPLE-STRUCTURED-LOCATION;VALUE=URI;X-ADDRESS=Lawry’s The Prime Rib 4043 Howard Hughes Parkway Las Vegas NV 89169 United States;X-APPLE-RADIUS=500;X-TITLE=4043 Howard Hughes Parkway:geo:-115.1597903,36.1151617
END:VEVENT
BEGIN:VEVENT
DTSTART;TZID=America/Los_Angeles:20250115T113000
DTEND;TZID=America/Los_Angeles:20250115T130000
DTSTAMP:20260421T161649
CREATED:20250102T183557Z
LAST-MODIFIED:20250111T212208Z
UID:43212-1736940600-1736946000@network.vegas
SUMMARY:January Luncheon with James Wadhams\, Esq. - Las Vegas
DESCRIPTION:Join NAIFA Nevada on January 15\, for legislative updates with guest speaker James Wadhams\, Esq.
URL:https://network.vegas/calendar/january-luncheon-with-james-wadhams-esq-las-vegas/
LOCATION:Lawry’s The Prime Rib\, 4043 Howard Hughes Parkway\, Las Vegas\, NV\, 89169\, United States
CATEGORIES:Legal, Financial & Government,Networking
ATTACH;FMTTYPE=image/jpeg:https://network.vegas/wp-content/uploads/2025/01/39d9993e2da350d60a4448065e6fd034.jpg
GEO:36.1151617;-115.1597903
X-APPLE-STRUCTURED-LOCATION;VALUE=URI;X-ADDRESS=Lawry’s The Prime Rib 4043 Howard Hughes Parkway Las Vegas NV 89169 United States;X-APPLE-RADIUS=500;X-TITLE=4043 Howard Hughes Parkway:geo:-115.1597903,36.1151617
END:VEVENT
END:VCALENDAR