BEGIN:VCALENDAR
VERSION:2.0
PRODID:-//Network.Vegas - ECPv6.15.20//NONSGML v1.0//EN
CALSCALE:GREGORIAN
METHOD:PUBLISH
X-ORIGINAL-URL:https://network.vegas
X-WR-CALDESC:Events for Network.Vegas
REFRESH-INTERVAL;VALUE=DURATION:PT1H
X-Robots-Tag:noindex
X-PUBLISHED-TTL:PT1H
BEGIN:VTIMEZONE
TZID:America/Los_Angeles
BEGIN:DAYLIGHT
TZOFFSETFROM:-0800
TZOFFSETTO:-0700
TZNAME:PDT
DTSTART:20250309T100000
END:DAYLIGHT
BEGIN:STANDARD
TZOFFSETFROM:-0700
TZOFFSETTO:-0800
TZNAME:PST
DTSTART:20251102T090000
END:STANDARD
BEGIN:DAYLIGHT
TZOFFSETFROM:-0800
TZOFFSETTO:-0700
TZNAME:PDT
DTSTART:20260308T100000
END:DAYLIGHT
BEGIN:STANDARD
TZOFFSETFROM:-0700
TZOFFSETTO:-0800
TZNAME:PST
DTSTART:20261101T090000
END:STANDARD
BEGIN:DAYLIGHT
TZOFFSETFROM:-0800
TZOFFSETTO:-0700
TZNAME:PDT
DTSTART:20270314T100000
END:DAYLIGHT
BEGIN:STANDARD
TZOFFSETFROM:-0700
TZOFFSETTO:-0800
TZNAME:PST
DTSTART:20271107T090000
END:STANDARD
END:VTIMEZONE
BEGIN:VEVENT
DTSTART;TZID=America/Los_Angeles:20260422T080000
DTEND;TZID=America/Los_Angeles:20260422T093000
DTSTAMP:20260421T150235
CREATED:20260323T172649Z
LAST-MODIFIED:20260325T115436Z
UID:52820-1776844800-1776850200@network.vegas
SUMMARY:MY LAS VEGAS CONNECTIONS NETWORKING BREAKFAST
DESCRIPTION:Want to network\, but don’t have time for weekly meetings. Consider My Las Vegas Connections networking group. We meet once a month with some evening events throughout the year as well. \nConnect with top Las Vegas professionals over coffee\, conversation\, and valuable referrals. This casual\, high-energy event is your opportunity to build relationships\, promote your business\, and connect with new contacts. \nOur group is primarily made up of home services professionals\, but all industries are welcome. \nWe meet at SG Bar VIP Room\, 9580 W. Flamingo Rd\, at the 215 \nPrior to paying contact Mike West to see if your category is available 702-419-5575 Mike@mylasvegasconnections.com \nTo purchase an event ticket and RSVP\, use this URL \nhttps://www.mylasvegasconnections.com/store/my-las-vegas-connections-networking-breakfast
URL:https://network.vegas/calendar/my-las-vegas-connections-networking-breakfast-14/
LOCATION:SG Bar\, 9580 W Flamingo Rd\, Las Vegas\, NV\, 89147\, United States
CATEGORIES:Networking
ATTACH;FMTTYPE=image/jpeg:https://network.vegas/wp-content/uploads/2026/03/MLVC_Flyer_9.23.25-1-scaled.jpeg
ORGANIZER;CN="Mike West":MAILTO:mike@mylasvegasconnections.com
GEO:36.11559;-115.30122
X-APPLE-STRUCTURED-LOCATION;VALUE=URI;X-ADDRESS=SG Bar 9580 W Flamingo Rd Las Vegas NV 89147 United States;X-APPLE-RADIUS=500;X-TITLE=9580 W Flamingo Rd:geo:-115.30122,36.11559
END:VEVENT
BEGIN:VEVENT
DTSTART;TZID=America/Los_Angeles:20260514T080000
DTEND;TZID=America/Los_Angeles:20260514T093000
DTSTAMP:20260421T150235
CREATED:20260420T155102Z
LAST-MODIFIED:20260420T155105Z
UID:53585-1778745600-1778751000@network.vegas
SUMMARY:MY LAS VEGAS CONNECTIONS NETWORKING BREAKFAST
DESCRIPTION:Want to network\, but don’t have time for weekly meetings. Consider My Las Vegas Connections networking group. We meet once a month with some evening events throughout the year as well. \nConnect with top Las Vegas professionals over coffee\, conversation\, and valuable referrals. This casual\, high-energy event is your opportunity to build relationships\, promote your business\, and connect with new contacts. \nOur group is primarily made up of home services professionals\, but all industries are welcome. \nWe meet at SG Bar VIP Room\, 9580 W. Flamingo Rd\, at the 215 \nPrior to paying contact Mike West to see if your category is available 702-419-5575 Mike@mylasvegasconnections.com \nTo purchase an event ticket and RSVP\, use this URL \nhttps://www.mylasvegasconnections.com/store/my-las-vegas-connections-networking-breakfast
URL:https://network.vegas/calendar/my-las-vegas-connections-networking-breakfast-15/
LOCATION:SG Bar\, 9580 W Flamingo Rd\, Las Vegas\, NV\, 89147\, United States
CATEGORIES:Las Vegas Business,Networking
ATTACH;FMTTYPE=image/jpeg:https://network.vegas/wp-content/uploads/2026/04/MLVC_Flyer_9.23.25-scaled.jpeg
ORGANIZER;CN="Mike West":MAILTO:mike@mylasvegasconnections.com
GEO:36.11559;-115.30122
X-APPLE-STRUCTURED-LOCATION;VALUE=URI;X-ADDRESS=SG Bar 9580 W Flamingo Rd Las Vegas NV 89147 United States;X-APPLE-RADIUS=500;X-TITLE=9580 W Flamingo Rd:geo:-115.30122,36.11559
END:VEVENT
BEGIN:VEVENT
DTSTART;TZID=America/Los_Angeles:20260527T080000
DTEND;TZID=America/Los_Angeles:20260527T093000
DTSTAMP:20260421T150235
CREATED:20260420T232050Z
LAST-MODIFIED:20260420T232052Z
UID:53590-1779868800-1779874200@network.vegas
SUMMARY:MY LAS VEGAS CONNECTIONS NETWORKING BREAKFAST
DESCRIPTION:Want to network\, but don’t have time for weekly meetings. Consider My Las Vegas Connections networking group. We meet once a month with some evening events throughout the year as well. \nConnect with top Las Vegas professionals over coffee\, conversation\, and valuable referrals. This casual\, high-energy event is your opportunity to build relationships\, promote your business\, and connect with new contacts. \nOur group is primarily made up of home services professionals\, but all industries are welcome. \nWe meet at SG Bar VIP Room\, 9580 W. Flamingo Rd\,. at the 215 \nPrior to paying contact Mike West to see if your category is available 702-419-5575 Mike@mylasvegasconnections.com \nTo purchase event ticket and RSVP use this URL \nhttps://www.mylasvegasconnections.com/store/my-las-vegas-connections-networking-breakfast
URL:https://network.vegas/calendar/my-las-vegas-connections-networking-breakfast-16/
LOCATION:SG Bar\, 9580 W Flamingo Rd\, Las Vegas\, NV\, 89147\, United States
CATEGORIES:Las Vegas Business,Networking
ATTACH;FMTTYPE=image/jpeg:https://network.vegas/wp-content/uploads/2026/04/flyer_9.23.25-scaled.jpeg
ORGANIZER;CN="Mike West":MAILTO:mike@mylasvegasconnections.com
GEO:36.11559;-115.30122
X-APPLE-STRUCTURED-LOCATION;VALUE=URI;X-ADDRESS=SG Bar 9580 W Flamingo Rd Las Vegas NV 89147 United States;X-APPLE-RADIUS=500;X-TITLE=9580 W Flamingo Rd:geo:-115.30122,36.11559
END:VEVENT
END:VCALENDAR