BEGIN:VCALENDAR
VERSION:2.0
PRODID:-//Network.Vegas - ECPv6.15.20//NONSGML v1.0//EN
CALSCALE:GREGORIAN
METHOD:PUBLISH
X-ORIGINAL-URL:https://network.vegas
X-WR-CALDESC:Events for Network.Vegas
REFRESH-INTERVAL;VALUE=DURATION:PT1H
X-Robots-Tag:noindex
X-PUBLISHED-TTL:PT1H
BEGIN:VTIMEZONE
TZID:America/Los_Angeles
BEGIN:DAYLIGHT
TZOFFSETFROM:-0800
TZOFFSETTO:-0700
TZNAME:PDT
DTSTART:20240310T100000
END:DAYLIGHT
BEGIN:STANDARD
TZOFFSETFROM:-0700
TZOFFSETTO:-0800
TZNAME:PST
DTSTART:20241103T090000
END:STANDARD
BEGIN:DAYLIGHT
TZOFFSETFROM:-0800
TZOFFSETTO:-0700
TZNAME:PDT
DTSTART:20250309T100000
END:DAYLIGHT
BEGIN:STANDARD
TZOFFSETFROM:-0700
TZOFFSETTO:-0800
TZNAME:PST
DTSTART:20251102T090000
END:STANDARD
BEGIN:DAYLIGHT
TZOFFSETFROM:-0800
TZOFFSETTO:-0700
TZNAME:PDT
DTSTART:20260308T100000
END:DAYLIGHT
BEGIN:STANDARD
TZOFFSETFROM:-0700
TZOFFSETTO:-0800
TZNAME:PST
DTSTART:20261101T090000
END:STANDARD
END:VTIMEZONE
BEGIN:VEVENT
DTSTART;TZID=America/Los_Angeles:20250625T173000
DTEND;TZID=America/Los_Angeles:20250625T220000
DTSTAMP:20260422T122629
CREATED:20250329T220903Z
LAST-MODIFIED:20250617T235359Z
UID:45056-1750872600-1750888800@network.vegas
SUMMARY:5th Annual Entrepreneurs and CEOs Conference 2025
DESCRIPTION:Dive into a world of Solutions\, Strategies\, Systems\, and Support at Linked Helpers Conference 2025.\n\n\nEvent Date: Wednesday\, June 25\, 2025\nTime: 5:30 PM – 10:00 PM PDT\n \nJoin us for the Linked Helpers Annual Entrepreneurs and CEOs Conference 2025\, an exclusive event designed for business leaders\, entrepreneurs\, and professionals seeking to elevate their success through Solutions\, Strategies\, Systems\, and Support. Held in the vibrant city of Las Vegas\, this conference brings together top-tier minds to collaborate\, innovate\, and grow. \nThis event is not just about knowledge—it’s about actionable insights\, effective strategies\, and the community support needed to push your business forward. Whether you’re looking for cutting-edge solutions\, system optimizations\, or strategic connections\, this evening is designed to help you unlock your business’s full potential. \n \nEvent Highlights: \n\nExpert Insights: Gain proven solutions\, strategies\, systems\, and support from industry leaders.\nStrategic Connections: Network with entrepreneurs and CEOs to form valuable partnerships.\nActionable Systems: Learn streamlined systems to optimize operations and accelerate growth.\nBusiness Exposure: Showcase your business and its impact on the Las Vegas market.\nResource Access: Access exclusive tools and resources for sustainable growth.\n\n \nIncluded in Your Ticket: \n\nProfessional Digital Photos\nLive Speaker Sessions & Interactive Q&A\nResource Hub with Tools & Insights\nComplimentary Food\, Drinks & Swag Bags\nRaffle Prizes and Exclusive Giveaways\n\n \nImportant Details: \n\nEarly Bird Registration: UntilApril 30\, 2025\nLimited Seats Available: No tickets will be sold at the door.\nContact & Registration: Phone: (702) 934-3271 / (702) 819-8660Email: jvee@linkedhelpers.com / jv@linkedhelpers.com\n\n \nRSVP Limited seats only!
URL:https://network.vegas/calendar/5th-annual-entrepreneurs-and-ceos-conference-2025/
LOCATION:Las Vegas
CATEGORIES:Featured,Networking
ATTACH;FMTTYPE=image/jpeg:https://network.vegas/wp-content/uploads/2025/06/420aa7b5a8ff19a0178024458ca98514.jpg
GEO:36.086876;-115.12715
END:VEVENT
END:VCALENDAR