BEGIN:VCALENDAR
VERSION:2.0
PRODID:-//Network.Vegas - ECPv6.15.20//NONSGML v1.0//EN
CALSCALE:GREGORIAN
METHOD:PUBLISH
X-ORIGINAL-URL:https://network.vegas
X-WR-CALDESC:Events for Network.Vegas
REFRESH-INTERVAL;VALUE=DURATION:PT1H
X-Robots-Tag:noindex
X-PUBLISHED-TTL:PT1H
BEGIN:VTIMEZONE
TZID:America/Los_Angeles
BEGIN:DAYLIGHT
TZOFFSETFROM:-0800
TZOFFSETTO:-0700
TZNAME:PDT
DTSTART:20230312T100000
END:DAYLIGHT
BEGIN:STANDARD
TZOFFSETFROM:-0700
TZOFFSETTO:-0800
TZNAME:PST
DTSTART:20231105T090000
END:STANDARD
BEGIN:DAYLIGHT
TZOFFSETFROM:-0800
TZOFFSETTO:-0700
TZNAME:PDT
DTSTART:20240310T100000
END:DAYLIGHT
BEGIN:STANDARD
TZOFFSETFROM:-0700
TZOFFSETTO:-0800
TZNAME:PST
DTSTART:20241103T090000
END:STANDARD
BEGIN:DAYLIGHT
TZOFFSETFROM:-0800
TZOFFSETTO:-0700
TZNAME:PDT
DTSTART:20250309T100000
END:DAYLIGHT
BEGIN:STANDARD
TZOFFSETFROM:-0700
TZOFFSETTO:-0800
TZNAME:PST
DTSTART:20251102T090000
END:STANDARD
BEGIN:DAYLIGHT
TZOFFSETFROM:-0800
TZOFFSETTO:-0700
TZNAME:PDT
DTSTART:20260308T100000
END:DAYLIGHT
BEGIN:STANDARD
TZOFFSETFROM:-0700
TZOFFSETTO:-0800
TZNAME:PST
DTSTART:20261101T090000
END:STANDARD
END:VTIMEZONE
BEGIN:VEVENT
DTSTART;TZID=America/Los_Angeles:20251207T080000
DTEND;TZID=America/Los_Angeles:20251209T170000
DTSTAMP:20260422T081323
CREATED:20251129T173737Z
LAST-MODIFIED:20251129T173737Z
UID:50628-1765094400-1765299600@network.vegas
SUMMARY:Live Design International (LDI)
DESCRIPTION:@ 			\n			\n							 \n\nLive Design International (LDI) is the preeminent conference and trade show for live entertainment\, design\, and technology professionals from around the globe. Held annually in Las Vegas\, LDI brings together hundreds of cutting-edge exhibitors and thousands of attendees to explore next-generation gear\, from lighting and video to rigging and automation. Attendees gain access to the industry’s most extensive professional training programs\, including the LDInstitute™ and LDInnovation™ Conference\, featuring abundant sessions\, hands-on workshops\, and credentialing opportunities. Beyond the expo floor\, LDI delivers vibrant networking experiences—like New Technology Breakfasts\, portfolio reviews\, and “LDI After Dark” events—and nurtures future industry talent through its Foster the Future initiative for young professionals.bluesealighting.com+15ldishow.com+15instagram.com+15 \n\n \n\n\nLDI Show\n \nView Organizer Website \n \n\n\n\n\n\n\n						\n	\n	\n\n						\n							Add to calendar						\n						\n	\n\n					\n\n\n\n									\n										Google Calendar									\n								\n\n									\n										iCalendar									\n								\n\n									\n										Outlook 365									\n								\n\n									\n										Outlook Live
URL:https://network.vegas/calendar/live-design-international-ldi/
LOCATION:Las Vegas Convention Center\, 3150 Paradise Rd\, Las Vegas\, NV 89109\, United States
CATEGORIES:Featured,Networking
ATTACH;FMTTYPE=image/png:https://network.vegas/wp-content/uploads/2025/11/image-10-MOS3mI.png
END:VEVENT
BEGIN:VEVENT
DTSTART;TZID=America/Los_Angeles:20241210T100000
DTEND;TZID=America/Los_Angeles:20241210T150000
DTSTAMP:20260422T081323
CREATED:20241124T220410Z
LAST-MODIFIED:20241124T220410Z
UID:42825-1733824800-1733842800@network.vegas
SUMMARY:LDI Conference 2024
DESCRIPTION:Welcome to the Ultimate Sandbox for Live Event Gearheads\, Creatives\, and Innovators.\n\n\n\nLDI® is the catalyst that connects the entire live entertainment\, design\, and technology community with manufacturers of state-of-the-art gear\, and professional training from industry leaders. \n\n\n\nOffering an exclusive opportunity to demo and preview the newest gear for the next season\, while providing you with the best in cutting-edge training from top industry pros that only LDI can provide.  \n\n\n\nJoin us to experience live event technology nirvana.  
URL:https://network.vegas/calendar/ldi-conference-2024/2024-12-10/
LOCATION:Las Vegas Convention Center\, 3150 Paradise Rd\, Las Vegas\, NV 89109\, United States
CATEGORIES:Convention,Featured,Hospitality,Professional Association,Technology
ATTACH;FMTTYPE=image/jpeg:https://network.vegas/wp-content/uploads/2024/11/LDI-Conference-2024-scaled.jpg
END:VEVENT
BEGIN:VEVENT
DTSTART;TZID=America/Los_Angeles:20241207T080000
DTEND;TZID=America/Los_Angeles:20241207T170000
DTSTAMP:20260422T081323
CREATED:20241124T215804Z
LAST-MODIFIED:20241124T215806Z
UID:42816-1733558400-1733590800@network.vegas
SUMMARY:LDI Backstage Las Vegas
DESCRIPTION:SATURDAY\, DECEMBER 7\, 2024 – A full-day experience! \n\n\n\nWear your comfy shoes and join us for a very exciting day that takes you behind the scenes at tech-savvy venues in Las Vegas!\n\n\n\nLimited Capacity seats availableA backstage tour to experience and discuss the inner workings and technology at some of the coolest venues in town. Breakfast\, lunch\, and dinner are included on this incredible day that begins with breakfast and concludes with a performance of Mystère\, Cirque du Soliel’s longest running show in Las Vegas\, recently relit brilliantly by LD Luc Lafortune. An exclusive LDI experience!Backstage Las Vegas is sponsored by Disguise \n\n\n\nSchedule*Saturday\, December 7: 8:00am Leave LVCC West Hall Shuttle (breakfast snacks included)8:30-9:30am Tour & Tech Talk at Illuminarium10:15-11:15am Tour & Tech Talk at Ole Red11:30am-12:15pm Lunch at Linq Promenade Restaurants12:30-1:30pm Tour & Tech Talk at Spiegelworld DiscoShow2:00-3:00pm: Tour & Tech Talk at Mystère\, Cirque du Soleil3:30-4:30pm Tour & Tech Talk Atomic Golf4:45-6:15 Dinner in Las Vegas Arts District7:00pm Mystère by Cirque Du Soleil – performance.Approx. end time 9:00pm
URL:https://network.vegas/calendar/ldi-backstage-las-vegas/
LOCATION:Las Vegas Convention Center\, 3150 Paradise Rd\, Las Vegas\, NV 89109\, United States
CATEGORIES:Convention,Hospitality,Professional Association,Technology
ATTACH;FMTTYPE=image/jpeg:https://network.vegas/wp-content/uploads/2024/11/LDI-Backstage-Las-Vegas-scaled.jpg
END:VEVENT
END:VCALENDAR