BEGIN:VCALENDAR
VERSION:2.0
PRODID:-//Network.Vegas - ECPv6.15.20//NONSGML v1.0//EN
CALSCALE:GREGORIAN
METHOD:PUBLISH
X-ORIGINAL-URL:https://network.vegas
X-WR-CALDESC:Events for Network.Vegas
REFRESH-INTERVAL;VALUE=DURATION:PT1H
X-Robots-Tag:noindex
X-PUBLISHED-TTL:PT1H
BEGIN:VTIMEZONE
TZID:America/Los_Angeles
BEGIN:DAYLIGHT
TZOFFSETFROM:-0800
TZOFFSETTO:-0700
TZNAME:PDT
DTSTART:20230312T100000
END:DAYLIGHT
BEGIN:STANDARD
TZOFFSETFROM:-0700
TZOFFSETTO:-0800
TZNAME:PST
DTSTART:20231105T090000
END:STANDARD
BEGIN:DAYLIGHT
TZOFFSETFROM:-0800
TZOFFSETTO:-0700
TZNAME:PDT
DTSTART:20240310T100000
END:DAYLIGHT
BEGIN:STANDARD
TZOFFSETFROM:-0700
TZOFFSETTO:-0800
TZNAME:PST
DTSTART:20241103T090000
END:STANDARD
BEGIN:DAYLIGHT
TZOFFSETFROM:-0800
TZOFFSETTO:-0700
TZNAME:PDT
DTSTART:20250309T100000
END:DAYLIGHT
BEGIN:STANDARD
TZOFFSETFROM:-0700
TZOFFSETTO:-0800
TZNAME:PST
DTSTART:20251102T090000
END:STANDARD
BEGIN:DAYLIGHT
TZOFFSETFROM:-0800
TZOFFSETTO:-0700
TZNAME:PDT
DTSTART:20260308T100000
END:DAYLIGHT
BEGIN:STANDARD
TZOFFSETFROM:-0700
TZOFFSETTO:-0800
TZNAME:PST
DTSTART:20261101T090000
END:STANDARD
END:VTIMEZONE
BEGIN:VEVENT
DTSTART;TZID=America/Los_Angeles:20250516T103000
DTEND;TZID=America/Los_Angeles:20250516T103000
DTSTAMP:20260421T153554
CREATED:20250505T160300Z
LAST-MODIFIED:20250505T173646Z
UID:45996-1747391400-1747391400@network.vegas
SUMMARY:Business Expo & Networking Luncheon: United for Infrastructure
DESCRIPTION:This month our Business & Networking Luncheon – Hear from transportation and infrastructure industry leaders driving innovation and growth across Southern Nevada in policy\, transportation\, construction and housing\, at the Suncoast Hotel & Casino. If you need assistance\, please contact us at 702-385-7367 or info@lvlcc.com
URL:https://network.vegas/calendar/business-expo-networking-luncheon-united-for-infrastructure/
CATEGORIES:Featured
ATTACH;FMTTYPE=image/png:https://network.vegas/wp-content/uploads/2025/05/6810fac0b7fdce345428ee2b_unnamed-0GXTku.png
END:VEVENT
BEGIN:VEVENT
DTSTART;TZID=America/Los_Angeles:20250404T000000
DTEND;TZID=America/Los_Angeles:20250404T000000
DTSTAMP:20260421T153554
CREATED:20250407T055243Z
LAST-MODIFIED:20250407T055243Z
UID:45228-1743724800-1743724800@network.vegas
SUMMARY:Desayuno Con Amigos
DESCRIPTION:You’re Invited! Join Us for the Next Desayuno Con Amigos – A Discussion on Nevada SECURE 2.0 Act & Payroll/HR Compliance Essentials and Insights from ALPHA Video Surveillance!
URL:https://network.vegas/calendar/desayuno-con-amigos-5/
CATEGORIES:Chamber,Las Vegas Business,Networking
ATTACH;FMTTYPE=image/png:https://network.vegas/wp-content/uploads/2025/04/67e2f82f7d4d17017f47148f_Desayuno20April202025202-p-800-MLxGvW.tmp_.png
END:VEVENT
BEGIN:VEVENT
DTSTART;TZID=America/Los_Angeles:20250313T000000
DTEND;TZID=America/Los_Angeles:20250313T000000
DTSTAMP:20260421T153554
CREATED:20250304T031459Z
LAST-MODIFIED:20250304T031459Z
UID:44632-1741824000-1741824000@network.vegas
SUMMARY:LCC Young Professionals Signature Event: Empowering Young Professionals in Law
DESCRIPTION:
URL:https://network.vegas/calendar/lcc-young-professionals-signature-event-empowering-young-professionals-in-law/
CATEGORIES:Chamber,Las Vegas Business,Networking
ATTACH;FMTTYPE=image/png:https://network.vegas/wp-content/uploads/2025/03/67b7b65b71a562c3aff04775_YP20Flyer20Final-VNiKrq.tmp_.png
END:VEVENT
BEGIN:VEVENT
DTSTART;TZID=America/Los_Angeles:20250221T000000
DTEND;TZID=America/Los_Angeles:20250221T000000
DTSTAMP:20260421T153554
CREATED:20250203T215758Z
LAST-MODIFIED:20250203T215758Z
UID:43835-1740096000-1740096000@network.vegas
SUMMARY:Business & Networking Luncheon
DESCRIPTION:
URL:https://network.vegas/calendar/business-networking-luncheon/
CATEGORIES:Chamber,Las Vegas Business,Networking
END:VEVENT
BEGIN:VEVENT
DTSTART;TZID=America/Los_Angeles:20250207T080000
DTEND;TZID=America/Los_Angeles:20250207T080000
DTSTAMP:20260421T153554
CREATED:20250203T215759Z
LAST-MODIFIED:20250203T215759Z
UID:43836-1738915200-1738915200@network.vegas
SUMMARY:Febuary Desayuno Con Amigos 2025
DESCRIPTION:
URL:https://network.vegas/calendar/febuary-desayuno-con-amigos-2025/
LOCATION:The Boulevard Mall\, 3528 S Maryland Pkwy\, Las Vegas\, NV 89169\, United States\, Las Vegas\, NV\, United States
CATEGORIES:Chamber,Las Vegas Business,Networking
END:VEVENT
BEGIN:VEVENT
DTSTART;TZID=America/Los_Angeles:20241215T000000
DTEND;TZID=America/Los_Angeles:20241215T000000
DTSTAMP:20260421T153554
CREATED:20241018T205004Z
LAST-MODIFIED:20241018T205004Z
UID:42108-1734220800-1734220800@network.vegas
SUMMARY:Save the Dates: 2024 LCC Signature Events!
DESCRIPTION:
URL:https://network.vegas/calendar/save-the-dates-2024-lcc-signature-events-2/
ATTACH;FMTTYPE=image/png:https://network.vegas/wp-content/uploads/2024/10/660c2e045463d196c8110961_LCC20Signature20Events202024201-ItAydt.tmp_.png
END:VEVENT
BEGIN:VEVENT
DTSTART;TZID=America/Los_Angeles:20241214T170000
DTEND;TZID=America/Los_Angeles:20241214T170000
DTSTAMP:20260421T153554
CREATED:20241106T231004Z
LAST-MODIFIED:20241202T201408Z
UID:42537-1734195600-1734195600@network.vegas
SUMMARY:Annual Celebration & Awards Gala
DESCRIPTION:Experience an unforgettable evening at the Annual Celebration & Awards Gala on Saturday\, December 14\, 2024\, at the Westgate Las Vegas Resort & Casino. The event begins with cocktails and a silent auction at 5PM\, followed by a delightful dinner\, recognition of outstanding community members\, and dancing. Your sponsorship plays a crucial role in supporting our educational seminars\, networking events\, and community programs. Explore the available Sponsorship Levels and secure your participation by completing this Registration Form. For assistance\, please contact Beatriz Saenz at 702-385-7367 or beatriz@lvlcc.com.
URL:https://network.vegas/calendar/annual-celebration-awards-gala/
CATEGORIES:Awards,Chamber,Featured
ATTACH;FMTTYPE=image/png:https://network.vegas/wp-content/uploads/2024/11/66f331e50f89c6fea96f292d_202420Gala-p-1080-8KhdSa.tmp_.png
END:VEVENT
BEGIN:VEVENT
DTSTART;TZID=America/Los_Angeles:20241026T070000
DTEND;TZID=America/Los_Angeles:20241026T070000
DTSTAMP:20260421T153554
CREATED:20241018T203827Z
LAST-MODIFIED:20241018T203827Z
UID:41962-1729926000-1729926000@network.vegas
SUMMARY:36th Annual Golf Tournament
DESCRIPTION:Swing into Excitement at our 36th Annual Golf Tournament I October 26\, 2024
URL:https://network.vegas/calendar/36th-annual-golf-tournament-2/
LOCATION:Desert Pines Golf Club\, 3415 E Bonanza Road\, Las Vegas
CATEGORIES:Chamber,Las Vegas Business,Networking
ATTACH;FMTTYPE=image/png:https://network.vegas/wp-content/uploads/2024/10/66ba4089bd4ee015388fb27d_Golf20Tournament-p-1080-ufSuit.tmp_.png
END:VEVENT
BEGIN:VEVENT
DTSTART;TZID=America/Los_Angeles:20241018T110000
DTEND;TZID=America/Los_Angeles:20241018T110000
DTSTAMP:20260421T153554
CREATED:20241018T204011Z
LAST-MODIFIED:20241018T204011Z
UID:41991-1729249200-1729249200@network.vegas
SUMMARY:Vintage Vegas Luncheon
DESCRIPTION:This month our Vintage Vegas Business & Networking Luncheon – October 18\, 2024
URL:https://network.vegas/calendar/vintage-vegas-luncheon-2/
CATEGORIES:Chamber,Las Vegas Business,Networking
ATTACH;FMTTYPE=image/png:https://network.vegas/wp-content/uploads/2024/10/66f32e45dbd70079a2cad619_Vintage20Vegas202024204-p-1600-thWsug.tmp_.png
END:VEVENT
BEGIN:VEVENT
DTSTART;TZID=America/Los_Angeles:20240920T073000
DTEND;TZID=America/Los_Angeles:20240920T073000
DTSTAMP:20260421T153554
CREATED:20240911T045904Z
LAST-MODIFIED:20240911T234653Z
UID:40877-1726817400-1726817400@network.vegas
SUMMARY:Desayuno Con Amigos
DESCRIPTION:Come join us at our September Desayuno con Amigos where you can learn\, connect\, and network.
URL:https://network.vegas/calendar/desayuno-con-amigos-2/
CATEGORIES:Chamber,Networking
ATTACH;FMTTYPE=image/png:https://network.vegas/wp-content/uploads/2024/09/66da08f0ff8141017aeb7d77_Desayuno20September202024-Cww93T.tmp_.png
END:VEVENT
BEGIN:VEVENT
DTSTART;TZID=America/Los_Angeles:20240906T110000
DTEND;TZID=America/Los_Angeles:20240906T130000
DTSTAMP:20260421T153554
CREATED:20240830T190537Z
LAST-MODIFIED:20240830T190539Z
UID:40004-1725620400-1725627600@network.vegas
SUMMARY:Latin Chamber Luncheon Featuring Dana White
DESCRIPTION:
URL:https://network.vegas/calendar/latin-chamber-luncheon-featuring-dana-white/
LOCATION:Durango Casino & Resort\, 6915 South Durango Drive\, Las Vegas\, NV\, 89148\, United States
CATEGORIES:Chamber,Featured,Networking
ATTACH;FMTTYPE=image/png:https://network.vegas/wp-content/uploads/2024/08/image-3.png
END:VEVENT
BEGIN:VEVENT
DTSTART;TZID=America/Los_Angeles:20240803T110000
DTEND;TZID=America/Los_Angeles:20240803T150000
DTSTAMP:20260421T153554
CREATED:20240517T162219Z
LAST-MODIFIED:20240730T165740Z
UID:37850-1722682800-1722697200@network.vegas
SUMMARY:La Oportunidad Expo
DESCRIPTION:La Oportunidad Expo\, the foremost Latin Community Event in Southern Nevada\, offers local businesses and entrepreneurs a platform to showcase their products and services to an audience of over 5\,000 attendees and more than 100 exhibitors. Experience fantastic music\, entertainment\, and engaging activities throughout the day. Click the button below to access the Sponsorship Packages and Registration Form. For additional information or assistance\, please contact us at 702-385-7367\, or email beatriz@lvlcc.com and carlos@lvlcc.com
URL:https://network.vegas/calendar/la-oportunidad-expo/
LOCATION:The Boulevard Mall\, 3528 S Maryland Pkwy\, Las Vegas\, NV 89169\, United States\, Las Vegas\, NV\, United States
CATEGORIES:Chamber,Convention,Featured
ATTACH;FMTTYPE=image/jpeg:https://network.vegas/wp-content/uploads/2022/02/latin-chamber-banner.jpg
END:VEVENT
BEGIN:VEVENT
DTSTART;TZID=America/Los_Angeles:20240719T114500
DTEND;TZID=America/Los_Angeles:20240719T130000
DTSTAMP:20260421T153554
CREATED:20240714T131744Z
LAST-MODIFIED:20240714T131750Z
UID:38564-1721389500-1721394000@network.vegas
SUMMARY:July Business & Networking Luncheon
DESCRIPTION:
URL:https://network.vegas/calendar/july-business-networking-luncheon/
LOCATION:South Point Hotel\, Casino & Spa\, 9777 Las Vegas Blvd S\, Las Vegas\, NV\, 89183\, United States
CATEGORIES:Chamber,Networking
GEO:36.0114211;-115.1752012
X-APPLE-STRUCTURED-LOCATION;VALUE=URI;X-ADDRESS=South Point Hotel Casino & Spa 9777 Las Vegas Blvd S Las Vegas NV 89183 United States;X-APPLE-RADIUS=500;X-TITLE=9777 Las Vegas Blvd S:geo:-115.1752012,36.0114211
END:VEVENT
BEGIN:VEVENT
DTSTART;TZID=America/Los_Angeles:20240628T073000
DTEND;TZID=America/Los_Angeles:20240628T090000
DTSTAMP:20260421T153554
CREATED:20240614T181015Z
LAST-MODIFIED:20240614T181018Z
UID:38211-1719559800-1719565200@network.vegas
SUMMARY:Conectando Con Cafecito
DESCRIPTION:Nuestra misión es potenciar la fortaleza individual y colectiva de las mujeres hispanas emprendedoras buscando su avance en las prácticas empresariales a través de una red de apoyo que brinde oportunidades educativas y acceso a recursos para avanzar en su camino empresarial con base en la igualdad y la conciencia de su contribución como motor económico en Nevada. El resultado que esperamos de este evento es que las empresas de mujeres hispanas utilicen los recursos disponibles para avanzar y expandir sus negocios. Este es un esfuerzo para elevar la visibilidad de empresarias latinas locales y que sus voces puedan ser escuchadas.
URL:https://network.vegas/calendar/conectando-con-cafecito-5/
CATEGORIES:Chamber,Networking
ATTACH;FMTTYPE=image/jpeg:https://network.vegas/wp-content/uploads/2022/02/latin-chamber-banner.jpg
END:VEVENT
BEGIN:VEVENT
DTSTART;TZID=America/Los_Angeles:20240621T110000
DTEND;TZID=America/Los_Angeles:20240621T110000
DTSTAMP:20260421T153554
CREATED:20240614T181221Z
LAST-MODIFIED:20240614T181224Z
UID:38214-1718967600-1718967600@network.vegas
SUMMARY:June Business & Networking Luncheon
DESCRIPTION:This month our Business & Networking Luncheon – June 21\, 2024\n\n\n\nSuncoast Hotel & Casino9090 Alta Drive Las Vegas\, NV 8914511:00am – 1:00pm\n\n\n\nIf you need assistance\, please contact us at 702-385-7367 or info@lvlcc.com
URL:https://network.vegas/calendar/june-business-networking-luncheon/
LOCATION:Suncoast Hotel & Casino\, 9090 Alta Dr\, Las Vegas\, NV 89145\, USA\, Las Vegas
CATEGORIES:Chamber,Networking
ATTACH;FMTTYPE=image/jpeg:https://network.vegas/wp-content/uploads/2022/02/latin-chamber-banner.jpg
END:VEVENT
BEGIN:VEVENT
DTSTART;TZID=America/Los_Angeles:20240607T080000
DTEND;TZID=America/Los_Angeles:20240607T090000
DTSTAMP:20260421T153554
CREATED:20240517T162338Z
LAST-MODIFIED:20240517T162345Z
UID:37852-1717747200-1717750800@network.vegas
SUMMARY:Desayuno Con Amigos
DESCRIPTION:Come join us at our Desayuno con Amigos where you can learn\, connect\, network\, and meet the candidate mayor!
URL:https://network.vegas/calendar/desayuno-con-amigos/
LOCATION:El Mercado Boulevard Mall\, 3528 S Maryland Pkwy\, Las Vegas\, NV 89169\, United States\, Las Vegas
CATEGORIES:Chamber,Networking
ATTACH;FMTTYPE=image/jpeg:https://network.vegas/wp-content/uploads/2022/02/latin-chamber-banner.jpg
END:VEVENT
BEGIN:VEVENT
DTSTART;TZID=America/Los_Angeles:20240531T073000
DTEND;TZID=America/Los_Angeles:20240531T090000
DTSTAMP:20260421T153554
CREATED:20240517T162446Z
LAST-MODIFIED:20240517T162451Z
UID:37854-1717140600-1717146000@network.vegas
SUMMARY:Conectando Con Cafecito
DESCRIPTION:Nuestra misión es potenciar la fortaleza individual y colectiva de las mujeres hispanas emprendedoras buscando su avance en las prácticas empresariales a través de una red de apoyo que brinde oportunidades educativas y acceso a recursos para avanzar en su camino empresarial con base en la igualdad y la conciencia de su contribución como motor económico en Nevada. El resultado que esperamos de este evento es que las empresas de mujeres hispanas utilicen los recursos disponibles para avanzar y expandir sus negocios. Este es un esfuerzo para elevar la visibilidad de empresarias latinas locales y que sus voces puedan ser escuchadas.
URL:https://network.vegas/calendar/conectando-con-cafecito-4/
CATEGORIES:Chamber,Networking
ATTACH;FMTTYPE=image/jpeg:https://network.vegas/wp-content/uploads/2022/02/latin-chamber-banner.jpg
END:VEVENT
BEGIN:VEVENT
DTSTART;TZID=America/Los_Angeles:20240517T103000
DTEND;TZID=America/Los_Angeles:20240517T130000
DTSTAMP:20260421T153554
CREATED:20240504T082609Z
LAST-MODIFIED:20240506T164736Z
UID:37585-1715941800-1715950800@network.vegas
SUMMARY:LCC & RTC: United For Infrastructure Expo & Luncheon
DESCRIPTION:This year’s Business Expo and Luncheon will delve into the intricate landscape of Southern Nevada’s transportation infrastructure\, exploring our community’s challenges and opportunities.
URL:https://network.vegas/calendar/lcc-rtc-united-for-infrastructure-expo-luncheon/
LOCATION:Suncoast Hotel & Casino\, 9090 Alta Dr\, Las Vegas\, NV 89145\, USA\, Las Vegas
CATEGORIES:Chamber,Featured,Networking
ATTACH;FMTTYPE=image/jpeg:https://network.vegas/wp-content/uploads/2022/02/latin-chamber-banner.jpg
END:VEVENT
BEGIN:VEVENT
DTSTART;TZID=America/Los_Angeles:20240503T080000
DTEND;TZID=America/Los_Angeles:20240503T090000
DTSTAMP:20260421T153554
CREATED:20240420T101803Z
LAST-MODIFIED:20240420T101806Z
UID:36482-1714723200-1714726800@network.vegas
SUMMARY:Desayuno Con Amigos
DESCRIPTION:Come join us at our Desayuno con Amigos where you can learn\, connect\, network\, and meet most of the mayor candidates.
URL:https://network.vegas/calendar/desayuno-con-amigos-4/
LOCATION:El Mercado located inside The Boulevard Mall\, 3528 S. Maryland Pkwy Las Vegas\, NV 89169\, Las Vegas
CATEGORIES:Chamber,Networking
ATTACH;FMTTYPE=image/jpeg:https://network.vegas/wp-content/uploads/2022/02/latin-chamber-banner.jpg
END:VEVENT
BEGIN:VEVENT
DTSTART;TZID=America/Los_Angeles:20240502T173000
DTEND;TZID=America/Los_Angeles:20240502T193000
DTSTAMP:20260421T153554
CREATED:20240420T101948Z
LAST-MODIFIED:20240420T101951Z
UID:36488-1714671000-1714678200@network.vegas
SUMMARY:Young Professionals Signature VIP Event
DESCRIPTION:Join Us for this Exclusive LCC Young Professionals Signature VIP Event!
URL:https://network.vegas/calendar/young-professionals-signature-vip-event/
LOCATION:Carousel Bar at the Plaza Hotel & Casino\, One Main Street Las Vegas\, NV 89101\, Las Vegas
CATEGORIES:Chamber
ATTACH;FMTTYPE=image/jpeg:https://network.vegas/wp-content/uploads/2022/02/latin-chamber-banner.jpg
END:VEVENT
BEGIN:VEVENT
DTSTART;TZID=America/Los_Angeles:20240426T110000
DTEND;TZID=America/Los_Angeles:20240426T130000
DTSTAMP:20260421T153554
CREATED:20240420T102257Z
LAST-MODIFIED:20240420T102300Z
UID:36494-1714129200-1714136400@network.vegas
SUMMARY:April Business & Networking Luncheon
DESCRIPTION:This month our Business & Networking Luncheon – April 26\, 2024\n\n\n\nSuncoast Hotel & Casino9090 Alta Drive Las Vegas\, NV 8914511:00am – 1:00pm\n\n\n\nIf you need assistance\, please contact us at 702-385-7367 or info@lvlcc.com
URL:https://network.vegas/calendar/april-business-networking-luncheon/
LOCATION:Suncoast Hotel & Casino Grand Ballroom\, 9090 Alta Drive\, Las Vegas\, NV\, 89145\, United States
CATEGORIES:Chamber,Networking
ATTACH;FMTTYPE=image/jpeg:https://network.vegas/wp-content/uploads/2022/02/latin-chamber-banner.jpg
GEO:36.1691108;-115.2913032
X-APPLE-STRUCTURED-LOCATION;VALUE=URI;X-ADDRESS=Suncoast Hotel & Casino Grand Ballroom 9090 Alta Drive Las Vegas NV 89145 United States;X-APPLE-RADIUS=500;X-TITLE=9090 Alta Drive:geo:-115.2913032,36.1691108
END:VEVENT
BEGIN:VEVENT
DTSTART;TZID=America/Los_Angeles:20240426T073000
DTEND;TZID=America/Los_Angeles:20240426T090000
DTSTAMP:20260421T153554
CREATED:20240420T102130Z
LAST-MODIFIED:20240420T102133Z
UID:36491-1714116600-1714122000@network.vegas
SUMMARY:Conectando Con Cafecito
DESCRIPTION:Invita a todas las mujeres hispanas emprendedoras al desayuno networking: Red de Mujeres Emprendedoras: Conectando con Cafecito.
URL:https://network.vegas/calendar/conectando-con-cafecito-3/
CATEGORIES:Chamber,Networking
ATTACH;FMTTYPE=image/jpeg:https://network.vegas/wp-content/uploads/2022/02/latin-chamber-banner.jpg
END:VEVENT
BEGIN:VEVENT
DTSTART;TZID=America/Los_Angeles:20240405T073000
DTEND;TZID=America/Los_Angeles:20240405T090000
DTSTAMP:20260421T153554
CREATED:20240322T131537Z
LAST-MODIFIED:20240322T131540Z
UID:35775-1712302200-1712307600@network.vegas
SUMMARY:Desayuno Con Amigos "Meet the Mayor Candidate Series Continues"
DESCRIPTION:Come join us at our Desayuno con Amigos where you can learn\, connect\, network\, and meet the new candidate mayor!
URL:https://network.vegas/calendar/desayuno-con-amigos-meet-the-mayor-candidate-series-continues-2/
LOCATION:El Mercado Boulevard Mall\, 3528 S Maryland Pkwy\, Las Vegas\, NV 89169\, United States\, Las Vegas
CATEGORIES:Chamber,Networking
ATTACH;FMTTYPE=image/jpeg:https://network.vegas/wp-content/uploads/2022/02/latin-chamber-banner.jpg
END:VEVENT
BEGIN:VEVENT
DTSTART;TZID=America/Los_Angeles:20240329T073000
DTEND;TZID=America/Los_Angeles:20240329T090000
DTSTAMP:20260421T153554
CREATED:20240322T131717Z
LAST-MODIFIED:20240322T131720Z
UID:35777-1711697400-1711702800@network.vegas
SUMMARY:Conectando Con Cafecito
DESCRIPTION:Nuestra misión es potenciar la fortaleza individual y colectiva de las mujeres hispanas emprendedoras buscando su avance en las prácticas empresariales a través de una red de apoyo que brinde oportunidades educativas y acceso a recursos para avanzar en su camino empresarial con base en la igualdad y la conciencia de su contribución como motor económico en Nevada. El resultado que esperamos de este evento es que las empresas de mujeres hispanas utilicen los recursos disponibles para avanzar y expandir sus negocios. Este es un esfuerzo para elevar la visibilidad de empresarias latinas locales y que sus voces puedan ser escuchadas.
URL:https://network.vegas/calendar/conectando-con-cafecito-2/
CATEGORIES:Chamber
ATTACH;FMTTYPE=image/jpeg:https://network.vegas/wp-content/uploads/2022/02/latin-chamber-banner.jpg
END:VEVENT
BEGIN:VEVENT
DTSTART;TZID=America/Los_Angeles:20240322T110000
DTEND;TZID=America/Los_Angeles:20240322T130000
DTSTAMP:20260421T153554
CREATED:20240308T114013Z
LAST-MODIFIED:20240308T114016Z
UID:35485-1711105200-1711112400@network.vegas
SUMMARY:March Business & Networking Luncheon
DESCRIPTION:
URL:https://network.vegas/calendar/march-business-networking-luncheon/
LOCATION:Suncoast Hotel & Casino\, 9090 Alta Dr\, Las Vegas\, NV 89145\, USA\, Las Vegas
CATEGORIES:Chamber,Networking
ATTACH;FMTTYPE=image/jpeg:https://network.vegas/wp-content/uploads/2022/02/latin-chamber-banner.jpg
END:VEVENT
END:VCALENDAR