BEGIN:VCALENDAR
VERSION:2.0
PRODID:-//Network.Vegas - ECPv6.15.20//NONSGML v1.0//EN
CALSCALE:GREGORIAN
METHOD:PUBLISH
X-WR-CALNAME:Network.Vegas
X-ORIGINAL-URL:https://network.vegas
X-WR-CALDESC:Events for Network.Vegas
REFRESH-INTERVAL;VALUE=DURATION:PT1H
X-Robots-Tag:noindex
X-PUBLISHED-TTL:PT1H
BEGIN:VTIMEZONE
TZID:America/Los_Angeles
BEGIN:DAYLIGHT
TZOFFSETFROM:-0800
TZOFFSETTO:-0700
TZNAME:PDT
DTSTART:20230312T100000
END:DAYLIGHT
BEGIN:STANDARD
TZOFFSETFROM:-0700
TZOFFSETTO:-0800
TZNAME:PST
DTSTART:20231105T090000
END:STANDARD
BEGIN:DAYLIGHT
TZOFFSETFROM:-0800
TZOFFSETTO:-0700
TZNAME:PDT
DTSTART:20240310T100000
END:DAYLIGHT
BEGIN:STANDARD
TZOFFSETFROM:-0700
TZOFFSETTO:-0800
TZNAME:PST
DTSTART:20241103T090000
END:STANDARD
BEGIN:DAYLIGHT
TZOFFSETFROM:-0800
TZOFFSETTO:-0700
TZNAME:PDT
DTSTART:20250309T100000
END:DAYLIGHT
BEGIN:STANDARD
TZOFFSETFROM:-0700
TZOFFSETTO:-0800
TZNAME:PST
DTSTART:20251102T090000
END:STANDARD
BEGIN:DAYLIGHT
TZOFFSETFROM:-0800
TZOFFSETTO:-0700
TZNAME:PDT
DTSTART:20260308T100000
END:DAYLIGHT
BEGIN:STANDARD
TZOFFSETFROM:-0700
TZOFFSETTO:-0800
TZNAME:PST
DTSTART:20261101T090000
END:STANDARD
BEGIN:DAYLIGHT
TZOFFSETFROM:-0800
TZOFFSETTO:-0700
TZNAME:PDT
DTSTART:20270314T100000
END:DAYLIGHT
BEGIN:STANDARD
TZOFFSETFROM:-0700
TZOFFSETTO:-0800
TZNAME:PST
DTSTART:20271107T090000
END:STANDARD
END:VTIMEZONE
BEGIN:VEVENT
DTSTART;TZID=America/Los_Angeles:20260408T080000
DTEND;TZID=America/Los_Angeles:20260408T170000
DTSTAMP:20260424T063732
CREATED:20260408T171112Z
LAST-MODIFIED:20260408T171115Z
UID:53154-1775635200-1775667600@network.vegas
SUMMARY:Las Vegas Territory presents...April Territory Talks
DESCRIPTION:Vinny Grosso\n\n\n\nVinny Grosso is a Las Vegas headliner and award-winning magician who has captivated audiences worldwide. As a former President of The Society of American Magicians and a Villanova engineering graduate\, he blends creativity and technical expertise to craft mind-blowing illusions. He’s fooled Penn & Teller twice\, entertained millions on America’s Got Talent\, and performed for audiences across the U.S.\, Europe\, and Asia. Beyond the stage\, his book Exposed & Fearless and engaging talks inspire people to embrace authenticity and see the magic in the impossible.
URL:https://network.vegas/calendar/las-vegas-territory-presents-april-territory-talks/
LOCATION:Gyu+ Social Lounge\, Las Vegas
CATEGORIES:Hospitality,Hospitality & Travel,Networking,Professional Association
ATTACH;FMTTYPE=image/jpeg:https://network.vegas/wp-content/uploads/2023/03/las-vegas-territory-banner.jpg
END:VEVENT
BEGIN:VEVENT
DTSTART;TZID=America/Los_Angeles:20260324T173000
DTEND;TZID=America/Los_Angeles:20260324T235959
DTSTAMP:20260424T063732
CREATED:20260314T131043Z
LAST-MODIFIED:20260314T131046Z
UID:52629-1774373400-1774396799@network.vegas
SUMMARY:High Steaks Vegas
DESCRIPTION:Mix\, mingle\, and make meaningful connections with fellow Las Vegas Territory partners and travel industry professionals at the Award-Winning Chef James Trees’ newest culinary hotspot — High Steaks Vegas. Where bold flavors meet elevated vibes! High Steaks serves up chef-driven cuts\, creative small plates\, and handcrafted cocktails in a stylish\, high-energy setting that perfectly blends classic steakhouse flair with modern Vegas edge.
URL:https://network.vegas/calendar/high-steaks-vegas/
LOCATION:Rio Hotel & Casino\, 3700 West Flamingo Road\, Las Vegas\, NV\, 89103\, United States
CATEGORIES:Networking
ATTACH;FMTTYPE=image/png:https://network.vegas/wp-content/uploads/2026/03/image-18.png
END:VEVENT
BEGIN:VEVENT
DTSTART;TZID=America/Los_Angeles:20260127T173000
DTEND;TZID=America/Los_Angeles:20260127T190000
DTSTAMP:20260424T063732
CREATED:20260122T180020Z
LAST-MODIFIED:20260122T180022Z
UID:51685-1769535000-1769540400@network.vegas
SUMMARY:Las Vegas Territory Toast the New Year
DESCRIPTION:Come Kick Off 2026 Right! \n\n\n\nWe’ll Enjoy some Light appetizers\, Networking and Music. \n\n\n\n Tuesday\, January 27\, 2026 5:30-7:00 p.m. — 5 p.m. check-in opensLegacy Club at Circa Hotel8 Fremont St\, Las Vegas\, NV 89101Light appetizers\, networking and music $55 member\, $65 non-member \n\n\n\nSign Up & Prepay Below… \n\n\n\nLas Vegas Territory Networking Social 2026 (NON-MEMBER)$65.00 USD \n\n\n\nhttps://buy.stripe.com/14A28se7d197df6dh81ZS0h \n\n\n\nLas Vegas Territory Networking Social 2026 (MEMBER)$55.00 USD \n\n\n\nhttps://buy.stripe.com/14A28s7IP3hfdf63Gy1ZS0i
URL:https://network.vegas/calendar/las-vegas-territory-toast-the-new-year/
LOCATION:Circa – Legacy Club\, 8 Fremont St\, Las Vegas\, Nevada\, 89101\, United States
CATEGORIES:Featured,Hospitality,Professional Association
ATTACH;FMTTYPE=image/png:https://network.vegas/wp-content/uploads/2026/01/image-12.png
END:VEVENT
BEGIN:VEVENT
DTSTART;TZID=America/Los_Angeles:20251024T080000
DTEND;TZID=America/Los_Angeles:20251024T170000
DTSTAMP:20260424T063732
CREATED:20251024T230917Z
LAST-MODIFIED:20251024T230955Z
UID:49782-1761292800-1761325200@network.vegas
SUMMARY:AI BOOTCAMP - The Las Vegas Territory
DESCRIPTION:Join us for an action packed October with the kickoff to our membership drive\, AI Bootcamp and headshots! \n\n\n\nAI BOOTCAMPSpeaker Ben Laifsky – CEO & Founder\, Hunter MarketingLearn practical tips to demystify AI\, discover how it’s driving real-world business results\, and—most importantly—how you can start leveraging AI in your own business today during these uncertain times. \n\n\n\nFree Offer – Professional HeadshotsCourtesy of Vik Chohan PhotographyGet dolled up and photo ready! Members enjoy complimentary professional headshots. Not a member? No problem—headshots available for $25. \n\n\n\nTuesday\, October 28\, 202511 a.m.\, check-in; 11:30 a.m. meetingChophouse\, Ahern Hotel \n\n\n\n300 W Sahara Avenue Las Vegas\, NV 89102$45\, member; $65\, non; $70\, door \n\n\n\nA portion of each ticket at each event helps fund our scholarship program. Each year a Valley High School and College of Southern Nevada student receives a scholarship from Las Vegas Territory. If you would like to make an additional donation\, we thank you for this support.
URL:https://network.vegas/calendar/ai-bootcamp-the-las-vegas-territory/
LOCATION:Joel’s Chophouse\, 300 West Sahara Avenue\, Las Vegas\, NV\, 89102\, United States
CATEGORIES:Featured,Networking,Technology
ATTACH;FMTTYPE=image/png:https://network.vegas/wp-content/uploads/2025/10/image-14.png
END:VEVENT
BEGIN:VEVENT
DTSTART;TZID=America/Los_Angeles:20250722T170000
DTEND;TZID=America/Los_Angeles:20250722T170000
DTSTAMP:20260424T063732
CREATED:20250702T164434Z
LAST-MODIFIED:20250702T164434Z
UID:47234-1753203600-1753203600@network.vegas
SUMMARY:Las Vegas Territory July Social
DESCRIPTION:
URL:https://network.vegas/calendar/las-vegas-territory-july-social/
ATTACH;FMTTYPE=image/png:https://network.vegas/wp-content/uploads/2025/07/July-2025-Fogo-1100x630-eJDHSA.png
END:VEVENT
BEGIN:VEVENT
DTSTART;TZID=America/Los_Angeles:20250326T173000
DTEND;TZID=America/Los_Angeles:20250326T173000
DTSTAMP:20260424T063732
CREATED:20250304T031501Z
LAST-MODIFIED:20250304T031501Z
UID:44635-1743010200-1743010200@network.vegas
SUMMARY:A Social with Travel Nevada
DESCRIPTION:We will be joined by Travel Nevada’s Industry Development Specialist\, Abigail Bernabe. She will be on site to connect with you on your grant application and answer questions to get your grant to the finish line.
URL:https://network.vegas/calendar/a-social-with-travel-nevada/
CATEGORIES:Hospitality,Networking
ATTACH;FMTTYPE=image/png:https://network.vegas/wp-content/uploads/2025/03/March-Social-2025-1100x630-eDjjWq.tmp_.png
END:VEVENT
BEGIN:VEVENT
DTSTART;TZID=America/Los_Angeles:20250111T110000
DTEND;TZID=America/Los_Angeles:20250111T130000
DTSTAMP:20260424T063732
CREATED:20250111T204150Z
LAST-MODIFIED:20250111T204150Z
UID:43371-1736593200-1736600400@network.vegas
SUMMARY:January Networking Lunch Meeting
DESCRIPTION:
URL:https://network.vegas/calendar/january-networking-lunch-meeting/
ATTACH;FMTTYPE=image/png:https://network.vegas/wp-content/uploads/2025/01/January-Lunch-2025-1100x500-ABJ14f.tmp_.png
END:VEVENT
BEGIN:VEVENT
DTSTART;TZID=America/Los_Angeles:20241106T163000
DTEND;TZID=America/Los_Angeles:20241106T163000
DTSTAMP:20260424T063732
CREATED:20241018T204146Z
LAST-MODIFIED:20241018T204146Z
UID:42031-1730910600-1730910600@network.vegas
SUMMARY:Las Vegas Territory Partnership Drive Mesquite
DESCRIPTION:We look forward to meeting new partners in the Moapa Valley and Mesquite area of the Silver State. Join us for food and libations* while groovin’ to tunes and meeting new friends in the tourism industry. During this Las Vegas Territory social hour discover partnerships for the future with Las Vegas Territory. Uncover new Las Vegas Territory partner benefits. Meet our board\, learn how the organization can highlight your business. Network with fellow tourism partners in Southern Nevada.
URL:https://network.vegas/calendar/las-vegas-territory-partnership-drive-mesquite-2/
CATEGORIES:Hospitality,Networking
END:VEVENT
BEGIN:VEVENT
DTSTART;TZID=America/Los_Angeles:20241016T173000
DTEND;TZID=America/Los_Angeles:20241016T173000
DTSTAMP:20260424T063732
CREATED:20241018T192936Z
LAST-MODIFIED:20241018T203744Z
UID:41916-1729099800-1729099800@network.vegas
SUMMARY:Las Vegas Territory Partnership Drive Boulder City
DESCRIPTION:We’re heading to you – historic Boulder City! Discover partnerships for the future with Las Vegas Territory. Uncover new Las Vegas Territory partner benefits. Meet our board\, learn how the organization can highlight your business. Network with fellow tourism partners in Southern Nevada.
URL:https://network.vegas/calendar/las-vegas-territory-partnership-drive-boulder-city-2/
CATEGORIES:Hospitality,Networking
END:VEVENT
BEGIN:VEVENT
DTSTART;TZID=America/Los_Angeles:20240930T173000
DTEND;TZID=America/Los_Angeles:20240930T173000
DTSTAMP:20260424T063732
CREATED:20240911T045954Z
LAST-MODIFIED:20240911T045954Z
UID:40924-1727717400-1727717400@network.vegas
SUMMARY:Las Vegas Territory Partnership Drive
DESCRIPTION:Discover partnerships for the future. Join the adventure with Las Vegas Territory. Uncover new Las Vegas Territory partner benefits. Meet our board\, learn how the organization can highlight your business. Network with fellow tourism partners in Southern Nevada.
URL:https://network.vegas/calendar/las-vegas-territory-partnership-drive/
ATTACH;FMTTYPE=image/png:https://network.vegas/wp-content/uploads/2024/09/Partnership-Drive-at-Circa-1100x500-vsFNcX.tmp_.png
END:VEVENT
BEGIN:VEVENT
DTSTART;TZID=America/Los_Angeles:20240924T080000
DTEND;TZID=America/Los_Angeles:20240924T080000
DTSTAMP:20260424T063732
CREATED:20240911T045916Z
LAST-MODIFIED:20240911T045916Z
UID:40888-1727164800-1727164800@network.vegas
SUMMARY:Las Vegas Territory September Networking Breakfast
DESCRIPTION:We look forward to gaining insight into Travel Nevada’s future strategic plans to increase state tourism and industry development initiatives. Join us in welcoming Travel Nevada’s first CEO\, veteran tourism executive Rafael Villanueva.
URL:https://network.vegas/calendar/las-vegas-territory-september-networking-breakfast/
ATTACH;FMTTYPE=image/png:https://network.vegas/wp-content/uploads/2024/09/September-breakfast-1100x500-vXVYK1.tmp_.png
END:VEVENT
BEGIN:VEVENT
DTSTART;TZID=America/Los_Angeles:20240827T170000
DTEND;TZID=America/Los_Angeles:20240827T200000
DTSTAMP:20260424T063732
CREATED:20240805T184536Z
LAST-MODIFIED:20240805T184536Z
UID:39038-1724778000-1724788800@network.vegas
SUMMARY:Las Vegas Territory Social
DESCRIPTION:Emmitt’s Vegas is a Modern American Restaurant and features a number of different experiences including a raw bar\, sushi bar\, steak and seafood driven menu. Legendary group dining experience spaces include: • 2 Private Dining Rooms seating 12 and 24 respectively • 17 seat Sushi & Raw bar seats • Spacious dining room with seating for approximately 105 guests • Outside patio offering open-air dining for approximately 46 guests • 24-person bar top seating
URL:https://network.vegas/calendar/las-vegas-territory-social/
END:VEVENT
BEGIN:VEVENT
DTSTART;TZID=America/Los_Angeles:20240723T110000
DTEND;TZID=America/Los_Angeles:20240723T130000
DTSTAMP:20260424T063732
CREATED:20240714T133224Z
LAST-MODIFIED:20240714T133228Z
UID:38586-1721732400-1721739600@network.vegas
SUMMARY:Las Vegas Territory July Networking Luncheon
DESCRIPTION:Join us for another networking luncheon. Connect with fellow tourism professionals for your next set of business adventures.
URL:https://network.vegas/calendar/las-vegas-territory-july-networking-luncheon/
LOCATION:BRIO Italian Grille at Town Square\, 6653 Las Vegas Blvd S\, Las Vegas\, NV 89119\, United States\, Las Vegas
CATEGORIES:Networking
ATTACH;FMTTYPE=image/jpeg:https://network.vegas/wp-content/uploads/2023/03/las-vegas-territory-banner.jpg
END:VEVENT
BEGIN:VEVENT
DTSTART;TZID=America/Los_Angeles:20240625T173000
DTEND;TZID=America/Los_Angeles:20240625T203000
DTSTAMP:20260424T063732
CREATED:20240614T231216Z
LAST-MODIFIED:20240614T231219Z
UID:38266-1719336600-1719347400@network.vegas
SUMMARY:Las Vegas Territory June Social
DESCRIPTION:We are swinging into June with an early evening of networking at Atomic Golf. Tee off with colleagues in one of four bays available to our group\, enjoy light appetizers\, get social and unwind after a day at work.
URL:https://network.vegas/calendar/las-vegas-territory-june-social/
LOCATION:Atomic Golf Las Vegas\, 1850 S. Main Street Las Vegas\, NV 89104\, Las Vegas
CATEGORIES:Networking
ATTACH;FMTTYPE=image/jpeg:https://network.vegas/wp-content/uploads/2023/03/las-vegas-territory-banner.jpg
END:VEVENT
BEGIN:VEVENT
DTSTART;TZID=America/Los_Angeles:20240528T110000
DTEND;TZID=America/Los_Angeles:20240528T110000
DTSTAMP:20260424T063732
CREATED:20240517T164849Z
LAST-MODIFIED:20240517T164854Z
UID:37890-1716894000-1716894000@network.vegas
SUMMARY:Las Vegas Territory May Networking Luncheon
DESCRIPTION:Join us in welcoming\, Senior Director of Aviation\, Operations\, James C. Chrisley of Harry Reid Airport.
URL:https://network.vegas/calendar/las-vegas-territory-may-networking-luncheon/
LOCATION:Hampton Inn & Home2Suites\, 755 Sierra Vista Dr\, Las Vegas\, NV 89169\, Las Vegas
CATEGORIES:Networking
ATTACH;FMTTYPE=image/jpeg:https://network.vegas/wp-content/uploads/2023/03/las-vegas-territory-banner.jpg
END:VEVENT
END:VCALENDAR